BEGIN:VCALENDAR
VERSION:2.0
PRODID:-//広島県合唱連盟 - ECPv6.15.20//NONSGML v1.0//EN
CALSCALE:GREGORIAN
METHOD:PUBLISH
X-ORIGINAL-URL:https://hiroshima-jca.org
X-WR-CALDESC:広島県合唱連盟 のイベント
REFRESH-INTERVAL;VALUE=DURATION:PT1H
X-Robots-Tag:noindex
X-PUBLISHED-TTL:PT1H
BEGIN:VTIMEZONE
TZID:Asia/Tokyo
BEGIN:STANDARD
TZOFFSETFROM:+0900
TZOFFSETTO:+0900
TZNAME:JST
DTSTART:20250101T000000
END:STANDARD
END:VTIMEZONE
BEGIN:VEVENT
DTSTART;TZID=Asia/Tokyo:20260425T160000
DTEND;TZID=Asia/Tokyo:20260425T173000
DTSTAMP:20260421T222932
CREATED:20260106T122327Z
LAST-MODIFIED:20260106T122327Z
UID:3519-1777132800-1777138200@hiroshima-jca.org
SUMMARY:ヴォーカルアンサンブル凜　8th Concert
DESCRIPTION:こどものころにみた空は\n世界中の幸せの量が一定だったとしたら\n無伴奏女声合唱曲集「yes」全6曲（覚和歌子 詩　信長貴富 作曲）\n女声合唱組曲「太陽と海と季節が」全4曲（高野民雄 詩　森山至貴 作曲）\n他、日本語の合唱曲をメインに全3ステージ構成で開催予定 \n指揮：福原泰弘　ピアノ：占部久美子
URL:https://hiroshima-jca.org/event/%e3%83%b4%e3%82%a9%e3%83%bc%e3%82%ab%e3%83%ab%e3%82%a2%e3%83%b3%e3%82%b5%e3%83%b3%e3%83%96%e3%83%ab%e5%87%9c%e3%80%808th-concert/
LOCATION:コジマホールディングス西区民文化センターホール\, 西区横川新町6番1号\, 広島市\, 広島県\, 733-0013\, 日本
END:VEVENT
END:VCALENDAR