BEGIN:VCALENDAR
VERSION:2.0
PRODID:-//広島県合唱連盟 - ECPv6.15.20//NONSGML v1.0//EN
CALSCALE:GREGORIAN
METHOD:PUBLISH
X-WR-CALNAME:広島県合唱連盟
X-ORIGINAL-URL:https://hiroshima-jca.org
X-WR-CALDESC:広島県合唱連盟 のイベント
REFRESH-INTERVAL;VALUE=DURATION:PT1H
X-Robots-Tag:noindex
X-PUBLISHED-TTL:PT1H
BEGIN:VTIMEZONE
TZID:Asia/Tokyo
BEGIN:STANDARD
TZOFFSETFROM:+0900
TZOFFSETTO:+0900
TZNAME:JST
DTSTART:20240101T000000
END:STANDARD
END:VTIMEZONE
BEGIN:VEVENT
DTSTART;TZID=Asia/Tokyo:20250426T160000
DTEND;TZID=Asia/Tokyo:20250426T173000
DTSTAMP:20260422T183856
CREATED:20250126T143308Z
LAST-MODIFIED:20250126T143308Z
UID:2965-1745683200-1745688600@hiroshima-jca.org
SUMMARY:ヴォーカルアンサンブル凜　7th Concert
DESCRIPTION:・女声合唱とピアノのための「二月から十一月への愛のうた」\n・鳥よ空へ\n他、日本語の合唱曲をメインに全3ステージ構成で開催予定。\n指揮者：福原泰弘、ピアノ：占部久美子。
URL:https://hiroshima-jca.org/event/%e3%83%b4%e3%82%a9%e3%83%bc%e3%82%ab%e3%83%ab%e3%82%a2%e3%83%b3%e3%82%b5%e3%83%b3%e3%83%96%e3%83%ab%e5%87%9c%e3%80%807th-concert/
LOCATION:コジマホールディングス西区民文化センターホール\, 西区横川新町6番1号\, 広島市\, 広島県\, 733-0013\, 日本
END:VEVENT
END:VCALENDAR