BEGIN:VCALENDAR
VERSION:2.0
PRODID:-//広島県合唱連盟 - ECPv6.15.20//NONSGML v1.0//EN
CALSCALE:GREGORIAN
METHOD:PUBLISH
X-ORIGINAL-URL:https://hiroshima-jca.org
X-WR-CALDESC:広島県合唱連盟 のイベント
REFRESH-INTERVAL;VALUE=DURATION:PT1H
X-Robots-Tag:noindex
X-PUBLISHED-TTL:PT1H
BEGIN:VTIMEZONE
TZID:Asia/Tokyo
BEGIN:STANDARD
TZOFFSETFROM:+0900
TZOFFSETTO:+0900
TZNAME:JST
DTSTART:20240101T000000
END:STANDARD
END:VTIMEZONE
BEGIN:VEVENT
DTSTART;TZID=Asia/Tokyo:20250112T150000
DTEND;TZID=Asia/Tokyo:20250112T170000
DTSTAMP:20260422T231935
CREATED:20240820T115429Z
LAST-MODIFIED:20240820T115429Z
UID:2763-1736694000-1736701200@hiroshima-jca.org
SUMMARY:ビビッドコンサート 11th
DESCRIPTION:指揮　福原泰弘\nピアノ　占部久美子 \n曲目　子守唄　―立原道造の詩による小さなレクイエム―\n立原道造　詩　　三宅悠太　曲\n他 \n※高校生以下無料
URL:https://hiroshima-jca.org/event/%e3%83%93%e3%83%93%e3%83%83%e3%83%89%e3%82%b3%e3%83%b3%e3%82%b5%e3%83%bc%e3%83%88-11th/
LOCATION:コジマホールディングス西区民文化センターホール\, 西区横川新町6番1号\, 広島市\, 広島県\, 733-0013\, 日本
END:VEVENT
BEGIN:VEVENT
DTSTART;TZID=Asia/Tokyo:20250119T093000
DTEND;TZID=Asia/Tokyo:20250119T183000
DTSTAMP:20260422T231935
CREATED:20241228T030223Z
LAST-MODIFIED:20250105T132437Z
UID:2941-1737279000-1737311400@hiroshima-jca.org
SUMMARY:第19回ヴォーカル・アンサンブル・コンテスト
DESCRIPTION:日時　2025年(令和7年)1月19日(日)　9:15 開場、9:0 開演、18:30 終演予定\n\n\n\n会場　エリザベト音楽大学　セシリアホール\n出演団体（全41団体）　室内合唱＆重唱部門：10団体　小学生部門：6団体　ジュニア＆中高生部門：19団体　アンサンブル部門：6団体\n審査員（順不同・敬称略）　藤原 規生 （合唱指揮者）　桂 政子（声楽家・エリザベト音楽大学教授）　升島 唯博 （声楽家・ エリザベト音楽大学専任講師）\n\n\n\n主催　広島県合唱連盟・エリザベト音楽大学\n入場料　前売券 800 円・ 当日券 1\,000 円
URL:https://hiroshima-jca.org/event/%e7%ac%ac19%e5%9b%9e%e3%83%b4%e3%82%a9%e3%83%bc%e3%82%ab%e3%83%ab%e3%83%bb%e3%82%a2%e3%83%b3%e3%82%b5%e3%83%b3%e3%83%96%e3%83%ab%e3%83%bb%e3%82%b3%e3%83%b3%e3%83%86%e3%82%b9%e3%83%88/
LOCATION:エリザベト音楽大学セシリアホール\, 中区幟町4番15号\, 広島市\, 広島県\, 730-0016\, 日本
END:VEVENT
END:VCALENDAR