BEGIN:VCALENDAR
VERSION:2.0
PRODID:-//広島県合唱連盟 - ECPv6.15.20//NONSGML v1.0//EN
CALSCALE:GREGORIAN
METHOD:PUBLISH
X-ORIGINAL-URL:https://hiroshima-jca.org
X-WR-CALDESC:広島県合唱連盟 のイベント
REFRESH-INTERVAL;VALUE=DURATION:PT1H
X-Robots-Tag:noindex
X-PUBLISHED-TTL:PT1H
BEGIN:VTIMEZONE
TZID:Asia/Tokyo
BEGIN:STANDARD
TZOFFSETFROM:+0900
TZOFFSETTO:+0900
TZNAME:JST
DTSTART:20230101T000000
END:STANDARD
END:VTIMEZONE
BEGIN:VEVENT
DTSTART;TZID=Asia/Tokyo:20241201T160000
DTEND;TZID=Asia/Tokyo:20241201T173000
DTSTAMP:20260423T004816
CREATED:20241002T114310Z
LAST-MODIFIED:20241002T114310Z
UID:2827-1733068800-1733074200@hiroshima-jca.org
SUMMARY:広島市役所合唱団 第30回定期演奏会
DESCRIPTION:指揮：岡村　要　　ピアノ：竹本　順子 \n【曲目】\n男声合唱アルバム「九ちゃんが歌ったうた－上を向いて歩こう」より「上を向いて歩こう」他\n多田武彦　男声合唱曲集より「ふり売り」他\n男声合唱のためのキャロルの幻想より「There is no rose」他 \n賛助出演：女声合唱団のはら\n指揮：竹本　勢津子　　ピアノ：占部　久美子
URL:https://hiroshima-jca.org/event/%e5%ba%83%e5%b3%b6%e5%b8%82%e5%bd%b9%e6%89%80%e5%90%88%e5%94%b1%e5%9b%a3-%e7%ac%ac30%e5%9b%9e%e5%ae%9a%e6%9c%9f%e6%bc%94%e5%a5%8f%e4%bc%9a/
LOCATION:日本キリスト教団 広島流川教会\, 中区上幟町8-30\, 広島市\, 広島県\, 730-0014\, 日本
END:VEVENT
BEGIN:VEVENT
DTSTART;TZID=Asia/Tokyo:20241208T133000
DTEND;TZID=Asia/Tokyo:20241208T154000
DTSTAMP:20260423T004816
CREATED:20240820T114730Z
LAST-MODIFIED:20240820T221025Z
UID:2760-1733664600-1733672400@hiroshima-jca.org
SUMMARY:廿日市混声合唱団Xmasコンサート2024
DESCRIPTION:指揮/佐伯康則　ピアノ/土門華奈　合唱/廿日市混声合唱団\n演奏ステージ　4部構成\n第1部　クリスマスソング (5曲)\nサンタが町にやってくる・ホワイトクリスマス・赤鼻のトナカイ・ジングルベル・オーホーリーナイト\n第2部　歌謡曲 昭和の歌 (6曲)\n誰もいない海・冬が来る前に・いい日旅立ち・昴・雨の慕情・また逢う日まで\n第3部　外国の歌 (6曲)\nアベマリア・子守歌・ジュピター・モルダウ・ロンドンデリーの歌・流浪の民\n第4部　混声合唱組曲「生きとし、生けるものへ」 (4曲)\n野辺・コスモスと少年・海神に守られて・天と地と海と
URL:https://hiroshima-jca.org/event/%e5%bb%bf%e6%97%a5%e5%b8%82%e6%b7%b7%e5%a3%b0%e5%90%88%e5%94%b1%e5%9b%a3xmas%e3%82%b3%e3%83%b3%e3%82%b5%e3%83%bc%e3%83%882024/
LOCATION:はつかいち文化ホール　ウッドワンさくらぴあ　大ホール\, 下平良一丁目11-1\, 廿日市市\, 広島県\, 738-0023\, 日本
END:VEVENT
BEGIN:VEVENT
DTSTART;TZID=Asia/Tokyo:20241227T153000
DTEND;TZID=Asia/Tokyo:20241227T171500
DTSTAMP:20260423T004816
CREATED:20240916T125442Z
LAST-MODIFIED:20240916T125442Z
UID:2798-1735313400-1735319700@hiroshima-jca.org
SUMMARY:第61回パストラールコンサート
DESCRIPTION:第一ステージ 指揮：越智日世里 伴奏：原 梓紗\n三善晃混声合唱曲集「うたの森」より「6.緑のたそがれ」 作詞：青木景子 / 作曲：三善晃\n混声合唱組曲「やさしい魚」より「3.天使」「4.鳥が」 作詞：川崎洋 / 作曲：新実徳英\n混声合唱組曲「風に寄せて」より「1.その1」 作詞：立原道造 / 作曲：尾形敏幸 \n第二ステージ 指揮：越智日世里・末田みずほ 伴奏：小杉怜生・丹下滉太\n「ドレミの歌」 作詞：Oscar HammersteinⅡ 作曲：Richard Rodgers\n「ハイ・ホ」 作詞：Frank Churchill 作曲：Larry Morey 編曲：大田桜子\n「君をのせて」 作詞：宮崎駿 作曲：久石譲 編曲：森 友紀\n「手紙」 作詞・作曲：アンジェラ・アキ 編曲：鷹羽弘晃 \n第三ステージ 指揮：末田みずほ 伴奏：原 梓紗\n混声合唱とピアノのための「新しい歌」[改訂版] 作曲：信長貴富
URL:https://hiroshima-jca.org/event/%e7%ac%ac61%e5%9b%9e%e3%83%91%e3%82%b9%e3%83%88%e3%83%a9%e3%83%bc%e3%83%ab%e3%82%b3%e3%83%b3%e3%82%b5%e3%83%bc%e3%83%88/
LOCATION:広島大学サタケメモリアルホール\, 鏡山一丁目2-2\, 東広島市\, 広島県\, 7390046\, 日本
END:VEVENT
END:VCALENDAR