BEGIN:VCALENDAR
VERSION:2.0
PRODID:-//広島県合唱連盟 - ECPv6.15.20//NONSGML v1.0//EN
CALSCALE:GREGORIAN
METHOD:PUBLISH
X-ORIGINAL-URL:https://hiroshima-jca.org
X-WR-CALDESC:広島県合唱連盟 のイベント
REFRESH-INTERVAL;VALUE=DURATION:PT1H
X-Robots-Tag:noindex
X-PUBLISHED-TTL:PT1H
BEGIN:VTIMEZONE
TZID:Asia/Tokyo
BEGIN:STANDARD
TZOFFSETFROM:+0900
TZOFFSETTO:+0900
TZNAME:JST
DTSTART:20230101T000000
END:STANDARD
END:VTIMEZONE
BEGIN:VEVENT
DTSTART;TZID=Asia/Tokyo:20241103T160000
DTEND;TZID=Asia/Tokyo:20241103T180000
DTSTAMP:20260423T022817
CREATED:20240425T125448Z
LAST-MODIFIED:20240605T125754Z
UID:2635-1730649600-1730656800@hiroshima-jca.org
SUMMARY:女声合唱団のはら 第1回定期演奏会
DESCRIPTION:第一ステージ　のはらアラカルト5曲\n第二ステージ　同声合唱アルバム「のはらうた1」\n指揮：竹本勢津子\nピアノ：占部久美子\n客演指揮：三宅悠太
URL:https://hiroshima-jca.org/event/%e5%a5%b3%e5%a3%b0%e5%90%88%e5%94%b1%e5%9b%a3%e3%81%ae%e3%81%af%e3%82%89-%e7%ac%ac1%e5%9b%9e%e5%ae%9a%e6%9c%9f%e6%bc%94%e5%a5%8f%e4%bc%9a/
LOCATION:広島市東区民文化センター ホール\, 東区東蟹屋町10番31号\, 広島市\, 広島県\, 732-0055\, 日本
END:VEVENT
BEGIN:VEVENT
DTSTART;TZID=Asia/Tokyo:20241104T140000
DTEND;TZID=Asia/Tokyo:20241104T150000
DTSTAMP:20260423T022817
CREATED:20240926T155108Z
LAST-MODIFIED:20240926T155108Z
UID:2796-1730728800-1730732400@hiroshima-jca.org
SUMMARY:広島中央合唱団オータムコンサート2024
DESCRIPTION:Ⅰ　Will Todd / Jazz Missa Brevisより\nKyrie\, Sanctus\, Benedictus\, Agnus Dei\nⅡ　鈴木憲夫 作曲「レモン哀歌」\nⅢ　Will Todd / Three Jazz Carol\nAway in Manger\, Once in Royal David’s City\, Silent Night\nエンディング ソング\nJohn Rutter / Nativity Carol\, 相沢直人 作曲「あいたくて」 \n指揮 寺沢 希　ピアノ 梶矢 民子
URL:https://hiroshima-jca.org/event/%e5%ba%83%e5%b3%b6%e4%b8%ad%e5%a4%ae%e5%90%88%e5%94%b1%e5%9b%a3%e3%82%aa%e3%83%bc%e3%82%bf%e3%83%a0%e3%82%b3%e3%83%b3%e3%82%b5%e3%83%bc%e3%83%882024/
LOCATION:日本キリスト教団 広島流川教会\, 中区上幟町8-30\, 広島市\, 広島県\, 730-0014\, 日本
END:VEVENT
BEGIN:VEVENT
DTSTART;TZID=Asia/Tokyo:20241104T140000
DTEND;TZID=Asia/Tokyo:20241104T160000
DTSTAMP:20260423T022817
CREATED:20240815T133435Z
LAST-MODIFIED:20240815T133435Z
UID:2755-1730728800-1730736000@hiroshima-jca.org
SUMMARY:アンダンテ歩く速さでコンサートⅦ
DESCRIPTION:指揮者　中川聰子 \nⅠステージ　祈りのテーマ　子守歌・誰もそばにいてくれない・アヴェ ヴェルム コルプス\nⅡステージ　高田三郎曲集　機織る星・雨　他\nⅢステージ　美しい日本の歌　早春賦・浜ベの歌・冬の夜　他\nⅣステージ　ゲストステージ　ソプラノ声楽家 船越亜弥氏\nⅤステージ　アンダンテ・りんどう あの歌この歌　落葉松・信じる・いつも心に　他 \nゲストの船越亜弥さんは2021年度日本音楽コンクール声楽部門で第1位に輝き、今最も期待されている若手声楽家の一人です。
URL:https://hiroshima-jca.org/event/%e3%82%a2%e3%83%b3%e3%83%80%e3%83%b3%e3%83%86%e6%ad%a9%e3%81%8f%e9%80%9f%e3%81%95%e3%81%a7%e3%82%b3%e3%83%b3%e3%82%b5%e3%83%bc%e3%83%88%e2%85%b6/
LOCATION:広島県民文化センター ホール\, 中区大手町1丁目5-3\, 広島市\, 広島県\, 730-0051\, 日本
END:VEVENT
BEGIN:VEVENT
DTSTART;TZID=Asia/Tokyo:20241123T140000
DTEND;TZID=Asia/Tokyo:20241123T163000
DTSTAMP:20260423T022817
CREATED:20240507T125621Z
LAST-MODIFIED:20240905T112709Z
UID:2656-1732370400-1732379400@hiroshima-jca.org
SUMMARY:東広島混声合唱団 第42回定期演奏会
DESCRIPTION:指揮者　光橋 紀子 \n１ステージ\n女声合唱・おお聖なる宴よ　・サークルオブライフ \n２ステージ\n児童合唱　・しあわせになあれ　・ドリームアンドドリーム\n男声合唱　・サンタルチア　・海その愛 \n３ステージ\nかさなる声にプロジェクト2024（市民交流ステージ）\n・正解　　野田洋次郎 作詞・作曲\n・リメンバー \n４ステージ\n立ちつくす～混声合唱と２台のピアノのための～　土田豊貴 作曲\n・夕焼け小焼け　・きみ歌えよ \n入場料　一般 1\,000円　高校生以下 無料
URL:https://hiroshima-jca.org/event/%e6%9d%b1%e5%ba%83%e5%b3%b6%e6%b7%b7%e5%a3%b0%e5%90%88%e5%94%b1%e5%9b%a3-%e7%ac%ac42%e5%9b%9e%e5%ae%9a%e6%9c%9f%e6%bc%94%e5%a5%8f%e4%bc%9a/
LOCATION:東広島芸術文化ホールくらら 大ホール\, 西条栄町７番１９号\, 東広島市\, 広島県\, 7390015\, 日本
END:VEVENT
END:VCALENDAR