BEGIN:VCALENDAR
VERSION:2.0
PRODID:-//広島県合唱連盟 - ECPv6.15.20//NONSGML v1.0//EN
CALSCALE:GREGORIAN
METHOD:PUBLISH
X-ORIGINAL-URL:https://hiroshima-jca.org
X-WR-CALDESC:広島県合唱連盟 のイベント
REFRESH-INTERVAL;VALUE=DURATION:PT1H
X-Robots-Tag:noindex
X-PUBLISHED-TTL:PT1H
BEGIN:VTIMEZONE
TZID:Asia/Tokyo
BEGIN:STANDARD
TZOFFSETFROM:+0900
TZOFFSETTO:+0900
TZNAME:JST
DTSTART:20220101T000000
END:STANDARD
END:VTIMEZONE
BEGIN:VEVENT
DTSTART;TZID=Asia/Tokyo:20231015T100000
DTEND;TZID=Asia/Tokyo:20231015T200000
DTSTAMP:20260423T233907
CREATED:20230713T131200Z
LAST-MODIFIED:20230925T120939Z
UID:2228-1697364000-1697400000@hiroshima-jca.org
SUMMARY:広島県合唱フェスティバル2023
DESCRIPTION:講評者（順不同・敬称略）\n有冨 美子（合唱指揮者・山口県合唱連盟理事長）\n阪本 健悟（合唱指揮者・和歌山県合唱連盟理事長）\n徳永 崇（作曲家・広島大学大学院准教授）\n藤井 雄介（声楽家・広島文化学園大学准教授）\n鹿取 裕美子（ピアニスト）
URL:https://hiroshima-jca.org/event/%e5%ba%83%e5%b3%b6%e7%9c%8c%e5%90%88%e5%94%b1%e3%83%95%e3%82%a7%e3%82%b9%e3%83%86%e3%82%a3%e3%83%90%e3%83%ab2023/
LOCATION:広島市安芸区民文化センター ホール\, 安芸区船越南三丁目２番１６号\, 広島市\, 広島県\, 736-8509\, 日本
END:VEVENT
BEGIN:VEVENT
DTSTART;TZID=Asia/Tokyo:20231022T100000
DTEND;TZID=Asia/Tokyo:20231022T150000
DTSTAMP:20260423T233907
CREATED:20230806T015438Z
LAST-MODIFIED:20230806T015438Z
UID:2255-1697968800-1697986800@hiroshima-jca.org
SUMMARY:コーラス・サミット
DESCRIPTION:（内容）\n⻄⽇本各地の合唱団が広島に集い、フェスティバル形式にて演奏会を開催します。\n各団体はそれぞれ『「これぞ︕私たちの団体」とアピールできる曲』をコンセプトに\n演奏を⾏います。また、最後に合同合唱を実施予定です。\n（出演団体）※持ち時間は各20分\nEnsemble Nix（福岡）、隆声群（九州）\nFlügel（岡⼭）、I.C.Chorale（愛媛）\nKoala Harmonia（広島）、OHISAMA NOTE（岡⼭）\nQ de Gozar（九州）、合唱団そうなそ（⼭⼝）\n合唱団ぽっきり（広島）、混声合唱団「花みずき」（兵庫）
URL:https://hiroshima-jca.org/event/%e3%82%b3%e3%83%bc%e3%83%a9%e3%82%b9%e3%83%bb%e3%82%b5%e3%83%9f%e3%83%83%e3%83%88/
LOCATION:コジマホールディングス西区民文化センターホール\, 西区横川新町6番1号\, 広島市\, 広島県\, 733-0013\, 日本
END:VEVENT
BEGIN:VEVENT
DTSTART;TZID=Asia/Tokyo:20231029T140000
DTEND;TZID=Asia/Tokyo:20231029T160000
DTSTAMP:20260423T233907
CREATED:20221110T121949Z
LAST-MODIFIED:20221110T121949Z
UID:1842-1698588000-1698595200@hiroshima-jca.org
SUMMARY:コール・インウィ 40周年記念コンサート
DESCRIPTION:指揮　清水 路子
URL:https://hiroshima-jca.org/event/%e3%82%b3%e3%83%bc%e3%83%ab%e3%83%bb%e3%82%a4%e3%83%b3%e3%82%a6%e3%82%a3-40%e5%91%a8%e5%b9%b4%e8%a8%98%e5%bf%b5%e3%82%b3%e3%83%b3%e3%82%b5%e3%83%bc%e3%83%88/
LOCATION:呉信用金庫ホール（呉市文化ホール）\, 広島県呉市中央3丁目10番1号\, 呉市\, 広島県\, 737-0051\, 日本
END:VEVENT
END:VCALENDAR