BEGIN:VCALENDAR
VERSION:2.0
PRODID:-//広島県合唱連盟 - ECPv6.15.20//NONSGML v1.0//EN
CALSCALE:GREGORIAN
METHOD:PUBLISH
X-ORIGINAL-URL:https://hiroshima-jca.org
X-WR-CALDESC:広島県合唱連盟 のイベント
REFRESH-INTERVAL;VALUE=DURATION:PT1H
X-Robots-Tag:noindex
X-PUBLISHED-TTL:PT1H
BEGIN:VTIMEZONE
TZID:Asia/Tokyo
BEGIN:STANDARD
TZOFFSETFROM:+0900
TZOFFSETTO:+0900
TZNAME:JST
DTSTART:20220101T000000
END:STANDARD
END:VTIMEZONE
BEGIN:VEVENT
DTSTART;TZID=Asia/Tokyo:20230930T140000
DTEND;TZID=Asia/Tokyo:20230930T160000
DTSTAMP:20260424T011006
CREATED:20230710T044936Z
LAST-MODIFIED:20230710T044936Z
UID:2215-1696082400-1696089600@hiroshima-jca.org
SUMMARY:広島ベルカント男声合唱団第14回定期演奏会
DESCRIPTION:指揮 内田陽一郎・山本定男 \n演奏曲目 　男声合唱組曲わきめもふらず。ジグザグに。（及川均 作詩、信長貴富 作曲）ほか、宗教曲、男声合唱曲、ポピュラー曲、団員及び指導者独唱など
URL:https://hiroshima-jca.org/event/%e5%ba%83%e5%b3%b6%e3%83%99%e3%83%ab%e3%82%ab%e3%83%b3%e3%83%88%e7%94%b7%e5%a3%b0%e5%90%88%e5%94%b1%e5%9b%a3%e7%ac%ac14%e5%9b%9e%e5%ae%9a%e6%9c%9f%e6%bc%94%e5%a5%8f%e4%bc%9a/
LOCATION:広島市東区民文化センター ホール\, 東区東蟹屋町10番31号\, 広島市\, 広島県\, 732-0055\, 日本
END:VEVENT
END:VCALENDAR