BEGIN:VCALENDAR
VERSION:2.0
PRODID:-//広島県合唱連盟 - ECPv6.15.20//NONSGML v1.0//EN
CALSCALE:GREGORIAN
METHOD:PUBLISH
X-WR-CALNAME:広島県合唱連盟
X-ORIGINAL-URL:https://hiroshima-jca.org
X-WR-CALDESC:広島県合唱連盟 のイベント
REFRESH-INTERVAL;VALUE=DURATION:PT1H
X-Robots-Tag:noindex
X-PUBLISHED-TTL:PT1H
BEGIN:VTIMEZONE
TZID:Asia/Tokyo
BEGIN:STANDARD
TZOFFSETFROM:+0900
TZOFFSETTO:+0900
TZNAME:JST
DTSTART:20220101T000000
END:STANDARD
END:VTIMEZONE
BEGIN:VEVENT
DTSTART;TZID=Asia/Tokyo:20230709T140000
DTEND;TZID=Asia/Tokyo:20230709T160000
DTSTAMP:20260424T041428
CREATED:20230217T120346Z
LAST-MODIFIED:20230217T120605Z
UID:2001-1688911200-1688918400@hiroshima-jca.org
SUMMARY:広島メンネルコール第52回定期演奏会
DESCRIPTION:作曲：多田武彦　作詞：北原白秋　「柳川風俗詩」全曲（指揮：寺沢希）\n作曲：Brahms　「Alt-Rhapsodie op.53」全曲（指揮：寺沢希）\nメンネルあの歌この歌２０２３（「芭蕉布」他4曲）（指揮：寺沢希）\n作曲：信長貴富　作詞：木島始　「初心のうた」全曲（指揮：寺沢希）
URL:https://hiroshima-jca.org/event/%e5%ba%83%e5%b3%b6%e3%83%a1%e3%83%b3%e3%83%8d%e3%83%ab%e3%82%b3%e3%83%bc%e3%83%ab%e7%ac%ac%ef%bc%95%ef%bc%92%e5%9b%9e%e5%ae%9a%e6%9c%9f%e6%bc%94%e5%a5%8f%e4%bc%9a/
LOCATION:JMSアステールプラザ　大ホール\, 中区加古町4番17号\, 広島市\, 広島県\, 730-0812\, 日本
END:VEVENT
BEGIN:VEVENT
DTSTART;TZID=Asia/Tokyo:20230717T140000
DTEND;TZID=Asia/Tokyo:20230717T153000
DTSTAMP:20260424T041428
CREATED:20230212T032551Z
LAST-MODIFIED:20230212T032551Z
UID:1995-1689602400-1689607800@hiroshima-jca.org
SUMMARY:広島中央合唱団　第56回定期演奏会
DESCRIPTION:Lux Beata Trinitas (Ola Gjeilo)\nIam Sol Recedit (Ola Gjeilo)\n『Japonism and Jazz』　（森田　花央里）\n『心の四季』　（高田　三郎　作曲／吉野　弘 作詞）\n『永久ニ』　（鈴木　憲夫）\n今、ここに　（松下　耕）\n\n指揮：寺沢　希\nピアノ：梶矢　民子、山下　雅靖\nパーカッション：田中　誠之
URL:https://hiroshima-jca.org/event/%e5%ba%83%e5%b3%b6%e4%b8%ad%e5%a4%ae%e5%90%88%e5%94%b1%e5%9b%a3%e3%80%80%e7%ac%ac56%e5%9b%9e%e5%ae%9a%e6%9c%9f%e6%bc%94%e5%a5%8f%e4%bc%9a/
LOCATION:広島市安芸区民文化センター ホール\, 安芸区船越南三丁目２番１６号\, 広島市\, 広島県\, 736-8509\, 日本
END:VEVENT
BEGIN:VEVENT
DTSTART;TZID=Asia/Tokyo:20230721T184500
DTEND;TZID=Asia/Tokyo:20230721T184500
DTSTAMP:20260424T041428
CREATED:20230517T123523Z
LAST-MODIFIED:20230517T123523Z
UID:2150-1689965100-1689965100@hiroshima-jca.org
SUMMARY:DUVEジャパン・ツアー2023 DUVE（Det Unge VokalEnsemble）～コペンハーゲン・ユース合唱団
DESCRIPTION:北欧の若き綺羅星たち、待望の初来日！\n\n\n\n\n\n\nヨーロッパを代表するユース合唱団のひとつとして知られるDUVE（ドゥーヴェ）ことコペンハーゲン・ユース合唱団がこの夏日本にやってきます！\n北欧の合唱団ならではの澄んだハーモニーに加えて、デンマークが生んだ童話王・アンデルセンの世界を合唱で表現することを試みるという意欲的なプログラムにも注目です。 \n\n\n\n\n\n\n\n\n\n\n\n入場料（全席自由）\n一般2\,000円　大学生以下1\,000円\n\n演奏曲\n～ 合唱で巡るアンデルセン童話「旅の仲間」の世界 ～\nMorgensang (Elverskud) – Niels W. Gade／朝の歌（「妖精の娘」より）-　ニルス・ゲーゼ\nLøft mig kun bort (To Andersen Poesier) – Per Nørgård／私を持ち上げて（「アンデルセンの2つの詩」より）-　ペア・ノアゴー\nMin yndlingsdal – Jørgen Jersild／大好きな谷 – ヨーアン・イェアシル\nNu bede vi den helligånd – Mogens Pedersøn／さあ、祈りましょう – モーエンス・ペデルセン\nGentle Sleep – Nico Muhly／やさしい眠り – ニコ・ミューリー\nほか\n※曲目は変更となる場合がございます。\n後援　デンマーク王国大使館、全日本合唱連盟\n助成　Toyota-Fonden（広島公演）\n共演：Voice of Young in Hiroshima\n主催：広島県合唱連盟\n共催：コジマホールディングス 西区民文化センター\n協力：エリザベト音楽大学\n後援：広島県、広島県教育委員会、広島市、広島市教育委員会、（公財）ひろしま文化振興財団、（公財）広島市文化財団、広島市文化協会、中国新聞社、朝日新聞広島総局\n※広島公演の当日券は500円プラスとなります。
URL:https://hiroshima-jca.org/event/duve%e3%82%b8%e3%83%a3%e3%83%91%e3%83%b3%e3%83%bb%e3%83%84%e3%82%a2%e3%83%bc2023-duve%ef%bc%88det-unge-vokalensemble%ef%bc%89%ef%bd%9e%e3%82%b3%e3%83%9a%e3%83%b3%e3%83%8f%e3%83%bc%e3%82%b2%e3%83%b3/
LOCATION:コジマホールディングス西区民文化センターホール\, 西区横川新町6番1号\, 広島市\, 広島県\, 733-0013\, 日本
END:VEVENT
END:VCALENDAR