BEGIN:VCALENDAR
VERSION:2.0
PRODID:-//広島県合唱連盟 - ECPv6.15.20//NONSGML v1.0//EN
CALSCALE:GREGORIAN
METHOD:PUBLISH
X-ORIGINAL-URL:https://hiroshima-jca.org
X-WR-CALDESC:広島県合唱連盟 のイベント
REFRESH-INTERVAL;VALUE=DURATION:PT1H
X-Robots-Tag:noindex
X-PUBLISHED-TTL:PT1H
BEGIN:VTIMEZONE
TZID:Asia/Tokyo
BEGIN:STANDARD
TZOFFSETFROM:+0900
TZOFFSETTO:+0900
TZNAME:JST
DTSTART:20220101T000000
END:STANDARD
END:VTIMEZONE
BEGIN:VEVENT
DTSTART;TZID=Asia/Tokyo:20230603T183000
DTEND;TZID=Asia/Tokyo:20230603T203000
DTSTAMP:20260424T054217
CREATED:20230217T122824Z
LAST-MODIFIED:20230217T122824Z
UID:2005-1685817000-1685824200@hiroshima-jca.org
SUMMARY:合唱団ある第36回定期演奏会
DESCRIPTION:Ⅰ.現代海外作品\n・Segalariak（Josu Elberdin）\n・Laudate Dominum（Gyöngyösi Levente）\n・Sicut cervus（Lorenzo Donati）　　他\n指揮：福原 泰弘 \nⅡ. 混声合唱によるさだまさし作品集『北の国から』より\n　詞・曲：さだまさし　編曲：松下 耕\n・道化師のソネット\n・主人公　　他\n指揮：福原 泰弘　ピアノ：占部 久美子 \nⅢ.「二つの祈りの音楽」混声合唱とピアノ連弾のための\n　詩：宗 左近　曲：松本望\n・夜ノ祈リ\n・永遠の光\n指揮：福原 泰弘　ピアノ：占部 久美子・長谷川 朱里
URL:https://hiroshima-jca.org/event/%e5%90%88%e5%94%b1%e5%9b%a3%e3%81%82%e3%82%8b%e7%ac%ac36%e5%9b%9e%e5%ae%9a%e6%9c%9f%e6%bc%94%e5%a5%8f%e4%bc%9a/
LOCATION:JMSアステールプラザ　大ホール\, 中区加古町4番17号\, 広島市\, 広島県\, 730-0812\, 日本
END:VEVENT
BEGIN:VEVENT
DTSTART;TZID=Asia/Tokyo:20230604T140000
DTEND;TZID=Asia/Tokyo:20230604T160000
DTSTAMP:20260424T054217
CREATED:20230412T094552Z
LAST-MODIFIED:20230412T094552Z
UID:2073-1685887200-1685894400@hiroshima-jca.org
SUMMARY:広島オルフェオン第35回定期演奏会
DESCRIPTION:第1ステージ　男声合唱組曲「終わりのない歌」\n作詩：銀色 夏生　作曲：上田 真樹\n指揮：森﨑 皓　ピアノ：森木 和美 \n第2ステージ　－崇徳高校グリークラブ賛助出演－\n「ホームソングメドレー」より\n指揮：伊藤 晋平　ピアノ：柳田 信策 \n第3ステージ　男声合唱のための小田和正セレクション\n「ラブストーリーは突然に」（2018年度編曲委嘱作品）\n編曲：田中 達也　指揮：森﨑 皓　ピアノ：田仲 なつき \n第4ステージ　歌い継ぐ名曲～広島オルフェオン創立50周年によせて～\n砂上、Amazing Grace、津軽じょんがら節　他\n指揮：伊藤 晋平
URL:https://hiroshima-jca.org/event/%e5%ba%83%e5%b3%b6%e3%82%aa%e3%83%ab%e3%83%95%e3%82%a7%e3%82%aa%e3%83%b3%e7%ac%ac35%e5%9b%9e%e5%ae%9a%e6%9c%9f%e6%bc%94%e5%a5%8f%e4%bc%9a/
LOCATION:コジマホールディングス西区民文化センターホール\, 西区横川新町6番1号\, 広島市\, 広島県\, 733-0013\, 日本
END:VEVENT
BEGIN:VEVENT
DTSTART;TZID=Asia/Tokyo:20230610T103000
DTEND;TZID=Asia/Tokyo:20230610T184000
DTSTAMP:20260424T054217
CREATED:20230517T124105Z
LAST-MODIFIED:20230517T124105Z
UID:2156-1686393000-1686422400@hiroshima-jca.org
SUMMARY:ＮＨＫ全国学校音楽コンクール課題曲講習会
DESCRIPTION:
URL:https://hiroshima-jca.org/event/%ef%bd%8e%ef%bd%88%ef%bd%8b%e5%85%a8%e5%9b%bd%e5%ad%a6%e6%a0%a1%e9%9f%b3%e6%a5%bd%e3%82%b3%e3%83%b3%e3%82%af%e3%83%bc%e3%83%ab%e8%aa%b2%e9%a1%8c%e6%9b%b2%e8%ac%9b%e7%bf%92%e4%bc%9a/
LOCATION:エリザベト音楽大学セシリアホール\, 中区幟町4番15号\, 広島市\, 広島県\, 730-0016\, 日本
END:VEVENT
BEGIN:VEVENT
DTSTART;TZID=Asia/Tokyo:20230611T133000
DTEND;TZID=Asia/Tokyo:20230611T133000
DTSTAMP:20260424T054217
CREATED:20221005T121644Z
LAST-MODIFIED:20221005T121644Z
UID:1774-1686490200-1686490200@hiroshima-jca.org
SUMMARY:女声合唱団クール・シャンテ 35周年記念演奏会
DESCRIPTION:指揮者　九十九有美 \nⅠ　女声・同声合唱による10のメルヘン『愛する歌』 より\nⅡ　魅惑のチェロ＆ソプラノ\nチェロ：向井真帆　ソプラノ：工谷明子　ピアノ：松岡遥那\nⅢ　ユーミン作品集　やさしさに包まれたなら etc.\nⅣ　à la carte　　夢見草、花になれ、未来へ \n 
URL:https://hiroshima-jca.org/event/%e5%a5%b3%e5%a3%b0%e5%90%88%e5%94%b1%e5%9b%a3%e3%82%af%e3%83%bc%e3%83%ab%e3%83%bb%e3%82%b7%e3%83%a3%e3%83%b3%e3%83%86-35%e5%91%a8%e5%b9%b4%e8%a8%98%e5%bf%b5%e6%bc%94%e5%a5%8f%e4%bc%9a/
LOCATION:はつかいち文化ホール　ウッドワンさくらぴあ　大ホール\, 下平良一丁目11-1\, 廿日市市\, 広島県\, 738-0023\, 日本
END:VEVENT
BEGIN:VEVENT
DTSTART;TZID=Asia/Tokyo:20230625T103000
DTEND;TZID=Asia/Tokyo:20230625T170000
DTSTAMP:20260424T054217
CREATED:20230517T124506Z
LAST-MODIFIED:20230517T124506Z
UID:2158-1687689000-1687712400@hiroshima-jca.org
SUMMARY:第46回全日本おかあさんコーラス中国支部広島大会
DESCRIPTION:
URL:https://hiroshima-jca.org/event/%e7%ac%ac46%e5%9b%9e%e5%85%a8%e6%97%a5%e6%9c%ac%e3%81%8a%e3%81%8b%e3%81%82%e3%81%95%e3%82%93%e3%82%b3%e3%83%bc%e3%83%a9%e3%82%b9%e4%b8%ad%e5%9b%bd%e6%94%af%e9%83%a8%e5%ba%83%e5%b3%b6%e5%a4%a7%e4%bc%9a/
LOCATION:マエダハウジング安佐南区民文化センター ホール\, 安佐南区中筋一丁目22番17号\, 広島市\, 広島県\, 731-0122\, 日本
END:VEVENT
END:VCALENDAR