BEGIN:VCALENDAR
VERSION:2.0
PRODID:-//広島県合唱連盟 - ECPv6.15.20//NONSGML v1.0//EN
CALSCALE:GREGORIAN
METHOD:PUBLISH
X-ORIGINAL-URL:https://hiroshima-jca.org
X-WR-CALDESC:広島県合唱連盟 のイベント
REFRESH-INTERVAL;VALUE=DURATION:PT1H
X-Robots-Tag:noindex
X-PUBLISHED-TTL:PT1H
BEGIN:VTIMEZONE
TZID:Asia/Tokyo
BEGIN:STANDARD
TZOFFSETFROM:+0900
TZOFFSETTO:+0900
TZNAME:JST
DTSTART:20220101T000000
END:STANDARD
END:VTIMEZONE
BEGIN:VEVENT
DTSTART;TZID=Asia/Tokyo:20230422T183000
DTEND;TZID=Asia/Tokyo:20230422T203000
DTSTAMP:20260424T085637
CREATED:20230113T171518Z
LAST-MODIFIED:20230113T171518Z
UID:1917-1682188200-1682195400@hiroshima-jca.org
SUMMARY:ヴォーカルアンサンブル凜5thコンサート
DESCRIPTION:演奏内容：\n・無伴奏女声合唱曲集「なみだうた」（信長貴富作曲）\n・こどものための合唱曲集「光のとおりみち」（三善晃作曲）\n他、日本語の合唱曲をメインに全3ステージ構成で開催予定。\n指揮者：福原泰弘、ピアノ：占部久美子。
URL:https://hiroshima-jca.org/event/%e3%83%b4%e3%82%a9%e3%83%bc%e3%82%ab%e3%83%ab%e3%82%a2%e3%83%b3%e3%82%b5%e3%83%b3%e3%83%96%e3%83%ab%e5%87%9c5th%e3%82%b3%e3%83%b3%e3%82%b5%e3%83%bc%e3%83%88/
LOCATION:コジマホールディングス西区民文化センターホール\, 西区横川新町6番1号\, 広島市\, 広島県\, 733-0013\, 日本
END:VEVENT
BEGIN:VEVENT
DTSTART;TZID=Asia/Tokyo:20230430T140000
DTEND;TZID=Asia/Tokyo:20230430T140000
DTSTAMP:20260424T085637
CREATED:20230214T141530Z
LAST-MODIFIED:20230214T141530Z
UID:1999-1682863200-1682863200@hiroshima-jca.org
SUMMARY:第5回 あじさい色のコンサート
DESCRIPTION:広島県合唱連盟加盟3団体（広島ジュニアコーラス・フェミニンコール広島・混声合唱団「銀の鈴」）で構成する「あじさい色のコンサート」に前回と同じく、アンサンブル・カーノが共演し、4団体、3世代によるコンサートを開催する。 \n指揮：谷千鶴子・奥田聡子\nピアノ：伊藤恵里子・田中直美・桐原祐子・上田希美・加島裕子\nソプラノ：松岡由希子\n演奏曲：いのちの歌、未来へ、Give　us Hope、小さな四季、HYMN TO FREEDOM、児童（女声）合唱のための組曲「赤毛のアン」から　きこえるかしら　他
URL:https://hiroshima-jca.org/event/%e7%ac%ac5%e5%9b%9e-%e3%81%82%e3%81%98%e3%81%95%e3%81%84%e8%89%b2%e3%81%ae%e3%82%b3%e3%83%b3%e3%82%b5%e3%83%bc%e3%83%88/
LOCATION:マエダハウジング安佐南区民文化センター ホール\, 安佐南区中筋一丁目22番17号\, 広島市\, 広島県\, 731-0122\, 日本
END:VEVENT
END:VCALENDAR