BEGIN:VCALENDAR
VERSION:2.0
PRODID:-//広島県合唱連盟 - ECPv6.15.20//NONSGML v1.0//EN
CALSCALE:GREGORIAN
METHOD:PUBLISH
X-ORIGINAL-URL:https://hiroshima-jca.org
X-WR-CALDESC:広島県合唱連盟 のイベント
REFRESH-INTERVAL;VALUE=DURATION:PT1H
X-Robots-Tag:noindex
X-PUBLISHED-TTL:PT1H
BEGIN:VTIMEZONE
TZID:Asia/Tokyo
BEGIN:STANDARD
TZOFFSETFROM:+0900
TZOFFSETTO:+0900
TZNAME:JST
DTSTART:20220101T000000
END:STANDARD
END:VTIMEZONE
BEGIN:VEVENT
DTSTART;TZID=Asia/Tokyo:20230304T160000
DTEND;TZID=Asia/Tokyo:20230304T180000
DTSTAMP:20260424T102225
CREATED:20221212T133113Z
LAST-MODIFIED:20221212T133113Z
UID:1881-1677945600-1677952800@hiroshima-jca.org
SUMMARY:マツダ合唱団11thコンサート
DESCRIPTION:指揮　    ：門野光伸\nピアノ    ：北林聖子 \nプログラム:\n・Ola Gjeilo作品集\n・信長貴富作曲　混声合唱曲集「かなしみはあたらしい」\n・過去の定期演奏会の曲から
URL:https://hiroshima-jca.org/event/%e3%83%9e%e3%83%84%e3%83%80%e5%90%88%e5%94%b1%e5%9b%a311th%e3%82%b3%e3%83%b3%e3%82%b5%e3%83%bc%e3%83%88/
LOCATION:広島県民文化センター ホール\, 中区大手町1丁目5-3\, 広島市\, 広島県\, 730-0051\, 日本
END:VEVENT
BEGIN:VEVENT
DTSTART;TZID=Asia/Tokyo:20230305T180000
DTEND;TZID=Asia/Tokyo:20230305T180000
DTSTAMP:20260424T102225
CREATED:20221214T122823Z
LAST-MODIFIED:20221214T122823Z
UID:1896-1678039200-1678039200@hiroshima-jca.org
SUMMARY:広島カントライ第9回定期演奏会
DESCRIPTION:ブラームス作曲　Nänie op. 82\n指揮/寺沢　希\nピアノ/平野　満\nプーランク作曲　Salve regina\n指揮/寺沢　希\nシューマン作曲　Beim Abschied zu singen\n指揮/寺沢　希\nピアノ/平野　満\n他\n\n 
URL:https://hiroshima-jca.org/event/%e5%ba%83%e5%b3%b6%e3%82%ab%e3%83%b3%e3%83%88%e3%83%a9%e3%82%a4%e7%ac%ac9%e5%9b%9e%e5%ae%9a%e6%9c%9f%e6%bc%94%e5%a5%8f%e4%bc%9a/
LOCATION:マエダハウジング安佐南区民文化センター ホール\, 安佐南区中筋一丁目22番17号\, 広島市\, 広島県\, 731-0122\, 日本
END:VEVENT
BEGIN:VEVENT
DTSTART;TZID=Asia/Tokyo:20230319T140000
DTEND;TZID=Asia/Tokyo:20230319T140000
DTSTAMP:20260424T102225
CREATED:20221024T130915Z
LAST-MODIFIED:20221024T131235Z
UID:1794-1679234400-1679234400@hiroshima-jca.org
SUMMARY:広島女声合唱団　第44回定期演奏会
DESCRIPTION:指揮 寺沢 希 \nⅠ. 女声合唱とピアノのための『じぶんのための子守歌』 ピアノ 梶矢民子\nⅡ. 女声合唱組曲『遙かな歩み』 ピアノ 梶矢民子\nⅢ. 『思慕～日本、エストニア、フィンランドの民謡を集めて～』\nⅣ. 詩編116　　　　ピアノ 平野満　　ティンパニー 小川裕雅
URL:https://hiroshima-jca.org/event/%e5%ba%83%e5%b3%b6%e5%a5%b3%e5%a3%b0%e5%90%88%e5%94%b1%e5%9b%a3%e3%80%80%e7%ac%ac44%e5%9b%9e%e5%ae%9a%e6%9c%9f%e6%bc%94%e5%a5%8f%e4%bc%9a/
LOCATION:コジマホールディングス西区民文化センターホール\, 西区横川新町6番1号\, 広島市\, 広島県\, 733-0013\, 日本
END:VEVENT
END:VCALENDAR