BEGIN:VCALENDAR
VERSION:2.0
PRODID:-//広島県合唱連盟 - ECPv6.15.20//NONSGML v1.0//EN
CALSCALE:GREGORIAN
METHOD:PUBLISH
X-ORIGINAL-URL:https://hiroshima-jca.org
X-WR-CALDESC:広島県合唱連盟 のイベント
REFRESH-INTERVAL;VALUE=DURATION:PT1H
X-Robots-Tag:noindex
X-PUBLISHED-TTL:PT1H
BEGIN:VTIMEZONE
TZID:Asia/Tokyo
BEGIN:STANDARD
TZOFFSETFROM:+0900
TZOFFSETTO:+0900
TZNAME:JST
DTSTART:20210101T000000
END:STANDARD
END:VTIMEZONE
BEGIN:VEVENT
DTSTART;TZID=Asia/Tokyo:20221203T163000
DTEND;TZID=Asia/Tokyo:20221203T163000
DTSTAMP:20260424T151809
CREATED:20221104T104927Z
LAST-MODIFIED:20221116T151346Z
UID:1835-1670085000-1670085000@hiroshima-jca.org
SUMMARY:第9回ビビッドコンサート（変更有り）
DESCRIPTION:指揮：福原 泰弘\nピアノ：占部 久美子 \n曲目\n「天使と羊飼い」ゾルタン・コダーイ\n「どこかに」松下 耕\n「あげます」三善 晃\n「空」三善 晃\n他 \n※諸事情により「入場無料」となりました。
URL:https://hiroshima-jca.org/event/%e7%ac%ac9%e5%9b%9e%e3%83%93%e3%83%93%e3%83%83%e3%83%89%e3%82%b3%e3%83%b3%e3%82%b5%e3%83%bc%e3%83%88/
LOCATION:日本キリスト教団 広島流川教会\, 中区上幟町8-30\, 広島市\, 広島県\, 730-0014\, 日本
END:VEVENT
BEGIN:VEVENT
DTSTART;TZID=Asia/Tokyo:20221204T130000
DTEND;TZID=Asia/Tokyo:20221204T160000
DTSTAMP:20260424T151809
CREATED:20220831T092519Z
LAST-MODIFIED:20220831T092600Z
UID:1713-1670158800-1670169600@hiroshima-jca.org
SUMMARY:広島大学合唱団第65回定期演奏会
DESCRIPTION:1ステージ　混声合唱組曲『筑後川』\n指揮 秋庭真帆　伴奏 柴田健斗 \n2ステージ　POPsステージ\n「勇気100%」「夜空ノムコウ」「何度でも」「サザンカ」\n伴奏 柴田健斗・中根有梨奈 \n3ステージ　混声合唱とピアノのための組曲『瞳れと共に』\n指揮 宮原由依　伴奏 中根有梨奈 \n4ステージ　OB・OG合同ステージ『Gloria』\n指揮 村上謙一郎　伴奏 村上真津江 \n※当日撮影した演奏動画を後日YouTubeで2022年12月31日まで公開予定
URL:https://hiroshima-jca.org/event/%e5%ba%83%e5%b3%b6%e5%a4%a7%e5%ad%a6%e5%90%88%e5%94%b1%e5%9b%a3%e7%ac%ac65%e5%9b%9e%e5%ae%9a%e6%9c%9f%e6%bc%94%e5%a5%8f%e4%bc%9a/
LOCATION:広島大学サタケメモリアルホール\, 鏡山一丁目2-2\, 東広島市\, 広島県\, 7390046\, 日本
END:VEVENT
END:VCALENDAR