BEGIN:VCALENDAR
VERSION:2.0
PRODID:-//広島県合唱連盟 - ECPv6.15.20//NONSGML v1.0//EN
CALSCALE:GREGORIAN
METHOD:PUBLISH
X-ORIGINAL-URL:https://hiroshima-jca.org
X-WR-CALDESC:広島県合唱連盟 のイベント
REFRESH-INTERVAL;VALUE=DURATION:PT1H
X-Robots-Tag:noindex
X-PUBLISHED-TTL:PT1H
BEGIN:VTIMEZONE
TZID:Asia/Tokyo
BEGIN:STANDARD
TZOFFSETFROM:+0900
TZOFFSETTO:+0900
TZNAME:JST
DTSTART:20210101T000000
END:STANDARD
END:VTIMEZONE
BEGIN:VEVENT
DTSTART;TZID=Asia/Tokyo:20221105T140000
DTEND;TZID=Asia/Tokyo:20221105T150000
DTSTAMP:20260424T164417
CREATED:20220902T113501Z
LAST-MODIFIED:20220902T113501Z
UID:1718-1667656800-1667660400@hiroshima-jca.org
SUMMARY:くまの・みらい合唱団　第2回　ミニコンサート
DESCRIPTION:熊野町、及び近隣の市や町の、歌の好きな子どもたちに集まってもらい、様々な合唱曲を楽しんでもらうミニコンサートです。\n愛唱歌や合唱作品のステージをお届けいたします。 \n（指揮：竹本勢津子　ピアノ伴奏：重川有希）
URL:https://hiroshima-jca.org/event/%e3%81%8f%e3%81%be%e3%81%ae%e3%83%bb%e3%81%bf%e3%82%89%e3%81%84%e5%90%88%e5%94%b1%e5%9b%a3%e3%80%80%e7%ac%ac2%e5%9b%9e%e3%80%80%e3%83%9f%e3%83%8b%e3%82%b3%e3%83%b3%e3%82%b5%e3%83%bc%e3%83%88/
LOCATION:熊野西防災交流センター\, 神田１５番４号\, 安芸郡熊野町\, 広島県\, 7314224\, 日本
END:VEVENT
BEGIN:VEVENT
DTSTART;TZID=Asia/Tokyo:20221120T140000
DTEND;TZID=Asia/Tokyo:20221120T163000
DTSTAMP:20260424T164417
CREATED:20220614T125955Z
LAST-MODIFIED:20220911T141310Z
UID:1602-1668952800-1668961800@hiroshima-jca.org
SUMMARY:東広島混声合唱団 第40回記念定期演奏会
DESCRIPTION:指揮者 光橋紀子　ピアノ 伊藤恵里子 西岡恵理 \n・オープニング\n(1)歌に憧れて\n(2)男声合唱、女声合唱、児童合唱、混声合唱\n(3)かさなる声に（市民交流ステージ）\n(4)永久ニ（とこしなに）\n・アンコール \n一般 1\,000円　高校生以下 500円
URL:https://hiroshima-jca.org/event/%e6%9d%b1%e5%ba%83%e5%b3%b6%e6%b7%b7%e5%a3%b0%e5%90%88%e5%94%b1%e5%9b%a3-%e7%ac%ac40%e5%9b%9e%e8%a8%98%e5%bf%b5%e5%ae%9a%e6%9c%9f%e6%bc%94%e5%a5%8f%e4%bc%9a/
LOCATION:東広島芸術文化ホールくらら 大ホール\, 西条栄町７番１９号\, 東広島市\, 広島県\, 7390015\, 日本
END:VEVENT
BEGIN:VEVENT
DTSTART;TZID=Asia/Tokyo:20221123T140000
DTEND;TZID=Asia/Tokyo:20221123T150000
DTSTAMP:20260424T164417
CREATED:20220720T111420Z
LAST-MODIFIED:20220720T111420Z
UID:1633-1669212000-1669215600@hiroshima-jca.org
SUMMARY:広島中央合唱団 クリスマスコンサート 2022
DESCRIPTION:Ⅰ. ラター「I wonder as I wander」\nストップフォード「Lully\, Lulla\, Lullay」\nヘンデル「メサイア」より抜粋曲\nⅡ. 鈴木憲夫「永久二」より 星降る丘\nラター 「What sweeter music」「Candlelight Carol」\nメンデルスゾーン 「キリスト」より抜粋曲 \n指揮：寺沢 希／ピアノ：梶矢 民子 \n入場無料 約100名　入場制限あり　要予約　080-3888-7196（野間）
URL:https://hiroshima-jca.org/event/%e5%ba%83%e5%b3%b6%e4%b8%ad%e5%a4%ae%e5%90%88%e5%94%b1%e5%9b%a3-%e3%82%af%e3%83%aa%e3%82%b9%e3%83%9e%e3%82%b9%e3%82%b3%e3%83%b3%e3%82%b5%e3%83%bc%e3%83%88-2022/
LOCATION:日本キリスト教団 広島流川教会\, 中区上幟町8-30\, 広島市\, 広島県\, 730-0014\, 日本
END:VEVENT
END:VCALENDAR