BEGIN:VCALENDAR
VERSION:2.0
PRODID:-//広島県合唱連盟 - ECPv6.15.20//NONSGML v1.0//EN
CALSCALE:GREGORIAN
METHOD:PUBLISH
X-WR-CALNAME:広島県合唱連盟
X-ORIGINAL-URL:https://hiroshima-jca.org
X-WR-CALDESC:広島県合唱連盟 のイベント
REFRESH-INTERVAL;VALUE=DURATION:PT1H
X-Robots-Tag:noindex
X-PUBLISHED-TTL:PT1H
BEGIN:VTIMEZONE
TZID:Asia/Tokyo
BEGIN:STANDARD
TZOFFSETFROM:+0900
TZOFFSETTO:+0900
TZNAME:JST
DTSTART:20210101T000000
END:STANDARD
END:VTIMEZONE
BEGIN:VEVENT
DTSTART;TZID=Asia/Tokyo:20220410T140000
DTEND;TZID=Asia/Tokyo:20220410T140000
DTSTAMP:20260425T041608
CREATED:20211110T133205Z
LAST-MODIFIED:20211110T133859Z
UID:1230-1649599200-1649599200@hiroshima-jca.org
SUMMARY:コーラスりんどう創立40周年記念演奏会
DESCRIPTION:
URL:https://hiroshima-jca.org/event/%e3%82%b3%e3%83%bc%e3%83%a9%e3%82%b9%e3%82%8a%e3%82%93%e3%81%a9%e3%81%86%e5%89%b5%e7%ab%8b40%e5%91%a8%e5%b9%b4%e8%a8%98%e5%bf%b5%e6%bc%94%e5%a5%8f%e4%bc%9a/
LOCATION:広島県民文化センター ホール\, 中区大手町1丁目5-3\, 広島市\, 広島県\, 730-0051\, 日本
END:VEVENT
BEGIN:VEVENT
DTSTART;TZID=Asia/Tokyo:20220417T140000
DTEND;TZID=Asia/Tokyo:20220417T160000
DTSTAMP:20260425T041608
CREATED:20220417T022148Z
LAST-MODIFIED:20220417T022148Z
UID:1503-1650204000-1650211200@hiroshima-jca.org
SUMMARY:広島県合唱連盟2022年度総会
DESCRIPTION:
URL:https://hiroshima-jca.org/event/%e5%ba%83%e5%b3%b6%e7%9c%8c%e5%90%88%e5%94%b1%e9%80%a3%e7%9b%9f2022%e5%b9%b4%e5%ba%a6%e7%b7%8f%e4%bc%9a/
LOCATION:ＲＣＣ文化センター\, 中区橋本町５番１１号\, 広島市\, 広島県\, 730-0015\, 日本
END:VEVENT
BEGIN:VEVENT
DTSTART;TZID=Asia/Tokyo:20220423T183000
DTEND;TZID=Asia/Tokyo:20220423T183000
DTSTAMP:20260425T041608
CREATED:20220104T133532Z
LAST-MODIFIED:20220104T134408Z
UID:1301-1650738600-1650738600@hiroshima-jca.org
SUMMARY:ヴォーカルアンサンブル凜　4th　コンサート
DESCRIPTION:指揮者　福原　泰弘\nピアノ　占部　久美子\n団員　22名　3ステージ構成の演奏会 \n1ステージ：「にじのうた」　工藤直子　作詞/三宅悠太　作曲　他\n2ステージ：無伴奏女声合唱のための「リフレイン」　覚和歌子　詩/信長貴富　作曲\n「合唱」女声三部　版　谷川俊太郎　作詩/信長貴富　作曲　他\n3ステージ：女声合唱曲集　「街路灯」　北岡淳子　詩/三善晃　作曲
URL:https://hiroshima-jca.org/event/%e3%83%b4%e3%82%a9%e3%83%bc%e3%82%ab%e3%83%ab%e3%82%a2%e3%83%b3%e3%82%b5%e3%83%b3%e3%83%96%e3%83%ab%e5%87%9c%e3%80%804th%e3%80%80%e3%82%b3%e3%83%b3%e3%82%b5%e3%83%bc%e3%83%88/
LOCATION:コジマホールディングス西区民文化センターホール\, 西区横川新町6番1号\, 広島市\, 広島県\, 733-0013\, 日本
END:VEVENT
BEGIN:VEVENT
DTSTART;TZID=Asia/Tokyo:20220429T140000
DTEND;TZID=Asia/Tokyo:20220429T140000
DTSTAMP:20260425T041608
CREATED:20220209T145441Z
LAST-MODIFIED:20220209T145441Z
UID:1347-1651240800-1651240800@hiroshima-jca.org
SUMMARY:東広島児童合唱団 第40回 定期演奏会
DESCRIPTION:１ステ(私たちの愛唱曲)\n「小さな四季」\n「虫の絵本」\nPraise His Holy Name\n涙そうそう\nアンパンマンのマーチ　　他 \n２ステ(ミュージカル)・・・「メリー・ポピンズ」\nチムチムチェリー\nスーパーカリフラジリスティックエクスピアリドーシャス\nお砂糖ひとさじで\n楽しい休日\nタコをあげよう　　　他 \n指揮　仙立美香\nピアノ　前川智子
URL:https://hiroshima-jca.org/event/%e6%9d%b1%e5%ba%83%e5%b3%b6%e5%85%90%e7%ab%a5%e5%90%88%e5%94%b1%e5%9b%a3-%e7%ac%ac40%e5%9b%9e-%e5%ae%9a%e6%9c%9f%e6%bc%94%e5%a5%8f%e4%bc%9a/
LOCATION:広島大学サタケメモリアルホール\, 鏡山一丁目2-2\, 東広島市\, 広島県\, 7390046\, 日本
END:VEVENT
END:VCALENDAR