BEGIN:VCALENDAR
VERSION:2.0
PRODID:-//広島県合唱連盟 - ECPv6.15.20//NONSGML v1.0//EN
CALSCALE:GREGORIAN
METHOD:PUBLISH
X-ORIGINAL-URL:https://hiroshima-jca.org
X-WR-CALDESC:広島県合唱連盟 のイベント
REFRESH-INTERVAL;VALUE=DURATION:PT1H
X-Robots-Tag:noindex
X-PUBLISHED-TTL:PT1H
BEGIN:VTIMEZONE
TZID:Asia/Tokyo
BEGIN:STANDARD
TZOFFSETFROM:+0900
TZOFFSETTO:+0900
TZNAME:JST
DTSTART:20210101T000000
END:STANDARD
END:VTIMEZONE
BEGIN:VEVENT
DTSTART;TZID=Asia/Tokyo:20220306T140000
DTEND;TZID=Asia/Tokyo:20220306T140000
DTSTAMP:20260425T054213
CREATED:20220104T124540Z
LAST-MODIFIED:20220104T124540Z
UID:1291-1646575200-1646575200@hiroshima-jca.org
SUMMARY:広島カントライ第8回定期演奏会
DESCRIPTION:1.　S.バッハ作曲　モテット　“イエスよ、わが喜び” BWV227\n指揮/寺沢　希\nコンサートマスター/高和　雅、コントラバス/飛田勇治、\nチェロ/末永幸子、オルガン/梶矢民子 \n2.　メンデルスゾーン作曲　詩篇42番“谷川の流れを鹿が慕うがごとく” op.42\n指揮/寺沢　希\nピアノ/平野　満 \n他
URL:https://hiroshima-jca.org/event/%e5%ba%83%e5%b3%b6%e3%82%ab%e3%83%b3%e3%83%88%e3%83%a9%e3%82%a4%e7%ac%ac8%e5%9b%9e%e5%ae%9a%e6%9c%9f%e6%bc%94%e5%a5%8f%e4%bc%9a/
LOCATION:マエダハウジング安佐南区民文化センター ホール\, 安佐南区中筋一丁目22番17号\, 広島市\, 広島県\, 731-0122\, 日本
END:VEVENT
BEGIN:VEVENT
DTSTART;TZID=Asia/Tokyo:20220313T150000
DTEND;TZID=Asia/Tokyo:20220313T150000
DTSTAMP:20260425T054213
CREATED:20211116T150921Z
LAST-MODIFIED:20211116T150921Z
UID:1241-1647183600-1647183600@hiroshima-jca.org
SUMMARY:合唱団ぽっきりコンサートXⅢ
DESCRIPTION:【第1ステージ】\n「木とともに人とともに」 作詩:谷川俊太郎 作曲:三善晃\n【第2ステージ】\n「テイオの夜の旅」 作詩:池澤夏樹 作曲:木下牧子\n【第3ステージ】\n「幸せについて(新曲委嘱初演)」作詩:谷川俊太郎 作曲:萩京子 \n指揮:縄裕次郎\nピアノ:小林知世(第1、第2ステージ)　萩京子(第3ステージ)\n演奏:合唱団ぱっきり\n入場料：一般1\,500円　大学生1\,000円　高校生以下入場料無料
URL:https://hiroshima-jca.org/event/%e5%90%88%e5%94%b1%e5%9b%a3%e3%81%bd%e3%81%a3%e3%81%8d%e3%82%8a%e3%82%b3%e3%83%b3%e3%82%b5%e3%83%bc%e3%83%88x%e2%85%b2/
LOCATION:コジマホールディングス西区民文化センターホール\, 西区横川新町6番1号\, 広島市\, 広島県\, 733-0013\, 日本
END:VEVENT
BEGIN:VEVENT
DTSTART;TZID=Asia/Tokyo:20220321T143000
DTEND;TZID=Asia/Tokyo:20220321T143000
DTSTAMP:20260425T054213
CREATED:20220208T134242Z
LAST-MODIFIED:20220208T134242Z
UID:1342-1647873000-1647873000@hiroshima-jca.org
SUMMARY:第55回 広島中央合唱団 定期演奏会
DESCRIPTION:メンデルスゾーンオラトリオ「エリアス」Op.70全曲 \nソプラノ　小林良子　昆野智佳子　山口水蛍\nアルト　佐々木有紀　吉原未来\nテノール　田尻健\nバス　折河宏治　今田陽次\n広島中央「エリアス」オーケストラ　コンサートマスター　上野真樹\nステージマネージヤー　荻原忠浩\n指揮　寺沢 希\n \n新型コロナ感染防止硼観点により、以下の通りご協力をお願いします。\nチケツトの半券に、お名前と連絡のつく電話番号をご記入ください。\nご記入いただきました個人情報は、保健所など公的機関から要請があつた場合提出しますことをご了承ください。\n当団で管理し、それ以外の目的では使用いたしません。\n体調のすぐれない方、体温が37.5度以上の方は入場をご遠慮ください。手指消毒、マスク着用ご協力ください。\n合唱団、出演者へのプレゼント、お花はご遠慮ください。\n問い合わせ080‐ 3888-7196(野間)
URL:https://hiroshima-jca.org/event/%e7%ac%ac55%e5%9b%9e-%e5%ba%83%e5%b3%b6%e4%b8%ad%e5%a4%ae%e5%90%88%e5%94%b1%e5%9b%a3-%e5%ae%9a%e6%9c%9f%e6%bc%94%e5%a5%8f%e4%bc%9a/
LOCATION:はつかいち文化ホール　ウッドワンさくらぴあ　大ホール\, 下平良一丁目11-1\, 廿日市市\, 広島県\, 738-0023\, 日本
END:VEVENT
END:VCALENDAR