BEGIN:VCALENDAR
VERSION:2.0
PRODID:-//広島県合唱連盟 - ECPv6.15.20//NONSGML v1.0//EN
CALSCALE:GREGORIAN
METHOD:PUBLISH
X-ORIGINAL-URL:https://hiroshima-jca.org
X-WR-CALDESC:広島県合唱連盟 のイベント
REFRESH-INTERVAL;VALUE=DURATION:PT1H
X-Robots-Tag:noindex
X-PUBLISHED-TTL:PT1H
BEGIN:VTIMEZONE
TZID:Asia/Tokyo
BEGIN:STANDARD
TZOFFSETFROM:+0900
TZOFFSETTO:+0900
TZNAME:JST
DTSTART:20200101T000000
END:STANDARD
END:VTIMEZONE
BEGIN:VEVENT
DTSTART;TZID=Asia/Tokyo:20210515T140000
DTEND;TZID=Asia/Tokyo:20210515T140000
DTSTAMP:20260425T224643
CREATED:20210309T164244Z
LAST-MODIFIED:20210321T160304Z
UID:830-1621087200-1621087200@hiroshima-jca.org
SUMMARY:広島中央合唱団スプリングコンサート2021
DESCRIPTION:I.\nSAKURA　　　松下耕 編曲\n心のなかで　　野村英夫 作詞／田中達也 作曲\nタ焼け　　　　高田敏子 作詞／信長貴富 作曲 \nⅡ.\nメンデルスゾーン オラトリオ「エリアス」op.70より「第2部」ピアノ伴奏 \n指揮　寺沢 希 \n要予約：連絡先　080-3888-7196(野間)
URL:https://hiroshima-jca.org/event/%e5%ba%83%e5%b3%b6%e4%b8%ad%e5%a4%ae%e5%90%88%e5%94%b1%e5%9b%a3%e3%82%b9%e3%83%97%e3%83%aa%e3%83%b3%e3%82%b0%e3%82%b3%e3%83%b3%e3%82%b5%e3%83%bc%e3%83%882021/
LOCATION:日本キリスト教団 広島流川教会\, 中区上幟町8-30\, 広島市\, 広島県\, 730-0014\, 日本
END:VEVENT
END:VCALENDAR