BEGIN:VCALENDAR
VERSION:2.0
PRODID:-//広島県合唱連盟 - ECPv6.15.20//NONSGML v1.0//EN
CALSCALE:GREGORIAN
METHOD:PUBLISH
X-ORIGINAL-URL:https://hiroshima-jca.org
X-WR-CALDESC:広島県合唱連盟 のイベント
REFRESH-INTERVAL;VALUE=DURATION:PT1H
X-Robots-Tag:noindex
X-PUBLISHED-TTL:PT1H
BEGIN:VTIMEZONE
TZID:Asia/Tokyo
BEGIN:STANDARD
TZOFFSETFROM:+0900
TZOFFSETTO:+0900
TZNAME:JST
DTSTART:20200101T000000
END:STANDARD
END:VTIMEZONE
BEGIN:VEVENT
DTSTART;TZID=Asia/Tokyo:20210207T140000
DTEND;TZID=Asia/Tokyo:20210207T140000
DTSTAMP:20260426T041748
CREATED:20201229T025337Z
LAST-MODIFIED:20201229T025337Z
UID:719-1612706400-1612706400@hiroshima-jca.org
SUMMARY:きずなコンサート
DESCRIPTION:呉混声合唱団\n指揮 松尾寿人\n曲目 混声合唱組曲「木とともに 人とともに」 他\n呉少年合唱団\n指揮 松原里香\n曲目 ユー・レイズ・ミー・アップ 他\nコーラスグループ ラ♪ドルチェ\n指揮 青山邦恵\n曲目 無伴奏混声合唱小品集「雲は雲の流れのままに」 他\nスターボーイズ\n曲目 未定\n\n 
URL:https://hiroshima-jca.org/event/%e3%81%8d%e3%81%9a%e3%81%aa%e3%82%b3%e3%83%b3%e3%82%b5%e3%83%bc%e3%83%88/
LOCATION:呉信用金庫ホール（呉市文化ホール）\, 広島県呉市中央3丁目10番1号\, 呉市\, 広島県\, 737-0051\, 日本
END:VEVENT
BEGIN:VEVENT
DTSTART;TZID=Asia/Tokyo:20210211T133000
DTEND;TZID=Asia/Tokyo:20210211T133000
DTSTAMP:20260426T041748
CREATED:20201226T091011Z
LAST-MODIFIED:20201226T093512Z
UID:685-1613050200-1613050200@hiroshima-jca.org
SUMMARY:福山暁の星女子中学・高等学校　コーロ・ステルラ第2回定期演奏会
DESCRIPTION:指揮：奥野　紀子／山本　祥穂　　ほか\nピアノ：西田　範子　ほか\n※生徒の指揮・伴奏の演奏もあります。 \n1部　Ave　Maria （Willem　Andriessen　作曲）\n初心のうた／群青／ほらね、／手紙　他\n2部　企画ステージ\nThe　Greatest Show／This is me／Dancing Queen／ごきぶり五郎伝　他
URL:https://hiroshima-jca.org/event/%e7%a6%8f%e5%b1%b1%e6%9a%81%e3%81%ae%e6%98%9f%e5%a5%b3%e5%ad%90%e4%b8%ad%e5%ad%a6%e3%83%bb%e9%ab%98%e7%ad%89%e5%ad%a6%e6%a0%a1%e3%80%80%e3%82%b3%e3%83%bc%e3%83%ad%e3%83%bb%e3%82%b9%e3%83%86%e3%83%ab/
LOCATION:ふくやま芸術文化ホール　リーデンローズ　小ホール\, 広島県福山市松浜町二丁目1番10号\, 福山市\, 広島県\, 720-0802\, 日本
END:VEVENT
BEGIN:VEVENT
DTSTART;TZID=Asia/Tokyo:20210211T150000
DTEND;TZID=Asia/Tokyo:20210211T150000
DTSTAMP:20260426T041748
CREATED:20201010T051454Z
LAST-MODIFIED:20210124T071007Z
UID:573-1613055600-1613055600@hiroshima-jca.org
SUMMARY:ヴォーカルアンサンブル凛 3rd Concert　⇒　中止となりました（1/24）
DESCRIPTION:指揮者　福原　泰弘\nピアノ　占部　久美子 \n１ステージ：女声合唱作品小品集　「いっしょに」くどうなおこ作詩/木下牧子作曲　他\n２ステージ：女声合唱曲集「太陽のほとり」　石垣りん作詩/信長貴富作曲\n３ステージ：作曲家　信長貴富の祈り　ー戦後75年ー\n「花こそは心のいこい」　福田須磨子作詩　他
URL:https://hiroshima-jca.org/event/%e3%83%b4%e3%82%a9%e3%83%bc%e3%82%ab%e3%83%ab%e3%82%a2%e3%83%b3%e3%82%b5%e3%83%b3%e3%83%96%e3%83%ab%e5%87%9b-3rd-concert/
LOCATION:広島県民文化センター ホール\, 中区大手町1丁目5-3\, 広島市\, 広島県\, 730-0051\, 日本
END:VEVENT
BEGIN:VEVENT
DTSTART;TZID=Asia/Tokyo:20210228T140000
DTEND;TZID=Asia/Tokyo:20210228T140000
DTSTAMP:20260426T041748
CREATED:20201012T125951Z
LAST-MODIFIED:20201226T153923Z
UID:579-1614520800-1614520800@hiroshima-jca.org
SUMMARY:Men's Vocal Ensemble "寺漢" 第7回定期演奏会
DESCRIPTION:▽日　時：2021年2月28日(日)　開演：14:00（開場：13:30）\n▽場　所：マエダハウジング安佐南区民文化センターホール\n▽入場料：900円（前売割引なし）※ 未就学児童の入場は「✖」\n▽曲　目：M.Reger 5つのドイツ民謡集より、※組曲『僕の愛、あなたの夢』、『慕詩－こいうた』、松下耕の世界～故郷への想い～俵積み唄\,出発など\n▽お問合せ：090-7991-3086 渡部（ワタベ） \n※ 作曲者の大藤 史さんは\,現在\,東京を中心に活動されているシンガーソングライター。広島市在住の幼少期には\,「広島ジュニアコーラス」の一員として\,共に合唱活動をされていたことがあり\,広島には浅からぬご縁のある方です。演奏会では\,ご本人の弾き語りや寺漢とのコラボ演奏も予定しています。お楽しみに💛
URL:https://hiroshima-jca.org/event/mens-vocal-ensemble-%e5%af%ba%e6%bc%a2-%e7%ac%ac7%e5%9b%9e%e5%ae%9a%e6%9c%9f%e6%bc%94%e5%a5%8f%e4%bc%9a/
LOCATION:マエダハウジング安佐南区民文化センター ホール\, 安佐南区中筋一丁目22番17号\, 広島市\, 広島県\, 731-0122\, 日本
END:VEVENT
END:VCALENDAR