BEGIN:VCALENDAR
VERSION:2.0
PRODID:-//広島県合唱連盟 - ECPv6.15.20//NONSGML v1.0//EN
CALSCALE:GREGORIAN
METHOD:PUBLISH
X-WR-CALNAME:広島県合唱連盟
X-ORIGINAL-URL:https://hiroshima-jca.org
X-WR-CALDESC:広島県合唱連盟 のイベント
REFRESH-INTERVAL;VALUE=DURATION:PT1H
X-Robots-Tag:noindex
X-PUBLISHED-TTL:PT1H
BEGIN:VTIMEZONE
TZID:Asia/Tokyo
BEGIN:STANDARD
TZOFFSETFROM:+0900
TZOFFSETTO:+0900
TZNAME:JST
DTSTART:20200101T000000
END:STANDARD
END:VTIMEZONE
BEGIN:VEVENT
DTSTART;TZID=Asia/Tokyo:20210117T133000
DTEND;TZID=Asia/Tokyo:20210117T160000
DTSTAMP:20260426T055556
CREATED:20201010T012437Z
LAST-MODIFIED:20201220T034936Z
UID:551-1610890200-1610899200@hiroshima-jca.org
SUMMARY:第15回ヴォーカル･アンサンブル･コンテストinひろしま
DESCRIPTION:
URL:https://hiroshima-jca.org/event/%e7%ac%ac15%e5%9b%9e%e3%83%b4%e3%82%a9%e3%83%bc%e3%82%ab%e3%83%ab%e3%82%a2%e3%83%b3%e3%82%b5%e3%83%b3%e3%83%96%e3%83%ab%e3%82%b3%e3%83%b3%e3%83%86%e3%82%b9%e3%83%88in%e3%81%b2%e3%82%8d%e3%81%97/
LOCATION:エリザベト音楽大学セシリアホール\, 中区幟町4番15号\, 広島市\, 広島県\, 730-0016\, 日本
END:VEVENT
BEGIN:VEVENT
DTSTART;TZID=Asia/Tokyo:20210131T140000
DTEND;TZID=Asia/Tokyo:20210131T140000
DTSTAMP:20260426T055556
CREATED:20201010T050734Z
LAST-MODIFIED:20201226T154413Z
UID:567-1612101600-1612101600@hiroshima-jca.org
SUMMARY:Kammerchor “Hiroshima Kantorei" 第7回定期演奏会
DESCRIPTION:▽日時：2021年1月31日（日）14 時\n▽場所：西区民文化センター　ホール\n▽入場料：1\,000円\n▽曲目：J.ブラームス作曲　ドイツレクイエム　J.S.バッハ作曲　Aus der Tiefen rufe ich\, Herr\, zu dir　他
URL:https://hiroshima-jca.org/event/kammerchor-hiroshima-kantorei-%e7%ac%ac7%e5%9b%9e%e5%ae%9a%e6%9c%9f%e6%bc%94%e5%a5%8f%e4%bc%9a/
LOCATION:コジマホールディングス西区民文化センターホール\, 西区横川新町6番1号\, 広島市\, 広島県\, 733-0013\, 日本
END:VEVENT
END:VCALENDAR