BEGIN:VCALENDAR
VERSION:2.0
PRODID:-//広島県合唱連盟 - ECPv6.15.20//NONSGML v1.0//EN
CALSCALE:GREGORIAN
METHOD:PUBLISH
X-ORIGINAL-URL:https://hiroshima-jca.org
X-WR-CALDESC:広島県合唱連盟 のイベント
REFRESH-INTERVAL;VALUE=DURATION:PT1H
X-Robots-Tag:noindex
X-PUBLISHED-TTL:PT1H
BEGIN:VTIMEZONE
TZID:Asia/Tokyo
BEGIN:STANDARD
TZOFFSETFROM:+0900
TZOFFSETTO:+0900
TZNAME:JST
DTSTART:20190101T000000
END:STANDARD
END:VTIMEZONE
BEGIN:VEVENT
DTSTART;TZID=Asia/Tokyo:20201018T100000
DTEND;TZID=Asia/Tokyo:20201018T200000
DTSTAMP:20260426T101208
CREATED:20200803T052425Z
LAST-MODIFIED:20200911T050947Z
UID:262-1603015200-1603051200@hiroshima-jca.org
SUMMARY:広島県合唱フェスティバル2020
DESCRIPTION:会場：JMSアステールプラザ　大ホール
URL:https://hiroshima-jca.org/event/%e5%ba%83%e5%b3%b6%e7%9c%8c%e5%90%88%e5%94%b1%e3%83%95%e3%82%a7%e3%82%b9%e3%83%86%e3%82%a3%e3%83%90%e3%83%ab2020/
LOCATION:JMSアステールプラザ　大ホール\, 中区加古町4番17号\, 広島市\, 広島県\, 730-0812\, 日本
END:VEVENT
END:VCALENDAR