BEGIN:VCALENDAR
VERSION:2.0
PRODID:-//広島県合唱連盟 - ECPv6.15.20//NONSGML v1.0//EN
CALSCALE:GREGORIAN
METHOD:PUBLISH
X-ORIGINAL-URL:https://hiroshima-jca.org
X-WR-CALDESC:広島県合唱連盟 のイベント
REFRESH-INTERVAL;VALUE=DURATION:PT1H
X-Robots-Tag:noindex
X-PUBLISHED-TTL:PT1H
BEGIN:VTIMEZONE
TZID:Asia/Tokyo
BEGIN:STANDARD
TZOFFSETFROM:+0900
TZOFFSETTO:+0900
TZNAME:JST
DTSTART:20240101T000000
END:STANDARD
END:VTIMEZONE
BEGIN:VEVENT
DTSTART;TZID=Asia/Tokyo:20251221T160000
DTEND;TZID=Asia/Tokyo:20251221T180000
DTSTAMP:20260422T071408
CREATED:20250610T114108Z
LAST-MODIFIED:20250610T114138Z
UID:3183-1766332800-1766340000@hiroshima-jca.org
SUMMARY:広島カントライ第12回定期演奏会
DESCRIPTION:Pēteris Vasks – Plainscapes / The Crossing\nEriks Ešenvalds　- O Emmanuel\nWilliam Byrd – O magnum mysterium\nLauridsen – O magnum mysterium\nSibelius – Joululaulu\nKuula – Rukous\nBruckner – Ave Maria\n\n他 \n指揮/寺沢　希
URL:https://hiroshima-jca.org/event/%e5%ba%83%e5%b3%b6%e3%82%ab%e3%83%b3%e3%83%88%e3%83%a9%e3%82%a4%e7%ac%ac12%e5%9b%9e%e5%ae%9a%e6%9c%9f%e6%bc%94%e5%a5%8f%e4%bc%9a/
LOCATION:日本キリスト教団 広島流川教会\, 中区上幟町8-30\, 広島市\, 広島県\, 730-0014\, 日本
END:VEVENT
BEGIN:VEVENT
DTSTART;TZID=Asia/Tokyo:20260118T100000
DTEND;TZID=Asia/Tokyo:20260118T183000
DTSTAMP:20260422T071408
CREATED:20250916T132117Z
LAST-MODIFIED:20250916T132117Z
UID:3339-1768730400-1768761000@hiroshima-jca.org
SUMMARY:第20回ヴォーカル・アンサンブル・コンテストinひろしま
DESCRIPTION:
URL:https://hiroshima-jca.org/event/%e7%ac%ac20%e5%9b%9e%e3%83%b4%e3%82%a9%e3%83%bc%e3%82%ab%e3%83%ab%e3%83%bb%e3%82%a2%e3%83%b3%e3%82%b5%e3%83%b3%e3%83%96%e3%83%ab%e3%83%bb%e3%82%b3%e3%83%b3%e3%83%86%e3%82%b9%e3%83%88in%e3%81%b2/
LOCATION:エリザベト音楽大学セシリアホール\, 中区幟町4番15号\, 広島市\, 広島県\, 730-0016\, 日本
END:VEVENT
BEGIN:VEVENT
DTSTART;TZID=Asia/Tokyo:20260125T143000
DTEND;TZID=Asia/Tokyo:20260125T163000
DTSTAMP:20260422T071408
CREATED:20251010T141430Z
LAST-MODIFIED:20251010T141941Z
UID:3417-1769351400-1769358600@hiroshima-jca.org
SUMMARY:第62回パストラールコンサート
DESCRIPTION:第一ステージ\n指揮: 永田 凱大 伴奏: 原 梓紗\n混声合唱のためのカンタータ「土の歌」[2009年改訂版]\n作曲: 佐藤 眞 \n第二ステージ\n指揮: 越智 日世里・永田 凱大 伴奏: 市川 凛・小杉 怜生\n「It‘ｓ a Small World」\n作詞・作曲: Richard M. Sherman\, Robert B. Sherman 編曲: 青島 広志\n「負けないで」\n作詞: 坂井 泉水 作曲: 織田哲郎 編曲: なかにしあかね\n「栄光の架け橋」\n作詞・作曲: 北川 悠仁 編曲: 相澤 直人\n「恋」\n作詞・作曲: 星野 源 編曲: 遠藤 謙二郎 \n第三ステージ\n指揮: 越智 日世里 伴奏: 原 梓紗\n混声合唱とピアノのための組曲「漠とした輝きの欠片」\n作曲: 宮本 正太郎
URL:https://hiroshima-jca.org/event/%e7%ac%ac62%e5%9b%9e%e3%83%91%e3%82%b9%e3%83%88%e3%83%a9%e3%83%bc%e3%83%ab%e3%82%b3%e3%83%b3%e3%82%b5%e3%83%bc%e3%83%88/
LOCATION:広島大学サタケメモリアルホール\, 鏡山一丁目2-2\, 東広島市\, 広島県\, 7390046\, 日本
END:VEVENT
BEGIN:VEVENT
DTSTART;TZID=Asia/Tokyo:20260207T140000
DTEND;TZID=Asia/Tokyo:20260207T183000
DTSTAMP:20260422T071408
CREATED:20251018T084233Z
LAST-MODIFIED:20251018T085109Z
UID:3440-1770472800-1770489000@hiroshima-jca.org
SUMMARY:2025年度合唱講習会 ～相澤直人先生の指揮法講座&コーラスクリニック～（1日目）
DESCRIPTION:２月７日（土）\n◆指揮法講座\n14:00～17:00〔定員 ５名〕\n使用楽曲:指揮法教程より\n◆コーラスクリニック\n（1）17:30～18:30（60 分）
URL:https://hiroshima-jca.org/event/2025%e5%b9%b4%e5%ba%a6%e5%90%88%e5%94%b1%e8%ac%9b%e7%bf%92%e4%bc%9a-%ef%bd%9e%e7%9b%b8%e6%be%a4%e7%9b%b4%e4%ba%ba%e5%85%88%e7%94%9f%e3%81%ae%e6%8c%87%e6%8f%ae%e6%b3%95%e8%ac%9b%e5%ba%a7%e3%82%b3/
LOCATION:広島市東区民文化センタースタジオ1\, 東区東蟹屋町10-31\, 広島市\, 広島県\, 732-0055\, Japan
END:VEVENT
BEGIN:VEVENT
DTSTART;TZID=Asia/Tokyo:20260208T103000
DTEND;TZID=Asia/Tokyo:20260208T170000
DTSTAMP:20260422T071408
CREATED:20251018T084519Z
LAST-MODIFIED:20251018T085128Z
UID:3445-1770546600-1770570000@hiroshima-jca.org
SUMMARY:2025年度合唱講習会 ～相澤直人先生の指揮法講座&コーラスクリニック～（2日目）
DESCRIPTION:２月８日（日）\n◆全体講習会\n10:30～12:30（120 分）\n使用楽曲: 女声合唱のための「日々是好日」\n作詞：きむらえいり作曲：相澤直人\n◆コーラスクリニック\n（2）13:30～14:30（60 分）\n（3）14:45～15:45（60 分）\n（4）16:00～17:00（60 分）
URL:https://hiroshima-jca.org/event/2025%e5%b9%b4%e5%ba%a6%e5%90%88%e5%94%b1%e8%ac%9b%e7%bf%92%e4%bc%9a-%ef%bd%9e%e7%9b%b8%e6%be%a4%e7%9b%b4%e4%ba%ba%e5%85%88%e7%94%9f%e3%81%ae%e6%8c%87%e6%8f%ae%e6%b3%95%e8%ac%9b%e5%ba%a7%e3%82%b3-2/
LOCATION:ＪＭＳアステールプラザ 多目的スタジオ\, 中区加古町４番１７号\, 広島市\, 広島県\, 7300812\, 日本
END:VEVENT
BEGIN:VEVENT
DTSTART;TZID=Asia/Tokyo:20260215T140000
DTEND;TZID=Asia/Tokyo:20260215T160000
DTSTAMP:20260422T071408
CREATED:20251127T163110Z
LAST-MODIFIED:20251207T131356Z
UID:3472-1771164000-1771171200@hiroshima-jca.org
SUMMARY:Men’s Vocal Ensemble ”寺漢” 第９回定期演奏会
DESCRIPTION:指揮：寺沢　希 \n【プログラム】 \nMcGlynn　Media Vita、Dúlamán \n東広島みらい合唱団　ゲスト演奏（同声二部合唱とピアノのための「雨あがり」 他） \n松下耕  男声合唱のためのコンポジション「日本の民謡　第３集」より　刈干切唄 \nV.Tormis　 Helletused \nMendelssohn　　Adspice Domine \n松下耕　 男声合唱組曲「風の夏」 \n三宅悠太　男声合唱とピアノのための「帰郷」
URL:https://hiroshima-jca.org/event/mens-vocal-ensemble-%e5%af%ba%e6%bc%a2-%e7%ac%ac%ef%bc%99%e5%9b%9e%e5%ae%9a%e6%9c%9f%e6%bc%94%e5%a5%8f%e4%bc%9a/
LOCATION:東広島芸術文化ホールくらら 小ホール\, 西条栄町７番１９号\, 東広島市\, 広島県\, 7390015\, Japan
END:VEVENT
BEGIN:VEVENT
DTSTART;TZID=Asia/Tokyo:20260221T140000
DTEND;TZID=Asia/Tokyo:20260221T160000
DTSTAMP:20260422T071408
CREATED:20251217T141016Z
LAST-MODIFIED:20251217T141016Z
UID:3499-1771682400-1771689600@hiroshima-jca.org
SUMMARY:第22回安田女子中学校合唱部定期演奏会
DESCRIPTION:■中学校合唱部による合唱演奏会\n・女声合唱とピアノのための「星の迷い子たち」　より　にじ\n・そらのいろ　みずいろ\n・空（ＮＨＫ全国学校音楽コンクール課題曲）\n・学年ごとのステージ \n■安田女子高等学校音楽部の賛助出演 \n■エリザベト音楽大学非常勤講師の恩田絵美先生によるピアノ演奏
URL:https://hiroshima-jca.org/event/%e7%ac%ac22%e5%9b%9e%e5%ae%89%e7%94%b0%e5%a5%b3%e5%ad%90%e4%b8%ad%e5%ad%a6%e6%a0%a1%e5%90%88%e5%94%b1%e9%83%a8%e5%ae%9a%e6%9c%9f%e6%bc%94%e5%a5%8f%e4%bc%9a/
LOCATION:コジマホールディングス西区民文化センターホール\, 西区横川新町6番1号\, 広島市\, 広島県\, 733-0013\, 日本
END:VEVENT
BEGIN:VEVENT
DTSTART;TZID=Asia/Tokyo:20260222T140000
DTEND;TZID=Asia/Tokyo:20260222T160000
DTSTAMP:20260422T071408
CREATED:20251016T125035Z
LAST-MODIFIED:20251016T125035Z
UID:3422-1771768800-1771776000@hiroshima-jca.org
SUMMARY:コール・ロマンツェ第39回演奏会
DESCRIPTION:800Furusato　故郷　日本の歌による5つの合唱曲\nボブ・チルコット編曲 \n混声四部合唱のための　歌謡デラックス2\n・恋の季節　・また逢う日まで　など \n魅惑の映画音楽\n・エーデルワイス　・My　Way　など \n指揮　松尾嘉珠子　ピアノ　米原ゆかり \n  \n賛助出演　広島大学グリークラブOB合唱団コール・スローンチェ \n指揮　岸本圭介
URL:https://hiroshima-jca.org/event/%e3%82%b3%e3%83%bc%e3%83%ab%e3%83%bb%e3%83%ad%e3%83%9e%e3%83%b3%e3%83%84%e3%82%a7%e7%ac%ac39%e5%9b%9e%e6%bc%94%e5%a5%8f%e4%bc%9a/
LOCATION:コジマホールディングス西区民文化センターホール\, 西区横川新町6番1号\, 広島市\, 広島県\, 733-0013\, 日本
END:VEVENT
BEGIN:VEVENT
DTSTART;TZID=Asia/Tokyo:20260308T140000
DTEND;TZID=Asia/Tokyo:20260308T155000
DTSTAMP:20260422T071408
CREATED:20251127T141945Z
LAST-MODIFIED:20251127T141945Z
UID:3468-1772978400-1772985000@hiroshima-jca.org
SUMMARY:合唱団ぽっきりコンサート17
DESCRIPTION:指揮者：縄 裕次郎 \n第１ステージ：アポリネールの詩による四つの無伴奏混声合唱曲「白鳥」 \n第２ステージ：Ola Gjeilo（オラ・イェイロ）合唱曲集 \n第３ステージ：久留智之合唱の世界（新曲委嘱初演） \n第４ステージ：混声合唱とピアノのための音画「銀河鉄道の夜」
URL:https://hiroshima-jca.org/event/%e5%90%88%e5%94%b1%e5%9b%a3%e3%81%bd%e3%81%a3%e3%81%8d%e3%82%8a%e3%82%b3%e3%83%b3%e3%82%b5%e3%83%bc%e3%83%8817/
LOCATION:コジマホールディングス西区民文化センターホール\, 西区横川新町6番1号\, 広島市\, 広島県\, 733-0013\, 日本
END:VEVENT
BEGIN:VEVENT
DTSTART;TZID=Asia/Tokyo:20260315T140000
DTEND;TZID=Asia/Tokyo:20260315T160000
DTSTAMP:20260422T071408
CREATED:20250912T105826Z
LAST-MODIFIED:20250912T105826Z
UID:3323-1773583200-1773590400@hiroshima-jca.org
SUMMARY:女声合唱団のはら　第2回定期演奏会
DESCRIPTION:第1ステージ「南島歌遊び」より4曲 \n第2ステージ「五つの唄」より3曲 \n第3ステージ「歌の翼に」より4曲 \n第4ステージ「笑いのコーラス」より2曲、「きんぽうげの日々」より2曲 \n指揮：竹本 勢津子\nピアノ：占部 久美子
URL:https://hiroshima-jca.org/event/%e5%a5%b3%e5%a3%b0%e5%90%88%e5%94%b1%e5%9b%a3%e3%81%ae%e3%81%af%e3%82%89%e3%80%80%e7%ac%ac2%e5%9b%9e%e5%ae%9a%e6%9c%9f%e6%bc%94%e5%a5%8f%e4%bc%9a/
LOCATION:コジマホールディングス西区民文化センターホール\, 西区横川新町6番1号\, 広島市\, 広島県\, 733-0013\, 日本
END:VEVENT
BEGIN:VEVENT
DTSTART;TZID=Asia/Tokyo:20260322T140000
DTEND;TZID=Asia/Tokyo:20260322T160000
DTSTAMP:20260422T071408
CREATED:20251124T135609Z
LAST-MODIFIED:20251127T163938Z
UID:3466-1774188000-1774195200@hiroshima-jca.org
SUMMARY:崇徳中学高等学校グリークラブ第54回定期演奏会
DESCRIPTION:Ⅰ. 女声合唱「Nコン課題曲より －愛される名曲－」(OG合同ステージ)\nⅡ. 広島オルフェオン賛助ステージ\nⅢ. 「声でめくる一頁 ～朝ドラ名曲集」(企画ステージ)\nⅣ. 男声合唱「日本民謡集」(OB合同ステージ)\nⅤ. 覚和歌子の詩による混声合唱曲集「等圧線」 \n指揮／ 伊藤 晋平　森﨑 皓\n学生指揮／ 藤明 優那　西村 淳杜\nピアノ／ 柳田 信策　森木 和美
URL:https://hiroshima-jca.org/event/%e5%b4%87%e5%be%b3%e4%b8%ad%e5%ad%a6%e9%ab%98%e7%ad%89%e5%ad%a6%e6%a0%a1%e3%82%b0%e3%83%aa%e3%83%bc%e3%82%af%e3%83%a9%e3%83%96%e7%ac%ac54%e5%9b%9e%e5%ae%9a%e6%9c%9f%e6%bc%94%e5%a5%8f%e4%bc%9a/
LOCATION:広島市安芸区民文化センター ホール\, 安芸区船越南三丁目２番１６号\, 広島市\, 広島県\, 736-8509\, 日本
ORGANIZER;CN="%E5%B4%87%E5%BE%B3%E4%B8%AD%E5%AD%A6%E9%AB%98%E7%AD%89%E5%AD%A6%E6%A0%A1%E3%82%B0%E3%83%AA%E3%83%BC%E3%82%AF%E3%83%A9%E3%83%96":MAILTO:ojima.k@sotoku.ed.jp
END:VEVENT
BEGIN:VEVENT
DTSTART;TZID=Asia/Tokyo:20260329T140000
DTEND;TZID=Asia/Tokyo:20260329T160000
DTSTAMP:20260422T071408
CREATED:20250901T154559Z
LAST-MODIFIED:20250901T154729Z
UID:3269-1774792800-1774800000@hiroshima-jca.org
SUMMARY:創立65周年記念　広島女声合唱団第46回定期演奏会
DESCRIPTION:《曲名》\n◎大田桜子作曲　星野富弘作詞\n女声合唱組曲「母の手」より\n4.母の手（ばら・きく・なずな）\n5.木のように(老木) \n◎北川昇作曲　星野富弘作詞\n女声合唱組曲「神様ありがとう」 \n◎女声合唱とピアノのための「近代日本名歌抄」より\n1.あの町この町　2.宵町草　4.青い眼の人形　5.影を慕いて \n◎ガブリエル・フォーレ作曲\nレクイエムニ短調　作品48 \n指揮者：寺沢　希\n伴奏者：梶矢民子\nソリスト：益田　眞　　昆野智佳子\n弦楽五重奏\n賛助出演：寺漢
URL:https://hiroshima-jca.org/event/%e5%89%b5%e7%ab%8b65%e5%91%a8%e5%b9%b4%e8%a8%98%e5%bf%b5%e3%80%80%e5%ba%83%e5%b3%b6%e5%a5%b3%e5%a3%b0%e5%90%88%e5%94%b1%e5%9b%a3%e7%ac%ac46%e5%9b%9e%e5%ae%9a%e6%9c%9f%e6%bc%94%e5%a5%8f%e4%bc%9a/
LOCATION:コジマホールディングス西区民文化センターホール\, 西区横川新町6番1号\, 広島市\, 広島県\, 733-0013\, 日本
END:VEVENT
BEGIN:VEVENT
DTSTART;TZID=Asia/Tokyo:20260425T160000
DTEND;TZID=Asia/Tokyo:20260425T173000
DTSTAMP:20260422T071408
CREATED:20260106T122327Z
LAST-MODIFIED:20260106T122327Z
UID:3519-1777132800-1777138200@hiroshima-jca.org
SUMMARY:ヴォーカルアンサンブル凜　8th Concert
DESCRIPTION:こどものころにみた空は\n世界中の幸せの量が一定だったとしたら\n無伴奏女声合唱曲集「yes」全6曲（覚和歌子 詩　信長貴富 作曲）\n女声合唱組曲「太陽と海と季節が」全4曲（高野民雄 詩　森山至貴 作曲）\n他、日本語の合唱曲をメインに全3ステージ構成で開催予定 \n指揮：福原泰弘　ピアノ：占部久美子
URL:https://hiroshima-jca.org/event/%e3%83%b4%e3%82%a9%e3%83%bc%e3%82%ab%e3%83%ab%e3%82%a2%e3%83%b3%e3%82%b5%e3%83%b3%e3%83%96%e3%83%ab%e5%87%9c%e3%80%808th-concert/
LOCATION:コジマホールディングス西区民文化センターホール\, 西区横川新町6番1号\, 広島市\, 広島県\, 733-0013\, 日本
END:VEVENT
BEGIN:VEVENT
DTSTART;TZID=Asia/Tokyo:20260505T130000
DTEND;TZID=Asia/Tokyo:20260505T142000
DTSTAMP:20260422T071408
CREATED:20260210T142149Z
LAST-MODIFIED:20260305T154050Z
UID:3547-1777986000-1777990800@hiroshima-jca.org
SUMMARY:第2回　バラ色のコンサート　～明日への贈り物～
DESCRIPTION:Ⅰ.広島ジュニアコーラス 「はるがきた」 他 \nⅡ.フェミニンコール広島 「せいいっぱい」 他 \nⅢ.広島ジュニアコーラス「Praise His Holy Name!」 他 \nⅣ.合同演奏「群青」他 \n指揮：谷千鶴子・奥田聡子 \nピアノ：加島裕子・伊藤恵里子
URL:https://hiroshima-jca.org/event/%e7%ac%ac2%e5%9b%9e%e3%80%80%e3%83%90%e3%83%a9%e8%89%b2%e3%81%ae%e3%82%b3%e3%83%b3%e3%82%b5%e3%83%bc%e3%83%88%e3%80%80%ef%bd%9e%e6%98%8e%e6%97%a5%e3%81%b8%e3%81%ae%e8%b4%88%e3%82%8a%e7%89%a9%ef%bd%9e/
LOCATION:広島市東区民文化センタースタジオ1\, 東区東蟹屋町10-31\, 広島市\, 広島県\, 732-0055\, Japan
END:VEVENT
BEGIN:VEVENT
DTSTART;TZID=Asia/Tokyo:20260506T110000
DTEND;TZID=Asia/Tokyo:20260506T182000
DTSTAMP:20260422T071408
CREATED:20260408T142306Z
LAST-MODIFIED:20260408T142306Z
UID:3608-1778065200-1778091600@hiroshima-jca.org
SUMMARY:春の♪街角コーラスふぇすたFinal
DESCRIPTION:
URL:https://hiroshima-jca.org/event/%e6%98%a5%e3%81%ae%e2%99%aa%e8%a1%97%e8%a7%92%e3%82%b3%e3%83%bc%e3%83%a9%e3%82%b9%e3%81%b5%e3%81%87%e3%81%99%e3%81%9ffinal/
LOCATION:広島駅南口地下広場（イベント会場）\, 南区松原町9-1\, 広島市\, 広島県\, 732-0822\, 日本
END:VEVENT
BEGIN:VEVENT
DTSTART;TZID=Asia/Tokyo:20260524T133000
DTEND;TZID=Asia/Tokyo:20260524T153000
DTSTAMP:20260422T071408
CREATED:20251227T023022Z
LAST-MODIFIED:20251227T023022Z
UID:3515-1779629400-1779636600@hiroshima-jca.org
SUMMARY:廿日市混声合唱団　結成３５周年さわやかコンサート
DESCRIPTION:結成３５周年を迎え、これまでの練習の成果に感謝の気持ちを込めて発表する場として記念の演奏会を企画しました。 \n指揮／佐伯康則　　ピアノ伴奏／植田志乃 \n第１部　　混声合唱組曲　「明日の灯」　…　「出会いそして深めあい」 他４曲 \n第２部　　「あの日 あの時」　…　「夜空のムコウ」「らいおんハート」 他６曲 \n第３部　　いっしょに歌いましょう　…　「佐伯先生と会場のみなさん」 で 「に じ」 \n第４部　　混声合唱組曲 「ひたすらな道」 … 「姫」 「白鳥」 「弦」 の３曲
URL:https://hiroshima-jca.org/event/%e5%bb%bf%e6%97%a5%e5%b8%82%e6%b7%b7%e5%a3%b0%e5%90%88%e5%94%b1%e5%9b%a3%e3%80%80%e7%b5%90%e6%88%90%ef%bc%93%ef%bc%95%e5%91%a8%e5%b9%b4%e3%81%95%e3%82%8f%e3%82%84%e3%81%8b%e3%82%b3%e3%83%b3%e3%82%b5/
LOCATION:はつかいち文化ホール　ウッドワンさくらぴあ　大ホール\, 下平良一丁目11-1\, 廿日市市\, 広島県\, 738-0023\, 日本
END:VEVENT
BEGIN:VEVENT
DTSTART;TZID=Asia/Tokyo:20260613T170000
DTEND;TZID=Asia/Tokyo:20260613T190000
DTSTAMP:20260422T071408
CREATED:20260210T141614Z
LAST-MODIFIED:20260210T141840Z
UID:3542-1781370000-1781377200@hiroshima-jca.org
SUMMARY:合唱団ある 第39回定期演奏会
DESCRIPTION:Ⅰ. 生への願い\n無伴奏混声合唱のために「廃墟から」より ガ島前線\n井上光晴・吉田嘉七 詩／信長貴富 曲\nPlaudite\, Psallite 　Kestutis Daugirdas 曲\nAve Maria 　Robert Parsons 曲 \nⅡ. 宮本正太郎の世界\n無伴奏混声合唱のための となり 　谷川俊太郎 詩／宮本正太郎 曲\n混声合唱とピアノのための 夢の潟湖(ラグーナ)　  佐伯圭 詩／宮本正太郎 曲 \nⅢ. J-popステージ\n虹    森山直太朗・御徒町凧 詞・曲／信長貴富 編曲\nサボテンの花～青春の影    財津和夫 詞・曲／田中達也 編曲\n明日への手紙    池田綾子 詞・曲／田中達也 編曲\n神さまからの贈り物     桑田佳祐 詞・曲／田畠佑一 編曲 \nⅣ. 土田豊貴の世界\n混声合唱とピアノのための すこやかに たゆまずに おだやかに　谷川俊太郎 詩／土田豊貴 曲 \n客演指揮　永井 翔\n指揮　福原 泰弘\nピアノ　占部 久美子
URL:https://hiroshima-jca.org/event/%e5%90%88%e5%94%b1%e5%9b%a3%e3%81%82%e3%82%8b-%e7%ac%ac39%e5%9b%9e%e5%ae%9a%e6%9c%9f%e6%bc%94%e5%a5%8f%e4%bc%9a/
LOCATION:広島国際会議場フェニックスホール\, 中区中島町1番5号\, 広島市\, 広島県\, 日本
END:VEVENT
BEGIN:VEVENT
DTSTART;TZID=Asia/Tokyo:20260614T133000
DTEND;TZID=Asia/Tokyo:20260614T133000
DTSTAMP:20260422T071408
CREATED:20250802T025838Z
LAST-MODIFIED:20250802T030941Z
UID:3243-1781443800-1781443800@hiroshima-jca.org
SUMMARY:混声合唱団グリーンエコー　創立３０周年記念演奏会
DESCRIPTION:指揮：九十九 有美 \nⅠ「こどもの歌」による混声合唱曲集より\nⅡ 「アヴェマリア」他\nⅢ　ゲスト演奏（ヴァイオリン・サックス・ピアノ）\nⅣ　「YMCA」「野球でゴー」他
URL:https://hiroshima-jca.org/event/%e6%b7%b7%e5%a3%b0%e5%90%88%e5%94%b1%e5%9b%a3-%e3%82%b0%e3%83%aa%e3%83%bc%e3%83%b3%e3%82%a8%e3%82%b3%e3%83%bc%e3%80%80%e5%89%b5%e7%ab%8b%ef%bc%93%ef%bc%90%e5%91%a8%e5%b9%b4%e8%a8%98%e5%bf%b5%e6%bc%94/
LOCATION:はつかいち文化ホール　ウッドワンさくらぴあ　大ホール\, 下平良一丁目11-1\, 廿日市市\, 広島県\, 738-0023\, 日本
END:VEVENT
BEGIN:VEVENT
DTSTART;TZID=Asia/Tokyo:20260614T140000
DTEND;TZID=Asia/Tokyo:20260614T160000
DTSTAMP:20260422T071408
CREATED:20251208T150450Z
LAST-MODIFIED:20251208T150450Z
UID:3492-1781445600-1781452800@hiroshima-jca.org
SUMMARY:広島オルフェオン　第38回定期演奏会
DESCRIPTION:Ⅰ．男声合唱とピアノのための組曲「夢の意味」　作詩：林望　作曲：上田真樹\n指揮：森崎皓　ピアノ：森木和美  \n Ⅱ．崇徳中学高等学校グリークラブ賛助出演\n指揮：伊藤晋平　ピアノ：柳田信策  \n Ⅲ．「Glee Club　わが“ふるさと”」（崇徳高校グリークラブOB参加ステージ）\n指揮：森崎皓  \nⅣ．「Sea　Shanty」\n指揮：伊藤晋平　  \nⅤ．「サザンオールスターズ名曲集」（石若雅弥編曲委嘱作品　初演）編曲：石若雅弥\n指揮：森崎皓　ピアノ：森木和美 
URL:https://hiroshima-jca.org/event/%e5%ba%83%e5%b3%b6%e3%82%aa%e3%83%ab%e3%83%95%e3%82%a7%e3%82%aa%e3%83%b3%e3%80%80%e7%ac%ac38%e5%9b%9e%e5%ae%9a%e6%9c%9f%e6%bc%94%e5%a5%8f%e4%bc%9a/
LOCATION:広島市安芸区民文化センター ホール\, 安芸区船越南三丁目２番１６号\, 広島市\, 広島県\, 736-8509\, 日本
END:VEVENT
BEGIN:VEVENT
DTSTART;TZID=Asia/Tokyo:20260705T140000
DTEND;TZID=Asia/Tokyo:20260705T160000
DTSTAMP:20260422T071408
CREATED:20260214T154051Z
LAST-MODIFIED:20260214T154051Z
UID:3551-1783260000-1783267200@hiroshima-jca.org
SUMMARY:広島メンネルコール創立70周年記念第55回定期演奏会
DESCRIPTION:男声合唱組曲寺山修司の詩による「思い出すために」より\n男声合唱組曲」「ひたすらな道」\n男声合唱曲アラカルト「サクランボと麦わら帽子」「消印」「心よ」\n「男声合唱のためのアンコール曲集」より、　　昭和歌謡アラカルト\n\n【指揮】　寺沢　希　　　山根　利基
URL:https://hiroshima-jca.org/event/%e5%ba%83%e5%b3%b6%e3%83%a1%e3%83%b3%e3%83%8d%e3%83%ab%e3%82%b3%e3%83%bc%e3%83%ab%e5%89%b5%e7%ab%8b70%e5%91%a8%e5%b9%b4%e8%a8%98%e5%bf%b5%e7%ac%ac55%e5%9b%9e%e5%ae%9a%e6%9c%9f%e6%bc%94%e5%a5%8f/
LOCATION:JMSアステールプラザ　大ホール\, 中区加古町4番17号\, 広島市\, 広島県\, 730-0812\, 日本
END:VEVENT
BEGIN:VEVENT
DTSTART;TZID=Asia/Tokyo:20260712T140000
DTEND;TZID=Asia/Tokyo:20260712T180000
DTSTAMP:20260422T071408
CREATED:20251024T170154Z
LAST-MODIFIED:20251120T122428Z
UID:3460-1783864800-1783879200@hiroshima-jca.org
SUMMARY:中国地方大学合唱団ジョイントコンサート
DESCRIPTION:主催\n広島大学東雲混声合唱団パストラール \n共催\n中国地方大学合唱団ジョイントコンサート実行委員会\n鳥取大学混声合唱団フィルコール\n島根大学混声合唱団\n岡山大学グリークラブ\n山口大学混声合唱団
URL:https://hiroshima-jca.org/event/%e4%b8%ad%e5%9b%bd%e5%9c%b0%e6%96%b9%e5%a4%a7%e5%ad%a6%e5%90%88%e5%94%b1%e5%9b%a3%e3%82%b8%e3%83%a7%e3%82%a4%e3%83%b3%e3%83%88%e3%82%b3%e3%83%b3%e3%82%b5%e3%83%bc%e3%83%88/
LOCATION:広島大学サタケメモリアルホール\, 鏡山一丁目2-2\, 東広島市\, 広島県\, 7390046\, 日本
END:VEVENT
BEGIN:VEVENT
DTSTART;TZID=Asia/Tokyo:20260726T140000
DTEND;TZID=Asia/Tokyo:20260726T154000
DTSTAMP:20260422T071408
CREATED:20260415T155634Z
LAST-MODIFIED:20260415T155805Z
UID:3621-1785074400-1785080400@hiroshima-jca.org
SUMMARY:第59回広島中央合唱団定期演奏会
DESCRIPTION:第一部\n・松下耕　日本民謡による混声合唱のためのコンポジション「南へ」より\n「音戸の舟唄」「五木の子守唄」\n・三宅悠太　工藤直子の詩による混声合唱組曲「みえないことづけ」 \n第二部\n・Gabriel Faure / Requiem 　（室内オーケストラ版） \n指揮　寺沢 希
URL:https://hiroshima-jca.org/event/%e7%ac%ac59%e5%9b%9e%e5%ba%83%e5%b3%b6%e4%b8%ad%e5%a4%ae%e5%90%88%e5%94%b1%e5%9b%a3%e5%ae%9a%e6%9c%9f%e6%bc%94%e5%a5%8f%e4%bc%9a/
LOCATION:はつかいち文化ホール　ウッドワンさくらぴあ　大ホール\, 下平良一丁目11-1\, 廿日市市\, 広島県\, 738-0023\, 日本
END:VEVENT
BEGIN:VEVENT
DTSTART;TZID=Asia/Tokyo:20260830T080000
DTEND;TZID=Asia/Tokyo:20260830T170000
DTSTAMP:20260422T071408
CREATED:20260418T141011Z
LAST-MODIFIED:20260418T141011Z
UID:3655-1788076800-1788109200@hiroshima-jca.org
SUMMARY:呉混声合唱団第５１回定期演奏会
DESCRIPTION:二部合唱のためのソング集「人よ、うたを思い出せ」\n作曲　信長　貴富 \n谷川俊太郎の詩による五つの混声合唱組曲「魂のいちばんおいしいところ」\n作曲　萩　京子 \n～咲かせたい、合唱の力で！明るい未来へつながる心の絆～\n「心に花を咲かせようプロジェクト」に想いを重ねて\n♪あすという日が　♪瑠璃色の地球　♪上を向いて歩こう　　ほか \n指揮　松尾　寿人\nピアノ　切川　茉弥　　　　髙畑　沙織　　　　端　香菜 \n賛助出演　　フラウエンコール　シャルマントゥ\n（中国短期大学フラウエンコールOG合唱団）
URL:https://hiroshima-jca.org/event/%e5%91%89%e6%b7%b7%e5%a3%b0%e5%90%88%e5%94%b1%e5%9b%a3%e7%ac%ac%ef%bc%95%ef%bc%91%e5%9b%9e%e5%ae%9a%e6%9c%9f%e6%bc%94%e5%a5%8f%e4%bc%9a/
LOCATION:呉信用金庫ホール（呉市文化ホール）\, 広島県呉市中央3丁目10番1号\, 呉市\, 広島県\, 737-0051\, 日本
END:VEVENT
END:VCALENDAR