BEGIN:VCALENDAR
VERSION:2.0
PRODID:-//広島県合唱連盟 - ECPv6.15.20//NONSGML v1.0//EN
CALSCALE:GREGORIAN
METHOD:PUBLISH
X-ORIGINAL-URL:https://hiroshima-jca.org
X-WR-CALDESC:広島県合唱連盟 のイベント
REFRESH-INTERVAL;VALUE=DURATION:PT1H
X-Robots-Tag:noindex
X-PUBLISHED-TTL:PT1H
BEGIN:VTIMEZONE
TZID:Asia/Tokyo
BEGIN:STANDARD
TZOFFSETFROM:+0900
TZOFFSETTO:+0900
TZNAME:JST
DTSTART:20220101T000000
END:STANDARD
END:VTIMEZONE
BEGIN:VEVENT
DTSTART;TZID=Asia/Tokyo:20231119T140000
DTEND;TZID=Asia/Tokyo:20231119T160000
DTSTAMP:20260423T233617
CREATED:20230607T091015Z
LAST-MODIFIED:20230607T091740Z
UID:2193-1700402400-1700409600@hiroshima-jca.org
SUMMARY:東広島混声合唱団第41回定期演奏会
DESCRIPTION:指揮者 光橋紀子\n1 ステージ\n混声合唱のための　おらしょ　－カクレキリシタン3つの歌－ より　第2楽章\n千原英喜作曲 \n2 ステージ\n児童合唱 　・コスモス　・ドレミの歌\n男声合唱　 ・秋の歌　・ヘッドライト\n女声合唱 　・寂庵の祈り　・いのちの理由 \n3 ステージ\nかさなる声にプロジェクト2023（市民交流ステージ）\n・混声合唱のための　アンセム　－日本語に着替えた欧州唱歌－\n・出発 \n一般 1\,000円　高校生以下 500円
URL:https://hiroshima-jca.org/event/%e6%9d%b1%e5%ba%83%e5%b3%b6%e6%b7%b7%e5%a3%b0%e5%90%88%e5%94%b1%e5%9b%a3%e7%ac%ac41%e5%9b%9e%e5%ae%9a%e6%9c%9f%e6%bc%94%e5%a5%8f%e4%bc%9a/
LOCATION:東広島芸術文化ホールくらら 大ホール\, 西条栄町７番１９号\, 東広島市\, 広島県\, 7390015\, 日本
END:VEVENT
BEGIN:VEVENT
DTSTART;TZID=Asia/Tokyo:20231119T140000
DTEND;TZID=Asia/Tokyo:20231119T160000
DTSTAMP:20260423T233617
CREATED:20230812T060228Z
LAST-MODIFIED:20230812T060228Z
UID:2267-1700402400-1700409600@hiroshima-jca.org
SUMMARY:呉混声合唱団　第４８回　定期演奏会
DESCRIPTION:プログラム：\n第１ステージ　　鈴木敏史の詩による６つの合唱曲　「朝顔の苗」から\n第２ステージ　　呉少女合唱団みらい＆くまのみらい合唱団の演奏\n第３ステージ　　NHK朝ドラ名曲集（愛の花、ありがとう、麦の唄　ほか）\n第４ステージ　　童声・混声合唱とピアノのための　「葉っぱのフレディ」\n指揮者：　松尾　寿人\n賛助出演：　呉少女合唱団みらい ＆ くまのみらい合唱団
URL:https://hiroshima-jca.org/event/%e5%91%89%e6%b7%b7%e5%a3%b0%e5%90%88%e5%94%b1%e5%9b%a3%e3%80%80%e7%ac%ac%ef%bc%94%ef%bc%98%e5%9b%9e%e3%80%80%e5%ae%9a%e6%9c%9f%e6%bc%94%e5%a5%8f%e4%bc%9a/
LOCATION:呉信用金庫ホール（呉市文化ホール）\, 広島県呉市中央3丁目10番1号\, 呉市\, 広島県\, 737-0051\, 日本
END:VEVENT
BEGIN:VEVENT
DTSTART;TZID=Asia/Tokyo:20231209T160000
DTEND;TZID=Asia/Tokyo:20231209T173000
DTSTAMP:20260423T233617
CREATED:20231013T141146Z
LAST-MODIFIED:20231013T141146Z
UID:2343-1702137600-1702143000@hiroshima-jca.org
SUMMARY:広島市役所合唱団 第２９回創立８０周年記念定期演奏会
DESCRIPTION:指揮：岡村　要　　ピアノ：竹本　順子 \n【プログラム】\nⅠ　「Mass for Three Voices」（作曲：Byrd）より3曲・パイプオルガン演奏\nⅡ　賛助出演\nひろしま少年少女合唱団\n指揮：石井　文　　ピアノ：根津　彰子\nⅢ　合同合唱\nⅣ　「Spirituals」（編曲：Jan Vermulst）より5曲\nⅤ　「ふるさとの唱歌「春が来た」」（編曲：松本憲治）より8曲
URL:https://hiroshima-jca.org/event/%e5%ba%83%e5%b3%b6%e5%b8%82%e5%bd%b9%e6%89%80%e5%90%88%e5%94%b1%e5%9b%a3-%e7%ac%ac%ef%bc%92%ef%bc%99%e5%9b%9e%e5%89%b5%e7%ab%8b%ef%bc%98%ef%bc%90%e5%91%a8%e5%b9%b4%e8%a8%98%e5%bf%b5%e5%ae%9a%e6%9c%9f/
LOCATION:日本キリスト教団 広島流川教会\, 中区上幟町8-30\, 広島市\, 広島県\, 730-0014\, 日本
END:VEVENT
BEGIN:VEVENT
DTSTART;TZID=Asia/Tokyo:20240107T140000
DTEND;TZID=Asia/Tokyo:20240107T160000
DTSTAMP:20260423T233617
CREATED:20230915T125423Z
LAST-MODIFIED:20230915T125553Z
UID:2308-1704636000-1704643200@hiroshima-jca.org
SUMMARY:広島大学グリークラブ創立６０周年記念演奏会
DESCRIPTION:第１ステージ　「タダタケ・アラカルト」 \n指揮：安西雄二 \n第２ステージ　「黒人霊歌」 \n指揮：柴原啓司、ピアノ：藤本藍子 \n第３ステージ　「草野心平の詩から」 \n指揮：岸本圭介 \n第４ステージ　「愛唱曲集」 \n指揮：庄崎敏孝、ピアノ：渡部優子
URL:https://hiroshima-jca.org/event/%e5%ba%83%e5%b3%b6%e5%a4%a7%e5%ad%a6%e3%82%b0%e3%83%aa%e3%83%bc%e3%82%af%e3%83%a9%e3%83%96%e5%89%b5%e7%ab%8b%ef%bc%96%ef%bc%90%e5%91%a8%e5%b9%b4%e8%a8%98%e5%bf%b5%e6%bc%94%e5%a5%8f%e4%bc%9a/
LOCATION:コジマホールディングス西区民文化センターホール\, 西区横川新町6番1号\, 広島市\, 広島県\, 733-0013\, 日本
END:VEVENT
BEGIN:VEVENT
DTSTART;TZID=Asia/Tokyo:20240114T095000
DTEND;TZID=Asia/Tokyo:20240114T183000
DTSTAMP:20260423T233617
CREATED:20240108T134938Z
LAST-MODIFIED:20240110T100805Z
UID:2451-1705225800-1705257000@hiroshima-jca.org
SUMMARY:第18回ヴォーカル・アンサンブル・コンテスト
DESCRIPTION:日時　2024年(令和6年)1月14日(日)　　9:30 開場、9:50 開演、18:30 終演予定\n\n\n\n会場　エリザベト音楽大学　セシリアホール\n出演団体（全39団体）　室内合唱＆重唱部門：9団体　小学生部門：5団体　ジュニア＆中高生部門：20団体　アンサンブル部門：5団体\n審査員（順不同・敬称略）　三宅 悠太 （作曲家）　折河 宏治（ 声楽家・エリザベト音楽大学 准教授）　川上 統 （作曲家・ エリザベト音楽大学 准教授）\n\n\n\n主催　広島県合唱連盟・エリザベト音楽大学\n前売券 800 円・ 当日券 1\,000 円
URL:https://hiroshima-jca.org/event/%e7%ac%ac18%e5%9b%9e%e3%83%b4%e3%82%a9%e3%83%bc%e3%82%ab%e3%83%ab%e3%83%bb%e3%82%a2%e3%83%b3%e3%82%b5%e3%83%b3%e3%83%96%e3%83%ab%e3%83%bb%e3%82%b3%e3%83%b3%e3%83%86%e3%82%b9%e3%83%88/
LOCATION:エリザベト音楽大学セシリアホール\, 中区幟町4番15号\, 広島市\, 広島県\, 730-0016\, 日本
END:VEVENT
BEGIN:VEVENT
DTSTART;TZID=Asia/Tokyo:20240121T140000
DTEND;TZID=Asia/Tokyo:20240121T163000
DTSTAMP:20260423T233617
CREATED:20231201T154233Z
LAST-MODIFIED:20231201T154233Z
UID:2392-1705845600-1705854600@hiroshima-jca.org
SUMMARY:広島大学東雲混声合唱団パストラール記念定期演奏会 第60回パストラールコンサート
DESCRIPTION:合唱曲の演奏と演劇による4ステージ構成\n1．副指揮者ステージ 「鳥」\n2．OBOG合同ステージ 合唱組曲「田園・わが愛」\n3．企画ステージ 「蛍の大旅行～いつも何か素敵なことが～」\n4．正指揮者ステージ 混声合唱とピアノのための「いのちへのオマージュ」
URL:https://hiroshima-jca.org/event/%e5%ba%83%e5%b3%b6%e5%a4%a7%e5%ad%a6%e6%9d%b1%e9%9b%b2%e6%b7%b7%e5%a3%b0%e5%90%88%e5%94%b1%e5%9b%a3%e3%83%91%e3%82%b9%e3%83%88%e3%83%a9%e3%83%bc%e3%83%ab%e8%a8%98%e5%bf%b5%e5%ae%9a%e6%9c%9f%e6%bc%94/
LOCATION:東広島芸術文化ホールくらら 大ホール\, 西条栄町７番１９号\, 東広島市\, 広島県\, 7390015\, 日本
END:VEVENT
BEGIN:VEVENT
DTSTART;TZID=Asia/Tokyo:20240127T150000
DTEND;TZID=Asia/Tokyo:20240127T170000
DTSTAMP:20260423T233617
CREATED:20230820T031424Z
LAST-MODIFIED:20230820T031424Z
UID:2276-1706367600-1706374800@hiroshima-jca.org
SUMMARY:第10回ビビッドコンサート
DESCRIPTION:指揮者：福原泰弘\nピアノ：占部久美子 \n作曲家 田中達也氏による委嘱曲（新作）を演奏します。 \n「子どものはた」（信長貴富 作曲）\n「桜の花びらのように」（田中達也 作曲）\n「SANCTA MARIA」（Kunt Nystedt 作曲） \n 
URL:https://hiroshima-jca.org/event/%e7%ac%ac10%e5%9b%9e%e3%83%93%e3%83%93%e3%83%83%e3%83%89%e3%82%b3%e3%83%b3%e3%82%b5%e3%83%bc%e3%83%88/
LOCATION:広島市東区民文化センター ホール\, 東区東蟹屋町10番31号\, 広島市\, 広島県\, 732-0055\, 日本
END:VEVENT
BEGIN:VEVENT
DTSTART;TZID=Asia/Tokyo:20240223T140000
DTEND;TZID=Asia/Tokyo:20240223T160000
DTSTAMP:20260423T233617
CREATED:20231211T113131Z
LAST-MODIFIED:20231211T113131Z
UID:2413-1708696800-1708704000@hiroshima-jca.org
SUMMARY:第20回安田女子中学校合唱部定期演奏会
DESCRIPTION:■中学校合唱部による合唱演奏会\n・女声合唱とピアノのためのたましいのスケジュールより　影絵\n・女声合唱とピアノのためのファンタジアより　風をみたひと\n・Chessboard（NHK全国学校音楽コンクール課題曲）\n・学年ごとのステージ \n■安田女子高等学校音楽部の賛助出演\n■エリザベト音楽大学非常勤講師の恩田絵美先生によるピアノ演奏\n■中学校合唱部OGによるステージ\n■中学校合唱部愛唱歌（新曲委嘱）の初披露　など
URL:https://hiroshima-jca.org/event/%e7%ac%ac20%e5%9b%9e%e5%ae%89%e7%94%b0%e5%a5%b3%e5%ad%90%e4%b8%ad%e5%ad%a6%e6%a0%a1%e5%90%88%e5%94%b1%e9%83%a8%e5%ae%9a%e6%9c%9f%e6%bc%94%e5%a5%8f%e4%bc%9a/
LOCATION:コジマホールディングス西区民文化センターホール\, 西区横川新町6番1号\, 広島市\, 広島県\, 733-0013\, 日本
END:VEVENT
BEGIN:VEVENT
DTSTART;TZID=Asia/Tokyo:20240224T140000
DTEND;TZID=Asia/Tokyo:20240224T160000
DTSTAMP:20260423T233617
CREATED:20231030T042020Z
LAST-MODIFIED:20231030T042020Z
UID:2350-1708783200-1708790400@hiroshima-jca.org
SUMMARY:コール・ロマンツェ第37回演奏会
DESCRIPTION:大中 恩　生誕100年記念\n混声合唱曲　島よ　伊藤海彦 作詩　大中 恩  作曲 \nロマンツェ花まみれ\n・秋桜　・さくら（独唱）・世界に一つだけの花　etc.\n指揮 松尾嘉珠子　ピアノ 米原ゆかり \nスペシャルステージ　松尾♪歌います ! !　ロマンツェと共にある幸せを～\nAmore ! Cantare !\n・小さな空　武満 徹 作詞・作曲\n・オペラ「タンホイザー」 より　歌の殿堂　ワーグナー 作曲　etc\nソプラノ　松尾嘉珠子　ピアノ　 米原ゆかり
URL:https://hiroshima-jca.org/event/%e3%82%b3%e3%83%bc%e3%83%ab%e3%83%bb%e3%83%ad%e3%83%9e%e3%83%b3%e3%83%84%e3%82%a7%e7%ac%ac37%e5%9b%9e%e6%bc%94%e5%a5%8f%e4%bc%9a/
LOCATION:コジマホールディングス西区民文化センターホール\, 西区横川新町6番1号\, 広島市\, 広島県\, 733-0013\, 日本
END:VEVENT
BEGIN:VEVENT
DTSTART;TZID=Asia/Tokyo:20240303T140000
DTEND;TZID=Asia/Tokyo:20240303T140000
DTSTAMP:20260423T233617
CREATED:20240109T133545Z
LAST-MODIFIED:20240109T133545Z
UID:2463-1709474400-1709474400@hiroshima-jca.org
SUMMARY:広島カントライ第10回定期演奏会
DESCRIPTION:ドボルザーク作曲　Messe D dur op.86\n指揮/寺沢　希\nメンデルスゾーン作曲　Ave Maria op.23-2\n指揮/寺沢　希\n千原英喜作曲　「きりしたん天地始之事」より　さんた丸や御かんなんの事\n指揮/寺沢　希\n\n他
URL:https://hiroshima-jca.org/event/%e5%ba%83%e5%b3%b6%e3%82%ab%e3%83%b3%e3%83%88%e3%83%a9%e3%82%a4%e7%ac%ac10%e5%9b%9e%e5%ae%9a%e6%9c%9f%e6%bc%94%e5%a5%8f%e4%bc%9a/
LOCATION:エリザベト音楽大学セシリアホール\, 中区幟町4番15号\, 広島市\, 広島県\, 730-0016\, 日本
END:VEVENT
BEGIN:VEVENT
DTSTART;TZID=Asia/Tokyo:20240310T140000
DTEND;TZID=Asia/Tokyo:20240310T155000
DTSTAMP:20260423T233617
CREATED:20231227T114617Z
LAST-MODIFIED:20231227T114617Z
UID:2427-1710079200-1710085800@hiroshima-jca.org
SUMMARY:合唱団ぽっきりコンサート１５
DESCRIPTION:〇　演奏曲目\n第１ステージ　古今東西の合唱曲を集めて\n「おんがく」「死んだ男の残したものは」など\n第２ステージ　混声合唱のための『地球へのバラード』\n（詩：谷川俊太郎　曲：三善晃）\n第３ステージ　混声合唱・弦楽合奏・ピアノのための『詩想の森-２つのバラッド-』\n（詩：長田弘　曲：信長貴富） \n〇　指揮\n縄裕次郎
URL:https://hiroshima-jca.org/event/%e5%90%88%e5%94%b1%e5%9b%a3%e3%81%bd%e3%81%a3%e3%81%8d%e3%82%8a%e3%82%b3%e3%83%b3%e3%82%b5%e3%83%bc%e3%83%88%ef%bc%91%ef%bc%95/
LOCATION:コジマホールディングス西区民文化センターホール\, 西区横川新町6番1号\, 広島市\, 広島県\, 733-0013\, 日本
END:VEVENT
BEGIN:VEVENT
DTSTART;TZID=Asia/Tokyo:20240316T133000
DTEND;TZID=Asia/Tokyo:20240316T153000
DTSTAMP:20260423T233617
CREATED:20230523T000744Z
LAST-MODIFIED:20230523T000744Z
UID:2163-1710595800-1710603000@hiroshima-jca.org
SUMMARY:心つないで15年　混声合唱 さくら　花ひらくコンサート
DESCRIPTION:指揮　藤咲真介　 　ピアノ　齊藤真由美  　ボイストレーナー　長﨑美穂子 \n混声合唱曲を主体に男声・女声合唱曲を加え、歌い継がれた曲だけでなく新しく作られた曲、演奏機会の少ない曲もとりいれました。 \n主な演奏曲目 \nマイバラード（松井孝夫　作詞作曲）\nひつじぐさ（吉田ちあき　作曲）\n仏教賛歌（聖夜　九条武子　作詞　中山晋平作曲　ほか）\n組曲　風の祈り（たままゆ　風の祈り　さくら　堀口すみれ子作詞　尾高淳忠作曲）\n男声合唱フォスターメロディーより（故郷の人々　堀内恵三訳詩　徳永洋明編曲他）\n女声合唱 When I　sing　a song.(まどみちお作詞　美智子皇后陛下訳詩　上田真樹作曲）\n合唱（谷川俊太郎　作詞　信長貴富　作曲）\nほか
URL:https://hiroshima-jca.org/event/%e5%bf%83%e3%81%a4%e3%81%aa%e3%81%84%e3%81%a715%e5%b9%b4%e3%80%80%e6%b7%b7%e5%a3%b0%e5%90%88%e5%94%b1-%e3%81%95%e3%81%8f%e3%82%89%e3%80%80%e8%8a%b1%e3%81%b2%e3%82%89%e3%81%8f%e3%82%b3%e3%83%b3/
LOCATION:はつかいち文化ホール　ウッドワンさくらぴあ　大ホール\, 下平良一丁目11-1\, 廿日市市\, 広島県\, 738-0023\, 日本
ORGANIZER;CN="%E6%B7%B7%E5%A3%B0%E5%90%88%E5%94%B1%E3%81%95%E3%81%8F%E3%82%89":MAILTO:momonb77@sky.magaegg.ne.jp
END:VEVENT
BEGIN:VEVENT
DTSTART;TZID=Asia/Tokyo:20240320T140000
DTEND;TZID=Asia/Tokyo:20240320T160000
DTSTAMP:20260423T233617
CREATED:20231227T161447Z
LAST-MODIFIED:20231227T161447Z
UID:2441-1710943200-1710950400@hiroshima-jca.org
SUMMARY:崇徳高等学校グリークラブ第52回定期演奏会
DESCRIPTION:Ⅰ. アカペラ作品集\nⅡ. 広島オルフェオン賛助ステージ【Ｎコン課題曲集】\nⅢ. 企画ステージ【スタジオジブリ作品集】\nⅣ. 卒部生合同ステージ\n女声合唱曲集「空のキャンバス」\n男声合唱とピアノのための組曲「みやこわすれ」より\nⅤ. 混声合唱のための「ホームソングメドレー2」より \n指揮／ 伊藤 晋平 森﨑 皓\n学生指揮／ 宇根 治生　木村 彩李\nピアノ／ 柳田 信策　森木 和美
URL:https://hiroshima-jca.org/event/%e5%b4%87%e5%be%b3%e9%ab%98%e7%ad%89%e5%ad%a6%e6%a0%a1%e3%82%b0%e3%83%aa%e3%83%bc%e3%82%af%e3%83%a9%e3%83%96%e7%ac%ac52%e5%9b%9e%e5%ae%9a%e6%9c%9f%e6%bc%94%e5%a5%8f%e4%bc%9a/
LOCATION:広島市安芸区民文化センター ホール\, 安芸区船越南三丁目２番１６号\, 広島市\, 広島県\, 736-8509\, 日本
END:VEVENT
BEGIN:VEVENT
DTSTART;TZID=Asia/Tokyo:20240331T140000
DTEND;TZID=Asia/Tokyo:20240331T140000
DTSTAMP:20260423T233617
CREATED:20231101T153959Z
LAST-MODIFIED:20231101T154155Z
UID:2353-1711893600-1711893600@hiroshima-jca.org
SUMMARY:広島合唱団創立70周年記念演奏会　平和を歌って70年すべての生命が輝く明日ヘ
DESCRIPTION:・広島合唱団の演奏♪「底力のタンゴ」「リメンバ―」他７曲　指揮:高田龍治\n・グスト　三多摩青年合唱団の演奏\n・広島センチュリー管弦楽団演奏　指揮:齋城英樹\n・合唱(共町合唱団)とブラス・和太鼓合同による♪「生命の詩」　指揮:小川秀樹\n・共町合唱団演奏♪「俺たちのシルクロード」「人間の歌」　指揮:高田龍治\n・100人の合唱♪「みるく世がやゆら」「アメイジング・グレイス」　指揮:西岡茂樹\n・♪「広島愛の川」子どもたちも一緒に　指揮:内田陽一郎\n・全員合唱♪「ねがい」　指揮:高田龍治\n等を、演奏する予定である。100人の合唱では、合唱団ぱっきりも参加予定。 \n一般3000円、18歳未満・学生・障がい者1500円、小学生500円
URL:https://hiroshima-jca.org/event/%e5%ba%83%e5%b3%b6%e5%90%88%e5%94%b1%e5%9b%a3%e5%89%b5%e7%ab%8b70%e5%91%a8%e5%b9%b4%e8%a8%98%e5%bf%b5%e6%bc%94%e5%a5%8f%e4%bc%9a-%e5%b9%b3%e5%92%8c%e3%82%92%e6%ad%8c%e3%81%a3%e3%81%a670%e5%b9%b4/
LOCATION:JMSアステールプラザ　大ホール\, 中区加古町4番17号\, 広島市\, 広島県\, 730-0812\, 日本
ORGANIZER;CN="%E5%BA%83%E5%B3%B6%E5%90%88%E5%94%B1%E5%9B%A3":MAILTO:hiroutakyo@yahoo.co.jp
END:VEVENT
BEGIN:VEVENT
DTSTART;TZID=Asia/Tokyo:20240420T160000
DTEND;TZID=Asia/Tokyo:20240420T173000
DTSTAMP:20260423T233617
CREATED:20240108T145039Z
LAST-MODIFIED:20240108T145131Z
UID:2460-1713628800-1713634200@hiroshima-jca.org
SUMMARY:ヴォーカルアンサンブル凜6thコンサート
DESCRIPTION:演奏内容：\n・無伴奏女声合唱曲「木」（信長貴富作曲）\n・女声合唱のための「三つの抒情」（三善晃作曲）\n他、日本語の合唱曲をメインに全3ステージ構成で開催予定。\n指揮者：福原泰弘　ピアノ：占部久美子
URL:https://hiroshima-jca.org/event/%e3%83%b4%e3%82%a9%e3%83%bc%e3%82%ab%e3%83%ab%e3%82%a2%e3%83%b3%e3%82%b5%e3%83%b3%e3%83%96%e3%83%ab%e5%87%9c6th%e3%82%b3%e3%83%b3%e3%82%b5%e3%83%bc%e3%83%88/
LOCATION:コジマホールディングス西区民文化センターホール\, 西区横川新町6番1号\, 広島市\, 広島県\, 733-0013\, 日本
END:VEVENT
BEGIN:VEVENT
DTSTART;TZID=Asia/Tokyo:20240427T143000
DTEND;TZID=Asia/Tokyo:20240427T143000
DTSTAMP:20260423T233617
CREATED:20240116T120839Z
LAST-MODIFIED:20240116T120839Z
UID:2485-1714228200-1714228200@hiroshima-jca.org
SUMMARY:広島ジュニアコーラス創立45年記念　第25回広島ジュニアコーラス・フェミニンコール広島定期演奏会
DESCRIPTION:ステージⅠ：団員が選曲した大好きな歌を集めて（広島ジュニアコーラス）\nぼくは雲雀、すりむきうた、BIRDSONG、Across The Road　ほか \nステージⅡ：広島ゆかりの作曲家：信長貴富の作品から（フェミニンコール広島）\n祝ぎ歌、川の流れのように、きみ歌えよ、夜明けから日暮れまで、夕焼け \nステージⅢ：両団の客演指揮者・詩人・作曲家との思い出の曲を集めて（ジュニア＆フェミニン）\nでこぼうと先生、未来へ、風の子守歌、二度とない人生だから、宇宙に愛を\n恐竜広場、北極星の子守歌、平和とは、ともだちのうた \n指揮：谷千鶴子・奥田聡子\nピアノ：伊藤恵里子・上田希美・加島裕子・桐原祐子 \n前売り：一般900円　高校生以下600円（前売りのみ）\n当日：900円
URL:https://hiroshima-jca.org/event/%e5%ba%83%e5%b3%b6%e3%82%b8%e3%83%a5%e3%83%8b%e3%82%a2%e3%82%b3%e3%83%bc%e3%83%a9%e3%82%b9%e5%89%b5%e7%ab%8b45%e5%b9%b4%e8%a8%98%e5%bf%b5%e3%80%80%e7%ac%ac25%e5%9b%9e%e5%ba%83%e5%b3%b6%e3%82%b8/
LOCATION:コジマホールディングス西区民文化センターホール\, 西区横川新町6番1号\, 広島市\, 広島県\, 733-0013\, 日本
END:VEVENT
BEGIN:VEVENT
DTSTART;TZID=Asia/Tokyo:20240512T110000
DTEND;TZID=Asia/Tokyo:20240512T183000
DTSTAMP:20260423T233617
CREATED:20240429T231400Z
LAST-MODIFIED:20240429T231445Z
UID:2645-1715511600-1715538600@hiroshima-jca.org
SUMMARY:春の♪街角コーラスふぇすた2024～被爆ピアノとともに～
DESCRIPTION:
URL:https://hiroshima-jca.org/event/%e6%98%a5%e3%81%ae%e2%99%aa%e8%a1%97%e8%a7%92%e3%82%b3%e3%83%bc%e3%83%a9%e3%82%b9%e3%81%b5%e3%81%87%e3%81%99%e3%81%9f2024%ef%bd%9e%e8%a2%ab%e7%88%86%e3%83%94%e3%82%a2%e3%83%8e%e3%81%a8%e3%81%a8/
LOCATION:広島駅南口地下広場（イベント会場）\, 南区松原町9-1\, 広島市\, 広島県\, 732-0822\, 日本
END:VEVENT
BEGIN:VEVENT
DTSTART;TZID=Asia/Tokyo:20240609T140000
DTEND;TZID=Asia/Tokyo:20240609T160000
DTSTAMP:20260423T233617
CREATED:20240221T113323Z
LAST-MODIFIED:20240221T125604Z
UID:2514-1717941600-1717948800@hiroshima-jca.org
SUMMARY:広島オルフェオン第36回定期演奏会
DESCRIPTION:第1ステージ　「Nコン課題曲アラカルト」\n指揮：森﨑 晧　ピアノ：森木和美 \n第2ステージ　崇徳高等学校グリークラブ賛助出演\n指揮：伊藤晋平　ピアノ：柳田信策 \n第3ステージ　男声合唱組曲「雪と花火」　作詞：北原白秋　作曲：多田武彦\n指揮：伊藤晋平 \n第4ステージ　「あなたへ贈る応援歌～オリンピック編」（編曲委嘱作品初演）\n指揮：森﨑 晧　ピアノ：森木和美
URL:https://hiroshima-jca.org/event/%e5%ba%83%e5%b3%b6%e3%82%aa%e3%83%ab%e3%83%95%e3%82%a7%e3%82%aa%e3%83%b3%e7%ac%ac36%e5%9b%9e%e5%ae%9a%e6%9c%9f%e6%bc%94%e5%a5%8f%e4%bc%9a/
LOCATION:広島市安芸区民文化センター ホール\, 安芸区船越南三丁目２番１６号\, 広島市\, 広島県\, 736-8509\, 日本
END:VEVENT
BEGIN:VEVENT
DTSTART;TZID=Asia/Tokyo:20240615T183000
DTEND;TZID=Asia/Tokyo:20240615T203000
DTSTAMP:20260423T233617
CREATED:20240319T160014Z
LAST-MODIFIED:20240325T151721Z
UID:2579-1718476200-1718483400@hiroshima-jca.org
SUMMARY:合唱団ある 第37回定期演奏会
DESCRIPTION:Ⅰ. 祈りの情景\n・混声合唱曲「ヒロシマの鳩」、Haec dies 他\n指揮：福原 泰弘　ピアノ：占部 久美子　オルガン：福原 之織 \nⅡ. 九ちゃんが歌ったうた\n編曲：横山 潤子\n指揮：福原 泰弘　ピアノ：占部 久美子 \nⅢ. ガルシア・ロルカ詩集　無伴奏混声合唱のための\n訳詩：長谷川 史郎　曲：信長 貴富\n指揮：福原 泰弘
URL:https://hiroshima-jca.org/event/%e5%90%88%e5%94%b1%e5%9b%a3%e3%81%82%e3%82%8b-%e7%ac%ac37%e5%9b%9e%e5%ae%9a%e6%9c%9f%e6%bc%94%e5%a5%8f%e4%bc%9a/
LOCATION:広島国際会議場フェニックスホール\, 中区中島町1番5号\, 広島市\, 広島県\, 日本
END:VEVENT
BEGIN:VEVENT
DTSTART;TZID=Asia/Tokyo:20240706T143000
DTEND;TZID=Asia/Tokyo:20240706T160000
DTSTAMP:20260423T233617
CREATED:20240425T152736Z
LAST-MODIFIED:20240425T152839Z
UID:2640-1720276200-1720281600@hiroshima-jca.org
SUMMARY:広島ベルカント男声合唱団 第３回独唱演奏会
DESCRIPTION:当団は団員ひとり一人の歌唱力の向上に力を入れているところから、その成果を発表するため企画した独唱会です。今回で３回目になります。 \nピアノ：迫　千月
URL:https://hiroshima-jca.org/event/%e5%ba%83%e5%b3%b6%e3%83%99%e3%83%ab%e3%82%ab%e3%83%b3%e3%83%88%e7%94%b7%e5%a3%b0%e5%90%88%e5%94%b1%e5%9b%a3%e3%80%80%e7%ac%ac%ef%bc%93%e5%9b%9e%e7%8b%ac%e5%94%b1%e6%bc%94%e5%a5%8f%e4%bc%9a/
LOCATION:広島市東区民文化センター ホール\, 東区東蟹屋町10番31号\, 広島市\, 広島県\, 732-0055\, 日本
END:VEVENT
BEGIN:VEVENT
DTSTART;TZID=Asia/Tokyo:20240707T140000
DTEND;TZID=Asia/Tokyo:20240707T160000
DTSTAMP:20260423T233617
CREATED:20240226T125928Z
LAST-MODIFIED:20240226T125928Z
UID:2527-1720360800-1720368000@hiroshima-jca.org
SUMMARY:広島メンネルコール第53回定期演奏会
DESCRIPTION:「見よ、かの蒼空に」　作曲：信長貴富　作詞：石川啄木\n（指揮：寺沢希）\n「男声合唱による10のメルヘン　愛する歌」から　作曲：木下牧子　作詞：やなせたかし\n（指揮：寺沢希）\n「男声合唱による日本抒情歌曲集」から　作曲：林光\n（指揮：間宮達夫）\n「若者たち　昭和歌謡に見る４つの群像」　編曲：信長貴富\n（指揮：寺沢希）
URL:https://hiroshima-jca.org/event/%e5%ba%83%e5%b3%b6%e3%83%a1%e3%83%b3%e3%83%8d%e3%83%ab%e3%82%b3%e3%83%bc%e3%83%ab%e7%ac%ac53%e5%9b%9e%e5%ae%9a%e6%9c%9f%e6%bc%94%e5%a5%8f%e4%bc%9a/
LOCATION:JMSアステールプラザ　大ホール\, 中区加古町4番17号\, 広島市\, 広島県\, 730-0812\, 日本
END:VEVENT
BEGIN:VEVENT
DTSTART;TZID=Asia/Tokyo:20240715T140000
DTEND;TZID=Asia/Tokyo:20240715T154000
DTSTAMP:20260423T233617
CREATED:20240221T112255Z
LAST-MODIFIED:20240221T113544Z
UID:2511-1721052000-1721058000@hiroshima-jca.org
SUMMARY:第57回広島中央合唱団定期演奏会
DESCRIPTION:○佐藤賢太郎　「前へ」\n○Steve Dobrogosz 　「INOCHI」\n○三善晃　「生きる」\n以上 ピアノ伴奏 \n○ジョン・ラター\n・Candlelight Carol\n・Nativity Carol\n・What sweeter music\n以上 室内・管弦合奏付き \n○ヘンデル\nCaroline王妃の葬送のためのアンセム「シオンの道は悲しみ」\n弦楽合奏付き \n指揮：寺沢 希 \n入場料：一般900円　学生600円
URL:https://hiroshima-jca.org/event/%e7%ac%ac57%e5%9b%9e%e5%ba%83%e5%b3%b6%e4%b8%ad%e5%a4%ae%e5%90%88%e5%94%b1%e5%9b%a3%e5%ae%9a%e6%9c%9f%e6%bc%94%e5%a5%8f%e4%bc%9a/
LOCATION:広島市安芸区民文化センター ホール\, 安芸区船越南三丁目２番１６号\, 広島市\, 広島県\, 736-8509\, 日本
END:VEVENT
BEGIN:VEVENT
DTSTART;TZID=Asia/Tokyo:20240811T103000
DTEND;TZID=Asia/Tokyo:20240811T180000
DTSTAMP:20260423T233617
CREATED:20240707T031347Z
LAST-MODIFIED:20240713T123622Z
UID:2713-1723372200-1723399200@hiroshima-jca.org
SUMMARY:第63回広島県合唱コンクール
DESCRIPTION:
URL:https://hiroshima-jca.org/event/%e7%ac%ac63%e5%9b%9e%e5%ba%83%e5%b3%b6%e7%9c%8c%e5%90%88%e5%94%b1%e3%82%b3%e3%83%b3%e3%82%af%e3%83%bc%e3%83%ab/
LOCATION:マエダハウジング安佐南区民文化センター ホール\, 安佐南区中筋一丁目22番17号\, 広島市\, 広島県\, 731-0122\, 日本
END:VEVENT
BEGIN:VEVENT
DTSTART;TZID=Asia/Tokyo:20240908T140000
DTEND;TZID=Asia/Tokyo:20240908T160000
DTSTAMP:20260423T233617
CREATED:20240418T160857Z
LAST-MODIFIED:20240421T041515Z
UID:2630-1725804000-1725811200@hiroshima-jca.org
SUMMARY:第49回呉混声合唱団定期演奏会
DESCRIPTION:信長貴富　名曲集 \nジグザグな屋根の下で\nリフレイン　　　　　　ほか \n  \n≪こどものうた≫による混声三部合唱曲集 \n「いぬのおまわりさん」から\nサッちゃん\nいぬのおまわりさん　　ほか \n  \n歌い継ぎたい日本の歌 \n春の小川\n故郷　　　　　　　　　ほか \n  \n指揮　松尾 寿人\n伴奏　高畑 沙織　端 香菜
URL:https://hiroshima-jca.org/event/%e7%ac%ac49%e5%9b%9e%e5%91%89%e6%b7%b7%e5%a3%b0%e5%90%88%e5%94%b1%e5%9b%a3%e5%ae%9a%e6%9c%9f%e6%bc%94%e5%a5%8f%e4%bc%9a/
LOCATION:呉信用金庫ホール（呉市文化ホール）\, 広島県呉市中央3丁目10番1号\, 呉市\, 広島県\, 737-0051\, 日本
END:VEVENT
BEGIN:VEVENT
DTSTART;TZID=Asia/Tokyo:20240929T140000
DTEND;TZID=Asia/Tokyo:20240929T140000
DTSTAMP:20260423T233617
CREATED:20240123T120021Z
LAST-MODIFIED:20240123T120021Z
UID:2504-1727618400-1727618400@hiroshima-jca.org
SUMMARY:広島女声合唱団第45回定期演奏会
DESCRIPTION:◎田中達也作曲　茨木のり子作詞\n女声合唱とピアノのための「もっと強く」 \n◎新実徳英作曲　テキスト「古事記」より\n女声合唱とピアノのための「こだま・おとだま」から「恋ひうた」 \n◎鈴木憲夫作曲\n女声合唱曲「般若心経」 \n◎鈴木憲夫構成・作曲\n女声合唱のための「マザー・テレサ愛のことば」 \n◎琉球讃歌 「涙そうそう」「童神」「島唄」 \n◎他 \n指揮：寺沢　希\n伴奏：梶矢民子
URL:https://hiroshima-jca.org/event/%e5%ba%83%e5%b3%b6%e5%a5%b3%e5%a3%b0%e5%90%88%e5%94%b1%e5%9b%a3%e7%ac%ac45%e5%9b%9e%e5%ae%9a%e6%9c%9f%e6%bc%94%e5%a5%8f%e4%bc%9a/
LOCATION:コジマホールディングス西区民文化センターホール\, 西区横川新町6番1号\, 広島市\, 広島県\, 733-0013\, 日本
END:VEVENT
BEGIN:VEVENT
DTSTART;TZID=Asia/Tokyo:20241020T110000
DTEND;TZID=Asia/Tokyo:20241020T193000
DTSTAMP:20260423T233617
CREATED:20240820T120403Z
LAST-MODIFIED:20241005T163118Z
UID:2765-1729422000-1729452600@hiroshima-jca.org
SUMMARY:広島県合唱フェスティバル 2024
DESCRIPTION:日時　2024年10月20日（日）　開演 10:45 ／ 終演予定 19:05\n\n\n\n会場　呉信用金庫ホール(呉市文化ホール)\n\n\n\n入場料　前売券 800円　当日券 中学生以上1000円／小学生以下500円\n\n\n \n  \n 
URL:https://hiroshima-jca.org/event/%e5%ba%83%e5%b3%b6%e7%9c%8c%e5%90%88%e5%94%b1%e3%83%95%e3%82%a7%e3%82%b9%e3%83%86%e3%82%a3%e3%83%90%e3%83%ab-2024/
LOCATION:呉信用金庫ホール（呉市文化ホール）\, 広島県呉市中央3丁目10番1号\, 呉市\, 広島県\, 737-0051\, 日本
END:VEVENT
BEGIN:VEVENT
DTSTART;TZID=Asia/Tokyo:20241103T160000
DTEND;TZID=Asia/Tokyo:20241103T180000
DTSTAMP:20260423T233617
CREATED:20240425T125448Z
LAST-MODIFIED:20240605T125754Z
UID:2635-1730649600-1730656800@hiroshima-jca.org
SUMMARY:女声合唱団のはら 第1回定期演奏会
DESCRIPTION:第一ステージ　のはらアラカルト5曲\n第二ステージ　同声合唱アルバム「のはらうた1」\n指揮：竹本勢津子\nピアノ：占部久美子\n客演指揮：三宅悠太
URL:https://hiroshima-jca.org/event/%e5%a5%b3%e5%a3%b0%e5%90%88%e5%94%b1%e5%9b%a3%e3%81%ae%e3%81%af%e3%82%89-%e7%ac%ac1%e5%9b%9e%e5%ae%9a%e6%9c%9f%e6%bc%94%e5%a5%8f%e4%bc%9a/
LOCATION:広島市東区民文化センター ホール\, 東区東蟹屋町10番31号\, 広島市\, 広島県\, 732-0055\, 日本
END:VEVENT
BEGIN:VEVENT
DTSTART;TZID=Asia/Tokyo:20241104T140000
DTEND;TZID=Asia/Tokyo:20241104T150000
DTSTAMP:20260423T233617
CREATED:20240926T155108Z
LAST-MODIFIED:20240926T155108Z
UID:2796-1730728800-1730732400@hiroshima-jca.org
SUMMARY:広島中央合唱団オータムコンサート2024
DESCRIPTION:Ⅰ　Will Todd / Jazz Missa Brevisより\nKyrie\, Sanctus\, Benedictus\, Agnus Dei\nⅡ　鈴木憲夫 作曲「レモン哀歌」\nⅢ　Will Todd / Three Jazz Carol\nAway in Manger\, Once in Royal David’s City\, Silent Night\nエンディング ソング\nJohn Rutter / Nativity Carol\, 相沢直人 作曲「あいたくて」 \n指揮 寺沢 希　ピアノ 梶矢 民子
URL:https://hiroshima-jca.org/event/%e5%ba%83%e5%b3%b6%e4%b8%ad%e5%a4%ae%e5%90%88%e5%94%b1%e5%9b%a3%e3%82%aa%e3%83%bc%e3%82%bf%e3%83%a0%e3%82%b3%e3%83%b3%e3%82%b5%e3%83%bc%e3%83%882024/
LOCATION:日本キリスト教団 広島流川教会\, 中区上幟町8-30\, 広島市\, 広島県\, 730-0014\, 日本
END:VEVENT
BEGIN:VEVENT
DTSTART;TZID=Asia/Tokyo:20241104T140000
DTEND;TZID=Asia/Tokyo:20241104T160000
DTSTAMP:20260423T233617
CREATED:20240815T133435Z
LAST-MODIFIED:20240815T133435Z
UID:2755-1730728800-1730736000@hiroshima-jca.org
SUMMARY:アンダンテ歩く速さでコンサートⅦ
DESCRIPTION:指揮者　中川聰子 \nⅠステージ　祈りのテーマ　子守歌・誰もそばにいてくれない・アヴェ ヴェルム コルプス\nⅡステージ　高田三郎曲集　機織る星・雨　他\nⅢステージ　美しい日本の歌　早春賦・浜ベの歌・冬の夜　他\nⅣステージ　ゲストステージ　ソプラノ声楽家 船越亜弥氏\nⅤステージ　アンダンテ・りんどう あの歌この歌　落葉松・信じる・いつも心に　他 \nゲストの船越亜弥さんは2021年度日本音楽コンクール声楽部門で第1位に輝き、今最も期待されている若手声楽家の一人です。
URL:https://hiroshima-jca.org/event/%e3%82%a2%e3%83%b3%e3%83%80%e3%83%b3%e3%83%86%e6%ad%a9%e3%81%8f%e9%80%9f%e3%81%95%e3%81%a7%e3%82%b3%e3%83%b3%e3%82%b5%e3%83%bc%e3%83%88%e2%85%b6/
LOCATION:広島県民文化センター ホール\, 中区大手町1丁目5-3\, 広島市\, 広島県\, 730-0051\, 日本
END:VEVENT
BEGIN:VEVENT
DTSTART;TZID=Asia/Tokyo:20241123T140000
DTEND;TZID=Asia/Tokyo:20241123T163000
DTSTAMP:20260423T233618
CREATED:20240507T125621Z
LAST-MODIFIED:20240905T112709Z
UID:2656-1732370400-1732379400@hiroshima-jca.org
SUMMARY:東広島混声合唱団 第42回定期演奏会
DESCRIPTION:指揮者　光橋 紀子 \n１ステージ\n女声合唱・おお聖なる宴よ　・サークルオブライフ \n２ステージ\n児童合唱　・しあわせになあれ　・ドリームアンドドリーム\n男声合唱　・サンタルチア　・海その愛 \n３ステージ\nかさなる声にプロジェクト2024（市民交流ステージ）\n・正解　　野田洋次郎 作詞・作曲\n・リメンバー \n４ステージ\n立ちつくす～混声合唱と２台のピアノのための～　土田豊貴 作曲\n・夕焼け小焼け　・きみ歌えよ \n入場料　一般 1\,000円　高校生以下 無料
URL:https://hiroshima-jca.org/event/%e6%9d%b1%e5%ba%83%e5%b3%b6%e6%b7%b7%e5%a3%b0%e5%90%88%e5%94%b1%e5%9b%a3-%e7%ac%ac42%e5%9b%9e%e5%ae%9a%e6%9c%9f%e6%bc%94%e5%a5%8f%e4%bc%9a/
LOCATION:東広島芸術文化ホールくらら 大ホール\, 西条栄町７番１９号\, 東広島市\, 広島県\, 7390015\, 日本
END:VEVENT
END:VCALENDAR