BEGIN:VCALENDAR
VERSION:2.0
PRODID:-//広島県合唱連盟 - ECPv6.15.20//NONSGML v1.0//EN
CALSCALE:GREGORIAN
METHOD:PUBLISH
X-ORIGINAL-URL:https://hiroshima-jca.org
X-WR-CALDESC:広島県合唱連盟 のイベント
REFRESH-INTERVAL;VALUE=DURATION:PT1H
X-Robots-Tag:noindex
X-PUBLISHED-TTL:PT1H
BEGIN:VTIMEZONE
TZID:Asia/Tokyo
BEGIN:STANDARD
TZOFFSETFROM:+0900
TZOFFSETTO:+0900
TZNAME:JST
DTSTART:20200101T000000
END:STANDARD
END:VTIMEZONE
BEGIN:VEVENT
DTSTART;TZID=Asia/Tokyo:20210711T140000
DTEND;TZID=Asia/Tokyo:20210711T140000
DTSTAMP:20260425T224449
CREATED:20210224T154612Z
LAST-MODIFIED:20210224T154612Z
UID:796-1626012000-1626012000@hiroshima-jca.org
SUMMARY:広島メンネルコール第50回記念定期演奏会
DESCRIPTION:指揮：寺沢　希、今田　陽次 \n曲目： \n1.佐藤賢太郎「憧れと共に」より \n2.暗くて泣きたくなる男声合唱曲集「神田川」より \n3.「ダン・フォレスト宗教曲集」 \n4.松下耕　男声合唱組曲「風の夏」（男声版委嘱初演）
URL:https://hiroshima-jca.org/event/%e5%ba%83%e5%b3%b6%e3%83%a1%e3%83%b3%e3%83%8d%e3%83%ab%e3%82%b3%e3%83%bc%e3%83%ab%e7%ac%ac50%e5%9b%9e%e8%a8%98%e5%bf%b5%e5%ae%9a%e6%9c%9f%e6%bc%94%e5%a5%8f%e4%bc%9a/
LOCATION:JMSアステールプラザ　大ホール\, 中区加古町4番17号\, 広島市\, 広島県\, 730-0812\, 日本
END:VEVENT
BEGIN:VEVENT
DTSTART;TZID=Asia/Tokyo:20210731T183000
DTEND;TZID=Asia/Tokyo:20210731T203000
DTSTAMP:20260425T224449
CREATED:20210306T165833Z
LAST-MODIFIED:20210604T150718Z
UID:810-1627756200-1627763400@hiroshima-jca.org
SUMMARY:合唱団ある第34回定期演奏会
DESCRIPTION:日程を変更しました。（2021/6/19⇒2021/7/31） \nⅠ　外国語による現代合唱作品\nCanticum novum             曲 Ivo Angtonini\nAlleluia                          曲 Elaine Hagenberg\nThe music of stillness      曲 Elaine Hagenberg\nAve\, maris stella             曲 Tine Bec\nAve Maria                      曲 Daniel Elder\n指揮  福原 泰弘 \nⅡ　寺山修司の詩による６つのうた 思い出すために\n詩  寺山 修司 ／ 曲  信長 貴富\nピアノ 占部 久美子 ／ 指揮  福原 泰弘 \nⅢ　追分節考\n曲  柴田 南雄\n尺八  宮崎 紅山 ／ 指揮  松前 良昌 \nⅣ　混声合唱のための 日本・四季の旅\n編曲・ピアノ  山中 惇史 ／ 指揮  松前 良昌
URL:https://hiroshima-jca.org/event/%e5%90%88%e5%94%b1%e5%9b%a3%e3%81%82%e3%82%8b%e7%ac%ac34%e5%9b%9e%e5%ae%9a%e6%9c%9f%e6%bc%94%e5%a5%8f%e4%bc%9a/
LOCATION:広島国際会議場フェニックスホール\, 中区中島町1番5号\, 広島市\, 広島県\, 日本
END:VEVENT
BEGIN:VEVENT
DTSTART;VALUE=DATE:20210808
DTEND;VALUE=DATE:20210809
DTSTAMP:20260425T224449
CREATED:20210512T135055Z
LAST-MODIFIED:20210512T135055Z
UID:1001-1628380800-1628467199@hiroshima-jca.org
SUMMARY:第60回広島県合唱コンクール
DESCRIPTION:
URL:https://hiroshima-jca.org/event/%e7%ac%ac60%e5%9b%9e%e5%ba%83%e5%b3%b6%e7%9c%8c%e5%90%88%e5%94%b1%e3%82%b3%e3%83%b3%e3%82%af%e3%83%bc%e3%83%ab/
LOCATION:マエダハウジング安佐南区民文化センター ホール\, 安佐南区中筋一丁目22番17号\, 広島市\, 広島県\, 731-0122\, 日本
END:VEVENT
BEGIN:VEVENT
DTSTART;TZID=Asia/Tokyo:20210809T000000
DTEND;TZID=Asia/Tokyo:20210809T000000
DTSTAMP:20260425T224449
CREATED:20210306T170639Z
LAST-MODIFIED:20210512T115333Z
UID:815-1628467200-1628467200@hiroshima-jca.org
SUMMARY:第4回 あじさい色のコンサート
DESCRIPTION:広島県合唱連盟加盟3団体（広島ジュニアコーラス・フェミニンコール広島・混声合唱団「銀の鈴」）で構成する「あじさい色のコンサート」に今回は、アンサンブルカーノと共演し、4団体、3世代によるコンサートを開催する。 \n指揮：谷千鶴子・寺沢希\nピアノ：大下さちこ・田中直美・桐原祐子・伊藤恵里子・加島裕子・岡野希美 \n演奏曲：翼をください、はじめの一歩、君歌えよ、どんなときも、Give　us Hope、YELL、ほらね、花のように雲のように、川の流れのように、広島愛の川　　他 \n※開催日が、2021年5月29日(土)から2021年8月9日(月・祝)に延期されました。（時間等調整中）
URL:https://hiroshima-jca.org/event/%e7%ac%ac4%e5%9b%9e-%e3%81%82%e3%81%98%e3%81%95%e3%81%84%e8%89%b2%e3%81%ae%e3%82%b3%e3%83%b3%e3%82%b5%e3%83%bc%e3%83%88/
LOCATION:コジマホールディングス西区民文化センターホール\, 西区横川新町6番1号\, 広島市\, 広島県\, 733-0013\, 日本
END:VEVENT
BEGIN:VEVENT
DTSTART;TZID=Asia/Tokyo:20210905T140000
DTEND;TZID=Asia/Tokyo:20210905T140000
DTSTAMP:20260425T224449
CREATED:20210418T123752Z
LAST-MODIFIED:20210420T153334Z
UID:926-1630850400-1630850400@hiroshima-jca.org
SUMMARY:広島女声合唱団 創立60周年記念 第43回定期演奏会
DESCRIPTION:指揮　寺沢 希\nⅠ．女声合唱『枕草子』　　　ピアノ　梶矢 民子\nⅡ．平和への祈りを込めて　　ピアノ　梶矢 民子\nⅢ．60周年を記念して　　　　ピアノ　山下 雅靖\nⅣ．Men’s Vocal Ensemble“寺漢”\nⅤ．ダン・フォレストの世界　ピアノ　山下 雅靖\n賛助　Men’s Vocal Ensemble“寺漢”\nヴァイオリン　後藤 明子・今井 千晶\nヴィオラ　増田 喜代\nチェロ　宮本 隆―\nコントラバス　渡邊 美穂
URL:https://hiroshima-jca.org/event/%e5%ba%83%e5%b3%b6%e5%a5%b3%e5%a3%b0%e5%90%88%e5%94%b1%e5%9b%a3-%e5%89%b5%e7%ab%8b60%e5%91%a8%e5%b9%b4%e8%a8%98%e5%bf%b5-%e7%ac%ac43%e5%9b%9e%e5%ae%9a%e6%9c%9f%e6%bc%94%e5%a5%8f%e4%bc%9a/
LOCATION:コジマホールディングス西区民文化センターホール\, 西区横川新町6番1号\, 広島市\, 広島県\, 733-0013\, 日本
END:VEVENT
BEGIN:VEVENT
DTSTART;TZID=Asia/Tokyo:20210925T140000
DTEND;TZID=Asia/Tokyo:20210925T140000
DTSTAMP:20260425T224449
CREATED:20210814T092752Z
LAST-MODIFIED:20210814T092752Z
UID:1119-1632578400-1632578400@hiroshima-jca.org
SUMMARY:大竹女声合唱団第26回演奏会
DESCRIPTION:指揮　　平野 薫\nピアノ　西濱ちえこ\nゲスト　オーボエ奏者 西濱 純治\n曲目　　同声(女声)合唱のための組曲「こころのてんきよほう」\n少年少女:女声のための合唱組曲「あしたの灯」\n異邦人\n他
URL:https://hiroshima-jca.org/event/%e5%a4%a7%e7%ab%b9%e5%a5%b3%e5%a3%b0%e5%90%88%e5%94%b1%e5%9b%a3%e7%ac%ac26%e5%9b%9e%e6%bc%94%e5%a5%8f%e4%bc%9a/
LOCATION:大竹会館アゼリアホール\, 本町一丁目９番３号\, 大竹市\, 広島県\, 739-0613\, 日本
END:VEVENT
BEGIN:VEVENT
DTSTART;VALUE=DATE:20211017
DTEND;VALUE=DATE:20211018
DTSTAMP:20260425T224449
CREATED:20210512T135742Z
LAST-MODIFIED:20210512T135742Z
UID:1007-1634428800-1634515199@hiroshima-jca.org
SUMMARY:広島県合唱連盟創立60周年記念事業 広島県合唱フェスティバル
DESCRIPTION:
URL:https://hiroshima-jca.org/event/%e5%ba%83%e5%b3%b6%e7%9c%8c%e5%90%88%e5%94%b1%e9%80%a3%e7%9b%9f%e5%89%b5%e7%ab%8b60%e5%91%a8%e5%b9%b4%e8%a8%98%e5%bf%b5%e4%ba%8b%e6%a5%ad-%e5%ba%83%e5%b3%b6%e7%9c%8c%e5%90%88%e5%94%b1%e3%83%95/
LOCATION:上野学園ホール（広島県立文化芸術ホール）\, 中区白島北町１９番１号\, 広島市\, 広島県\, 730-0001\, 日本
END:VEVENT
BEGIN:VEVENT
DTSTART;TZID=Asia/Tokyo:20211031T133000
DTEND;TZID=Asia/Tokyo:20211031T133000
DTSTAMP:20260425T224449
CREATED:20201226T093602Z
LAST-MODIFIED:20211011T124243Z
UID:697-1635687000-1635687000@hiroshima-jca.org
SUMMARY:混声合唱団グリーンエコー　創立25周年記念演奏会(10/31)→中止
DESCRIPTION:中止となりました。 \n指揮者　　九十九　有美 \nⅠ  あの子の記憶のどこかに\nⅡ 混声合唱曲集より\nⅢ ウルトラフラッシュメドレー　（混声合唱のためのメドレー）\nⅣ アラカルト「恋」「パプリカ」他
URL:https://hiroshima-jca.org/event/%e6%b7%b7%e5%a3%b0%e5%90%88%e5%94%b1%e5%9b%a3%e3%80%80%e3%82%b0%e3%83%aa%e3%83%bc%e3%83%b3%e3%82%a8%e3%82%b3%e3%83%bc%e3%80%80%e5%89%b5%e7%ab%8b%ef%bc%92%ef%bc%95%e5%91%a8%e5%b9%b4%e8%a8%98%e5%bf%b5/
LOCATION:はつかいち文化ホール　ウッドワンさくらぴあ　大ホール\, 下平良一丁目11-1\, 廿日市市\, 広島県\, 738-0023\, 日本
END:VEVENT
BEGIN:VEVENT
DTSTART;TZID=Asia/Tokyo:20211103T133000
DTEND;TZID=Asia/Tokyo:20211103T133000
DTSTAMP:20260425T224449
CREATED:20210711T024020Z
LAST-MODIFIED:20210829T072410Z
UID:1063-1635946200-1635946200@hiroshima-jca.org
SUMMARY:呉混声合唱団第47回定期演奏会
DESCRIPTION:（延期）※日にちのみ変更\n9月12日（日）→11月3日（祝・水） \nⅠ 合唱(詩　谷川俊太郎　　曲　田中達也)\n君の川柳(詩　詠み人シラーズ　　曲　信長貴富)  など \nⅡ オリンピックテーマソング集\nカイト(竹内一樹　編曲)  など \nⅢ 混声合唱組曲「まほろば」(呉混声合唱団委嘱曲) \n指揮　　松尾寿人\nピアノ　高畑沙織、端香菜、小林知世
URL:https://hiroshima-jca.org/event/%e5%91%89%e6%b7%b7%e5%a3%b0%e5%90%88%e5%94%b1%e5%9b%a3%e7%ac%ac47%e5%9b%9e%e5%ae%9a%e6%9c%9f%e6%bc%94%e5%a5%8f%e4%bc%9a/
LOCATION:呉信用金庫ホール（呉市文化ホール）\, 広島県呉市中央3丁目10番1号\, 呉市\, 広島県\, 737-0051\, 日本
END:VEVENT
BEGIN:VEVENT
DTSTART;TZID=Asia/Tokyo:20211103T140000
DTEND;TZID=Asia/Tokyo:20211103T140000
DTSTAMP:20260425T224449
CREATED:20210904T164950Z
LAST-MODIFIED:20210904T164950Z
UID:1124-1635948000-1635948000@hiroshima-jca.org
SUMMARY:広島ベルカント男声合唱団第13回定期演奏会
DESCRIPTION:指揮　内田陽一郎　山本定男\n１．男声合唱曲\n多田武彦男声合唱組曲「父のいる庭」\n日本歌曲　叱られて 椰子の実 早春賦\nポピュラー音楽　さそり座の女 ズンドコ節 君をのせて\n信長貴富編曲集 無縁坂 サボテンの花 時代\n宗教曲　日本民謡集\n２．賛助出演カルテットグループ演奏\n３．団員・指導者による独唱
URL:https://hiroshima-jca.org/event/%e5%ba%83%e5%b3%b6%e3%83%99%e3%83%ab%e3%82%ab%e3%83%b3%e3%83%88%e7%94%b7%e5%a3%b0%e5%90%88%e5%94%b1%e5%9b%a3%e7%ac%ac13%e5%9b%9e%e5%ae%9a%e6%9c%9f%e6%bc%94%e5%a5%8f%e4%bc%9a/
LOCATION:広島市東区民文化センター ホール\, 東区東蟹屋町10番31号\, 広島市\, 広島県\, 732-0055\, 日本
END:VEVENT
BEGIN:VEVENT
DTSTART;TZID=Asia/Tokyo:20211121T120000
DTEND;TZID=Asia/Tokyo:20211130T235900
DTSTAMP:20260425T224449
CREATED:20210814T090545Z
LAST-MODIFIED:20210929T144912Z
UID:1109-1637496000-1638316740@hiroshima-jca.org
SUMMARY:広島大学合唱団第64回定期演奏会
DESCRIPTION:1ステージ　混声合唱組曲「やさしさとさびしさの天使」\n指揮 宮原由依　伴奏 柴田健斗\n2ステージ　「Super flumina Babylonis」「The Battle of Jericho」「翼」\n指揮 村上謙一郎\n3ステージ　混声合唱とピアノのための「信じる」\n指揮 秋葉真帆　伴奏 柴田健斗 \n2021年11月21日(日曜日)からYouTubeで、11月14日(日曜日)に録画した映像を配信\n配信期間は11月21日(日曜日)正午から、11月30日(火曜日)23時59分まで\n無観客による開催
URL:https://hiroshima-jca.org/event/%e5%ba%83%e5%b3%b6%e5%a4%a7%e5%ad%a6%e5%90%88%e5%94%b1%e5%9b%a3%e7%ac%ac64%e5%9b%9e%e5%ae%9a%e6%9c%9f%e6%bc%94%e5%a5%8f%e4%bc%9a/
LOCATION:YouTube
END:VEVENT
BEGIN:VEVENT
DTSTART;TZID=Asia/Tokyo:20211123T140000
DTEND;TZID=Asia/Tokyo:20211123T140000
DTSTAMP:20260425T224449
CREATED:20211020T101207Z
LAST-MODIFIED:20211020T101530Z
UID:1211-1637676000-1637676000@hiroshima-jca.org
SUMMARY:第13回コーロ・ナトゥラーレ コンサート
DESCRIPTION:1. いつかの木から　みなづきみのり 詩／北川昇 曲\n2. 誰にもいわずに　金子みすゞ 詩／相澤直人 曲\n3. 混声「翼」 いのちの歌/心に花を咲かせましょう/糸/待ちましょう/プレゼント\n4. Piano  Duo\n5. 四季を歌う　春が来た/夏の思い出/赤とんぼ/かあさんの歌/春が来た \n指揮　平野 薫\nピアノ　西濱 ちえこ　大下 枝里子　伊達 幸恵
URL:https://hiroshima-jca.org/event/%e7%ac%ac13%e5%9b%9e%e3%82%b3%e3%83%bc%e3%83%ad%e3%83%bb%e3%83%8a%e3%83%88%e3%82%a5%e3%83%a9%e3%83%bc%e3%83%ac-%e3%82%b3%e3%83%b3%e3%82%b5%e3%83%bc%e3%83%88/
LOCATION:コジマホールディングス西区民文化センターホール\, 西区横川新町6番1号\, 広島市\, 広島県\, 733-0013\, 日本
END:VEVENT
BEGIN:VEVENT
DTSTART;TZID=Asia/Tokyo:20211128T140000
DTEND;TZID=Asia/Tokyo:20211128T140000
DTSTAMP:20260425T224449
CREATED:20210420T154410Z
LAST-MODIFIED:20210517T160811Z
UID:943-1638108000-1638108000@hiroshima-jca.org
SUMMARY:尾道コールあい・歌の島混声合唱団Thanksgivingコンサート
DESCRIPTION:尾道コールあいは結成４０年、歌の島混声合唱団は結成３０年を迎え、尾道市民他の皆様に愛されるコーラス団体として、心に響く演奏のため日々練習を重ねている。合唱を通じて音楽の楽しみを伝え、地域文化の向上を目指すため、標記の演奏会を主催する。 \n指揮者　　：宗盛ユキミ\nピアニスト　：仲谷沙弥香\n演奏曲目　：\nルロイアンダーソン 「タイプライター」他　マドリガル「Come Again」他\n女声合唱曲「尾道の詩」\n混声合唱組曲「心の四季」より「風が」他\nその他　混声合唱組曲　さだまさし「「無縁坂」　等
URL:https://hiroshima-jca.org/event/%e5%b0%be%e9%81%93%e3%82%b3%e3%83%bc%e3%83%ab%e3%81%82%e3%81%84%e3%83%bb%e6%ad%8c%e3%81%ae%e5%b3%b6%e6%b7%b7%e5%a3%b0%e5%90%88%e5%94%b1%e5%9b%a3thanksgiving%e3%82%b3%e3%83%b3%e3%82%b5%e3%83%bc/
LOCATION:しまなみ交流館　テアトロシェルネ\, 東御所町10－1\, 尾道市\, 広島県\, 722-0036\, 日本
END:VEVENT
BEGIN:VEVENT
DTSTART;TZID=Asia/Tokyo:20211212T150000
DTEND;TZID=Asia/Tokyo:20211212T163000
DTSTAMP:20260425T224449
CREATED:20211110T133622Z
LAST-MODIFIED:20211128T170152Z
UID:1232-1639321200-1639326600@hiroshima-jca.org
SUMMARY:コール・ビビッド 8th concert
DESCRIPTION:指揮：福原 泰弘
URL:https://hiroshima-jca.org/event/%e3%82%b3%e3%83%bc%e3%83%ab%e3%83%bb%e3%83%93%e3%83%93%e3%83%83%e3%83%89-8th-concert/
LOCATION:日本キリスト教団 広島流川教会\, 中区上幟町8-30\, 広島市\, 広島県\, 730-0014\, 日本
END:VEVENT
BEGIN:VEVENT
DTSTART;TZID=Asia/Tokyo:20220116T100000
DTEND;TZID=Asia/Tokyo:20220116T190000
DTSTAMP:20260425T224449
CREATED:20211209T161126Z
LAST-MODIFIED:20211210T092641Z
UID:1255-1642327200-1642359600@hiroshima-jca.org
SUMMARY:第16回ヴォーカル・アンサンブル・コンテスト in ひろしま
DESCRIPTION:16thVECチラシ
URL:https://hiroshima-jca.org/event/%e7%ac%ac16%e5%9b%9e%e3%83%b4%e3%82%a9%e3%83%bc%e3%82%ab%e3%83%ab%e3%83%bb%e3%82%a2%e3%83%b3%e3%82%b5%e3%83%b3%e3%83%96%e3%83%ab%e3%83%bb%e3%82%b3%e3%83%b3%e3%83%86%e3%82%b9%e3%83%88-in-%e3%81%b2/
LOCATION:エリザベト音楽大学セシリアホール\, 中区幟町4番15号\, 広島市\, 広島県\, 730-0016\, 日本
END:VEVENT
BEGIN:VEVENT
DTSTART;TZID=Asia/Tokyo:20220205T133000
DTEND;TZID=Asia/Tokyo:20220206T162000
DTSTAMP:20260425T224449
CREATED:20211209T161955Z
LAST-MODIFIED:20220119T155804Z
UID:1257-1644067800-1644164400@hiroshima-jca.org
SUMMARY:2021年度合唱講習会～一部を除きオンデマンド配信（事前収録による配信）に変更します～
DESCRIPTION:広島県の感染状況の悪化を受け、急遽ではございますが指導者講習会②(実践編)以外を中止し、オンデマンド配信へ変更いたします。受講を楽しみにされていた方々には大変残念ではありますが、是非ともオンデマンド配信にお申し込みいただき、自宅に居ながらでも楽しんでいただけたらと思っております。オンデマンド配信の受講詳細ついては、近日中に改めてご案内いたしますので、多くの皆様のご参加をお待ちしております。 \n※中止\n・コーラスクリニック\n※配信へ変更\n・合唱講習会\n・指導者講習会①（基礎編）\n※実施（聴講については配信での実施となります）\n・指導者講習会②（実践編）
URL:https://hiroshima-jca.org/event/2021%e5%b9%b4%e5%ba%a6%e5%90%88%e5%94%b1%e8%ac%9b%e7%bf%92%e4%bc%9a%ef%bd%9e%e5%90%88%e5%94%b1%e3%81%86%e3%81%9f%e9%9b%86%e4%b8%ad%ef%bc%81%e3%80%8c%e3%81%9c%e3%82%93%e3%81%b6%e3%80%8d%e3%81%ae/
LOCATION:ＪＭＳアステールプラザ\, 中区加古町４番１７号\, 広島市\, 広島県\, 7300812\, 日本
END:VEVENT
BEGIN:VEVENT
DTSTART;TZID=Asia/Tokyo:20220306T140000
DTEND;TZID=Asia/Tokyo:20220306T140000
DTSTAMP:20260425T224449
CREATED:20220104T124540Z
LAST-MODIFIED:20220104T124540Z
UID:1291-1646575200-1646575200@hiroshima-jca.org
SUMMARY:広島カントライ第8回定期演奏会
DESCRIPTION:1.　S.バッハ作曲　モテット　“イエスよ、わが喜び” BWV227\n指揮/寺沢　希\nコンサートマスター/高和　雅、コントラバス/飛田勇治、\nチェロ/末永幸子、オルガン/梶矢民子 \n2.　メンデルスゾーン作曲　詩篇42番“谷川の流れを鹿が慕うがごとく” op.42\n指揮/寺沢　希\nピアノ/平野　満 \n他
URL:https://hiroshima-jca.org/event/%e5%ba%83%e5%b3%b6%e3%82%ab%e3%83%b3%e3%83%88%e3%83%a9%e3%82%a4%e7%ac%ac8%e5%9b%9e%e5%ae%9a%e6%9c%9f%e6%bc%94%e5%a5%8f%e4%bc%9a/
LOCATION:マエダハウジング安佐南区民文化センター ホール\, 安佐南区中筋一丁目22番17号\, 広島市\, 広島県\, 731-0122\, 日本
END:VEVENT
BEGIN:VEVENT
DTSTART;TZID=Asia/Tokyo:20220313T150000
DTEND;TZID=Asia/Tokyo:20220313T150000
DTSTAMP:20260425T224449
CREATED:20211116T150921Z
LAST-MODIFIED:20211116T150921Z
UID:1241-1647183600-1647183600@hiroshima-jca.org
SUMMARY:合唱団ぽっきりコンサートXⅢ
DESCRIPTION:【第1ステージ】\n「木とともに人とともに」 作詩:谷川俊太郎 作曲:三善晃\n【第2ステージ】\n「テイオの夜の旅」 作詩:池澤夏樹 作曲:木下牧子\n【第3ステージ】\n「幸せについて(新曲委嘱初演)」作詩:谷川俊太郎 作曲:萩京子 \n指揮:縄裕次郎\nピアノ:小林知世(第1、第2ステージ)　萩京子(第3ステージ)\n演奏:合唱団ぱっきり\n入場料：一般1\,500円　大学生1\,000円　高校生以下入場料無料
URL:https://hiroshima-jca.org/event/%e5%90%88%e5%94%b1%e5%9b%a3%e3%81%bd%e3%81%a3%e3%81%8d%e3%82%8a%e3%82%b3%e3%83%b3%e3%82%b5%e3%83%bc%e3%83%88x%e2%85%b2/
LOCATION:コジマホールディングス西区民文化センターホール\, 西区横川新町6番1号\, 広島市\, 広島県\, 733-0013\, 日本
END:VEVENT
BEGIN:VEVENT
DTSTART;TZID=Asia/Tokyo:20220321T143000
DTEND;TZID=Asia/Tokyo:20220321T143000
DTSTAMP:20260425T224449
CREATED:20220208T134242Z
LAST-MODIFIED:20220208T134242Z
UID:1342-1647873000-1647873000@hiroshima-jca.org
SUMMARY:第55回 広島中央合唱団 定期演奏会
DESCRIPTION:メンデルスゾーンオラトリオ「エリアス」Op.70全曲 \nソプラノ　小林良子　昆野智佳子　山口水蛍\nアルト　佐々木有紀　吉原未来\nテノール　田尻健\nバス　折河宏治　今田陽次\n広島中央「エリアス」オーケストラ　コンサートマスター　上野真樹\nステージマネージヤー　荻原忠浩\n指揮　寺沢 希\n \n新型コロナ感染防止硼観点により、以下の通りご協力をお願いします。\nチケツトの半券に、お名前と連絡のつく電話番号をご記入ください。\nご記入いただきました個人情報は、保健所など公的機関から要請があつた場合提出しますことをご了承ください。\n当団で管理し、それ以外の目的では使用いたしません。\n体調のすぐれない方、体温が37.5度以上の方は入場をご遠慮ください。手指消毒、マスク着用ご協力ください。\n合唱団、出演者へのプレゼント、お花はご遠慮ください。\n問い合わせ080‐ 3888-7196(野間)
URL:https://hiroshima-jca.org/event/%e7%ac%ac55%e5%9b%9e-%e5%ba%83%e5%b3%b6%e4%b8%ad%e5%a4%ae%e5%90%88%e5%94%b1%e5%9b%a3-%e5%ae%9a%e6%9c%9f%e6%bc%94%e5%a5%8f%e4%bc%9a/
LOCATION:はつかいち文化ホール　ウッドワンさくらぴあ　大ホール\, 下平良一丁目11-1\, 廿日市市\, 広島県\, 738-0023\, 日本
END:VEVENT
BEGIN:VEVENT
DTSTART;TZID=Asia/Tokyo:20220410T140000
DTEND;TZID=Asia/Tokyo:20220410T140000
DTSTAMP:20260425T224449
CREATED:20211110T133205Z
LAST-MODIFIED:20211110T133859Z
UID:1230-1649599200-1649599200@hiroshima-jca.org
SUMMARY:コーラスりんどう創立40周年記念演奏会
DESCRIPTION:
URL:https://hiroshima-jca.org/event/%e3%82%b3%e3%83%bc%e3%83%a9%e3%82%b9%e3%82%8a%e3%82%93%e3%81%a9%e3%81%86%e5%89%b5%e7%ab%8b40%e5%91%a8%e5%b9%b4%e8%a8%98%e5%bf%b5%e6%bc%94%e5%a5%8f%e4%bc%9a/
LOCATION:広島県民文化センター ホール\, 中区大手町1丁目5-3\, 広島市\, 広島県\, 730-0051\, 日本
END:VEVENT
BEGIN:VEVENT
DTSTART;TZID=Asia/Tokyo:20220417T140000
DTEND;TZID=Asia/Tokyo:20220417T160000
DTSTAMP:20260425T224449
CREATED:20220417T022148Z
LAST-MODIFIED:20220417T022148Z
UID:1503-1650204000-1650211200@hiroshima-jca.org
SUMMARY:広島県合唱連盟2022年度総会
DESCRIPTION:
URL:https://hiroshima-jca.org/event/%e5%ba%83%e5%b3%b6%e7%9c%8c%e5%90%88%e5%94%b1%e9%80%a3%e7%9b%9f2022%e5%b9%b4%e5%ba%a6%e7%b7%8f%e4%bc%9a/
LOCATION:ＲＣＣ文化センター\, 中区橋本町５番１１号\, 広島市\, 広島県\, 730-0015\, 日本
END:VEVENT
BEGIN:VEVENT
DTSTART;TZID=Asia/Tokyo:20220423T183000
DTEND;TZID=Asia/Tokyo:20220423T183000
DTSTAMP:20260425T224449
CREATED:20220104T133532Z
LAST-MODIFIED:20220104T134408Z
UID:1301-1650738600-1650738600@hiroshima-jca.org
SUMMARY:ヴォーカルアンサンブル凜　4th　コンサート
DESCRIPTION:指揮者　福原　泰弘\nピアノ　占部　久美子\n団員　22名　3ステージ構成の演奏会 \n1ステージ：「にじのうた」　工藤直子　作詞/三宅悠太　作曲　他\n2ステージ：無伴奏女声合唱のための「リフレイン」　覚和歌子　詩/信長貴富　作曲\n「合唱」女声三部　版　谷川俊太郎　作詩/信長貴富　作曲　他\n3ステージ：女声合唱曲集　「街路灯」　北岡淳子　詩/三善晃　作曲
URL:https://hiroshima-jca.org/event/%e3%83%b4%e3%82%a9%e3%83%bc%e3%82%ab%e3%83%ab%e3%82%a2%e3%83%b3%e3%82%b5%e3%83%b3%e3%83%96%e3%83%ab%e5%87%9c%e3%80%804th%e3%80%80%e3%82%b3%e3%83%b3%e3%82%b5%e3%83%bc%e3%83%88/
LOCATION:コジマホールディングス西区民文化センターホール\, 西区横川新町6番1号\, 広島市\, 広島県\, 733-0013\, 日本
END:VEVENT
BEGIN:VEVENT
DTSTART;TZID=Asia/Tokyo:20220429T140000
DTEND;TZID=Asia/Tokyo:20220429T140000
DTSTAMP:20260425T224449
CREATED:20220209T145441Z
LAST-MODIFIED:20220209T145441Z
UID:1347-1651240800-1651240800@hiroshima-jca.org
SUMMARY:東広島児童合唱団 第40回 定期演奏会
DESCRIPTION:１ステ(私たちの愛唱曲)\n「小さな四季」\n「虫の絵本」\nPraise His Holy Name\n涙そうそう\nアンパンマンのマーチ　　他 \n２ステ(ミュージカル)・・・「メリー・ポピンズ」\nチムチムチェリー\nスーパーカリフラジリスティックエクスピアリドーシャス\nお砂糖ひとさじで\n楽しい休日\nタコをあげよう　　　他 \n指揮　仙立美香\nピアノ　前川智子
URL:https://hiroshima-jca.org/event/%e6%9d%b1%e5%ba%83%e5%b3%b6%e5%85%90%e7%ab%a5%e5%90%88%e5%94%b1%e5%9b%a3-%e7%ac%ac40%e5%9b%9e-%e5%ae%9a%e6%9c%9f%e6%bc%94%e5%a5%8f%e4%bc%9a/
LOCATION:広島大学サタケメモリアルホール\, 鏡山一丁目2-2\, 東広島市\, 広島県\, 7390046\, 日本
END:VEVENT
BEGIN:VEVENT
DTSTART;TZID=Asia/Tokyo:20220508T110000
DTEND;TZID=Asia/Tokyo:20220508T170000
DTSTAMP:20260425T224449
CREATED:20220430T025515Z
LAST-MODIFIED:20220430T034636Z
UID:1528-1652007600-1652029200@hiroshima-jca.org
SUMMARY:春の♪街角コーラスふぇすた2022
DESCRIPTION:
URL:https://hiroshima-jca.org/event/%e6%98%a5%e3%81%ae%e2%99%aa%e8%a1%97%e8%a7%92%e3%82%b3%e3%83%bc%e3%83%a9%e3%82%b9%e3%81%b5%e3%81%87%e3%81%99%e3%81%9f/
LOCATION:広島駅南口地下広場（イベント会場）\, 南区松原町9-1\, 広島市\, 広島県\, 732-0822\, 日本
END:VEVENT
BEGIN:VEVENT
DTSTART;TZID=Asia/Tokyo:20220522T133000
DTEND;TZID=Asia/Tokyo:20220522T133000
DTSTAMP:20260425T224449
CREATED:20220322T162931Z
LAST-MODIFIED:20220322T162931Z
UID:1446-1653226200-1653226200@hiroshima-jca.org
SUMMARY:廿日市混声合唱団　結成30周年記念コンサート
DESCRIPTION:指揮／佐伯 康則　　　ピアノ／植田 志乃　　　合唱／廿日市混声合唱団\n演奏ステージ 3部構成\n演奏予定曲\n第1部　\n　・きみ歌えよ　・夏の思い出　・栄光の架橋　・花は咲く　他　計8曲\n第2部　\n　・時の旅人　・手紙　・親しらず子しらず　・奇跡　他　計6曲\n第3部　混声合唱組曲「心の四季」　全7曲\n　・風が ・みずすまし ・流れ ・山が ・愛そして風　他　計7曲　
URL:https://hiroshima-jca.org/event/%e5%bb%bf%e6%97%a5%e5%b8%82%e6%b7%b7%e5%a3%b0%e5%90%88%e5%94%b1%e5%9b%a3%e3%80%80%e7%b5%90%e6%88%9030%e5%91%a8%e5%b9%b4%e8%a8%98%e5%bf%b5%e3%82%b3%e3%83%b3%e3%82%b5%e3%83%bc%e3%83%88/
LOCATION:はつかいち文化ホール　ウッドワンさくらぴあ　大ホール\, 下平良一丁目11-1\, 廿日市市\, 広島県\, 738-0023\, 日本
END:VEVENT
BEGIN:VEVENT
DTSTART;TZID=Asia/Tokyo:20220619T150000
DTEND;TZID=Asia/Tokyo:20220619T150000
DTSTAMP:20260425T224449
CREATED:20220322T162342Z
LAST-MODIFIED:20220322T162342Z
UID:1441-1655650800-1655650800@hiroshima-jca.org
SUMMARY:合唱団ある 第35回定期演奏会　合唱指揮者清水敬一を迎えて
DESCRIPTION:Ⅰ. 石垣りんの詩による五つの混声合唱曲『朝のパン』\n　　　詩 石垣 りん　曲 萩 京子\n　　　　　指揮 福原 泰弘　ピアノ 占部 久美子 \nⅡ. 現代の宗教合唱曲\n　　O Emmanuel（曲 Andrej Makor）\n　　Dominus Vobiscum（曲 Sydney Guillaume）\n　　Caelos ascendit hodie（曲 Owain Park）\n　　O Magnum Mysterium（曲 Chris Artley）\n　　　　　指揮 福原 泰弘 \nⅢ. 『Un soir de neige』（雪の夜）\n　　　詩 Paul Eluard　曲 Francis Pouleng\n　　　　　指揮 清水 敬一 \nⅣ. 合唱組曲 『五つの童画』\n　　　詩 高田 敏子　曲 三善 晃\n　　　　　指揮 清水 敬一　ピアノ 清水 史
URL:https://hiroshima-jca.org/event/%e5%90%88%e5%94%b1%e5%9b%a3%e3%81%82%e3%82%8b-%e7%ac%ac35%e5%9b%9e%e5%ae%9a%e6%9c%9f%e6%bc%94%e5%a5%8f%e4%bc%9a%e3%80%80%e5%90%88%e5%94%b1%e6%8c%87%e6%8f%ae%e8%80%85%e6%b8%85%e6%b0%b4%e6%95%ac/
LOCATION:JMSアステールプラザ　大ホール\, 中区加古町4番17号\, 広島市\, 広島県\, 730-0812\, 日本
END:VEVENT
BEGIN:VEVENT
DTSTART;TZID=Asia/Tokyo:20220710T140000
DTEND;TZID=Asia/Tokyo:20220710T140000
DTSTAMP:20260425T224449
CREATED:20220609T120726Z
LAST-MODIFIED:20220610T114126Z
UID:1596-1657461600-1657461600@hiroshima-jca.org
SUMMARY:広島メンネルコール第51回定期演奏会
DESCRIPTION:■三善晃編曲「唱歌の四季」\n■多田武彦作曲「追憶の窓」\n■メンネルあの歌この歌2022　　グリークラブアルバムCLASSICより\n■佐藤眞作曲　男声合唱のためのカンタータ「土の歌」 \n指揮：寺沢　希
URL:https://hiroshima-jca.org/event/%e5%ba%83%e5%b3%b6%e3%83%a1%e3%83%b3%e3%83%8d%e3%83%ab%e3%82%b3%e3%83%bc%e3%83%ab%e7%ac%ac51%e5%9b%9e%e5%ae%9a%e6%9c%9f%e6%bc%94%e5%a5%8f%e4%bc%9a/
LOCATION:JMSアステールプラザ　大ホール\, 中区加古町4番17号\, 広島市\, 広島県\, 730-0812\, 日本
END:VEVENT
BEGIN:VEVENT
DTSTART;TZID=Asia/Tokyo:20220807T100000
DTEND;TZID=Asia/Tokyo:20220807T180000
DTSTAMP:20260425T224449
CREATED:20220727T162227Z
LAST-MODIFIED:20220727T170131Z
UID:1656-1659866400-1659895200@hiroshima-jca.org
SUMMARY:第61回広島県合唱コンクール
DESCRIPTION:
URL:https://hiroshima-jca.org/event/%e7%ac%ac61%e5%9b%9e%e5%ba%83%e5%b3%b6%e7%9c%8c%e5%90%88%e5%94%b1%e3%82%b3%e3%83%b3%e3%82%af%e3%83%bc%e3%83%ab/
LOCATION:マエダハウジング安佐南区民文化センター ホール\, 安佐南区中筋一丁目22番17号\, 広島市\, 広島県\, 731-0122\, 日本
END:VEVENT
BEGIN:VEVENT
DTSTART;TZID=Asia/Tokyo:20220811T140000
DTEND;TZID=Asia/Tokyo:20220811T140000
DTSTAMP:20260425T224449
CREATED:20220314T152851Z
LAST-MODIFIED:20220810T063828Z
UID:1425-1660226400-1660226400@hiroshima-jca.org
SUMMARY:【諸事情により延期となりました】フェミニンコール広島創立45年記念 第24回広島ジュニアコーラス・フェミニンコール広島定期演奏会
DESCRIPTION:ステージⅠ：星野富弘となかにしあかねの作品（フェミニンコール広島）\n風の旅・女声合唱組曲「時を友として」\nステージⅡ：三宅悠太と信長貴富の作品から（広島ジュニアコーラス）\nはるがきた・夜のにおい・ぼくはぼく・きみ歌えよ・群青・未来へ\nステージⅢ：作曲家　糀場富美子の作品から（フェミニン＆ジュニア）\n歌をあなたに・おひさまこんにちは・蛙のケロちゃん・電話・広島かぞえうた\nあまんじゃく・とうかさん・とうろう流し・老いの秋に・冬の庭にて　他\n指揮：谷千鶴子・奥田聡子\nピアノ：伊藤恵里子・加島裕子・桐原祐子・上田希美\nソプラノ：松岡由希子　メゾソプラノ：奥田聡子　ソプラノ：岡田美奈子\n入場料 前売り：一般900円　高校生以下600円（前売りのみ）　当日：999円
URL:https://hiroshima-jca.org/event/%e3%83%95%e3%82%a7%e3%83%9f%e3%83%8b%e3%83%b3%e3%82%b3%e3%83%bc%e3%83%ab%e5%ba%83%e5%b3%b6%e5%89%b5%e7%ab%8b45%e5%b9%b4%e8%a8%98%e5%bf%b5-%e7%ac%ac24%e5%9b%9e%e5%ba%83%e5%b3%b6%e3%82%b8%e3%83%a5/
LOCATION:マエダハウジング安佐南区民文化センター ホール\, 安佐南区中筋一丁目22番17号\, 広島市\, 広島県\, 731-0122\, 日本
END:VEVENT
BEGIN:VEVENT
DTSTART;TZID=Asia/Tokyo:20220910T140000
DTEND;TZID=Asia/Tokyo:20220910T163000
DTSTAMP:20260425T224449
CREATED:20220727T160240Z
LAST-MODIFIED:20220831T092803Z
UID:1649-1662818400-1662827400@hiroshima-jca.org
SUMMARY:【中止】広島ベルカント男声合唱団 第2回独唱演奏会
DESCRIPTION:都合により一旦中止します。延期時期等未定 \n団員と指導者による独唱と合唱のコンサートです。当団では歌唱方向上のため、団員は独唱曲の練習にも取り組んでおり、その成果を発表します。合唱曲も演奏します。\n指揮：内田 陽一郎・山本 定男\nピアノ：迫 千月
URL:https://hiroshima-jca.org/event/%e5%ba%83%e5%b3%b6%e3%83%99%e3%83%ab%e3%82%ab%e3%83%b3%e3%83%88%e7%94%b7%e5%a3%b0%e5%90%88%e5%94%b1%e5%9b%a3-%e7%ac%ac2%e5%9b%9e%e7%8b%ac%e5%94%b1%e6%bc%94%e5%a5%8f%e4%bc%9a/
LOCATION:広島市南区民文化センター スタジオ\, 南区比治山本町１６番２７号\, 広島市\, 広島県\, 732-0816
END:VEVENT
END:VCALENDAR