BEGIN:VCALENDAR
VERSION:2.0
PRODID:-//広島県合唱連盟 - ECPv6.15.20//NONSGML v1.0//EN
CALSCALE:GREGORIAN
METHOD:PUBLISH
X-WR-CALNAME:広島県合唱連盟
X-ORIGINAL-URL:https://hiroshima-jca.org
X-WR-CALDESC:広島県合唱連盟 のイベント
REFRESH-INTERVAL;VALUE=DURATION:PT1H
X-Robots-Tag:noindex
X-PUBLISHED-TTL:PT1H
BEGIN:VTIMEZONE
TZID:Asia/Tokyo
BEGIN:STANDARD
TZOFFSETFROM:+0900
TZOFFSETTO:+0900
TZNAME:JST
DTSTART:20240101T000000
END:STANDARD
END:VTIMEZONE
BEGIN:VEVENT
DTSTART;TZID=Asia/Tokyo:20251129T170000
DTEND;TZID=Asia/Tokyo:20251129T183000
DTSTAMP:20260422T085622
CREATED:20250901T113600Z
LAST-MODIFIED:20250901T113600Z
UID:3267-1764435600-1764441000@hiroshima-jca.org
SUMMARY:広島市役所合唱団 第31回定期演奏会
DESCRIPTION:指揮：岡村 要 ピアノ：竹本 順子\n【曲目】\n男声合唱組曲「中勘助の詩から」（多田武彦作曲）\n男声合唱のための「三つのマリアの歌」（周藤諭作曲）\n「昭和100年に寄せて」\n東京行進曲、地上の星、平和という果実 ほか \n賛助出演：コール・ビビッド\n指揮：福原 泰弘 ピアノ 占部 久美子\nこどものための合唱曲集「光のとおりみち」より（三善晃作曲）\n無伴奏女声合唱組曲「光の丘のうた」より（なかにしあかね作曲）
URL:https://hiroshima-jca.org/event/%e5%ba%83%e5%b3%b6%e5%b8%82%e5%bd%b9%e6%89%80%e5%90%88%e5%94%b1%e5%9b%a3-%e7%ac%ac31%e5%9b%9e%e5%ae%9a%e6%9c%9f%e6%bc%94%e5%a5%8f%e4%bc%9a/
LOCATION:日本キリスト教団 広島流川教会\, 中区上幟町8-30\, 広島市\, 広島県\, 730-0014\, 日本
END:VEVENT
BEGIN:VEVENT
DTSTART;TZID=Asia/Tokyo:20251116T140000
DTEND;TZID=Asia/Tokyo:20251116T163000
DTSTAMP:20260422T085622
CREATED:20250527T105916Z
LAST-MODIFIED:20250911T135354Z
UID:3161-1763301600-1763310600@hiroshima-jca.org
SUMMARY:東広島混声合唱団 第43回 定期演奏会
DESCRIPTION:指　揮　光橋 紀子\nピアノ　伊藤 恵里子 \n【主な演奏曲】 \n児童・混声合唱とピアノのための組曲\nウミガメの唄 \nFar Away  (彼方の光) \nアイノカタチ\nfeat.HIDE (GReeeN) \n武蔵野の雨 \n【特別出演】\n東広島市立吉川小学校　６年生\n地球星歌〜笑顔のために〜 \nかさなる声にプロジェクト2025\nリフレイン【弦楽合奏版】\nアオギリのうた
URL:https://hiroshima-jca.org/event/%e6%9d%b1%e5%ba%83%e5%b3%b6%e6%b7%b7%e5%a3%b0%e5%90%88%e5%94%b1%e5%9b%a3-%e7%ac%ac43%e5%9b%9e-%e5%ae%9a%e6%9c%9f%e6%bc%94%e5%a5%8f%e4%bc%9a/
LOCATION:東広島芸術文化ホールくらら 大ホール\, 西条栄町７番１９号\, 東広島市\, 広島県\, 7390015\, 日本
END:VEVENT
BEGIN:VEVENT
DTSTART;TZID=Asia/Tokyo:20251109T150000
DTEND;TZID=Asia/Tokyo:20251109T170000
DTSTAMP:20260422T085622
CREATED:20250302T031004Z
LAST-MODIFIED:20250302T031004Z
UID:3016-1762700400-1762707600@hiroshima-jca.org
SUMMARY:レディースコーラス虹40周年記念コンサート
DESCRIPTION:指揮者：土井範江 \nステージは3部構成 \n1部：女声合唱組曲心が愛にふるえるとき\n2部：ゲスト（我龍）\n3部：虹オリジナルステージ
URL:https://hiroshima-jca.org/event/%e3%83%ac%e3%83%87%e3%82%a3%e3%83%bc%e3%82%b9%e3%82%b3%e3%83%bc%e3%83%a9%e3%82%b9%e8%99%b940%e5%91%a8%e5%b9%b4%e8%a8%98%e5%bf%b5%e3%82%b3%e3%83%b3%e3%82%b5%e3%83%bc%e3%83%88/
LOCATION:広島県民文化センターふくやま ホール\, 東桜町1-21\, 福山市\, 広島県\, 720-8519\, Japan
END:VEVENT
BEGIN:VEVENT
DTSTART;TZID=Asia/Tokyo:20251019T104500
DTEND;TZID=Asia/Tokyo:20251019T190500
DTSTAMP:20260422T085622
CREATED:20251007T155225Z
LAST-MODIFIED:20251007T155225Z
UID:3411-1760870700-1760900700@hiroshima-jca.org
SUMMARY:広島県合唱フェスティバル2025
DESCRIPTION:入場料　前売券 800円　当日券 中学生以上999円／小学生以下500円
URL:https://hiroshima-jca.org/event/%e5%ba%83%e5%b3%b6%e7%9c%8c%e5%90%88%e5%94%b1%e3%83%95%e3%82%a7%e3%82%b9%e3%83%86%e3%82%a3%e3%83%90%e3%83%ab2025/
LOCATION:コジマホールディングス西区民文化センターホール\, 西区横川新町6番1号\, 広島市\, 広島県\, 733-0013\, 日本
END:VEVENT
BEGIN:VEVENT
DTSTART;TZID=Asia/Tokyo:20251011T140000
DTEND;TZID=Asia/Tokyo:20251011T160000
DTSTAMP:20260422T085622
CREATED:20250831T032758Z
LAST-MODIFIED:20250831T032758Z
UID:3264-1760191200-1760198400@hiroshima-jca.org
SUMMARY:第4回独唱演奏会（広島ベルカント男声合唱団）
DESCRIPTION:当団は団員個人個人の歌唱力向上のため、独唱歌唱を取り入れている。\n今回、第4回目の発表会を行う。 \n（指揮者・指導者　内田陽一郎、　山本定男）
URL:https://hiroshima-jca.org/event/%e7%ac%ac4%e5%9b%9e%e7%8b%ac%e5%94%b1%e6%bc%94%e5%a5%8f%e4%bc%9a%ef%bc%88%e5%ba%83%e5%b3%b6%e3%83%99%e3%83%ab%e3%82%ab%e3%83%b3%e3%83%88%e7%94%b7%e5%a3%b0%e5%90%88%e5%94%b1%e5%9b%a3%ef%bc%89/
LOCATION:コジマホールディングス西区民文化センター スタジオ\, 西区横川新町６番１号\, 広島市\, 広島県\, 7330013\, 日本
END:VEVENT
BEGIN:VEVENT
DTSTART;TZID=Asia/Tokyo:20251005T140000
DTEND;TZID=Asia/Tokyo:20251005T160000
DTSTAMP:20260422T085622
CREATED:20250416T154214Z
LAST-MODIFIED:20250416T154259Z
UID:3079-1759672800-1759680000@hiroshima-jca.org
SUMMARY:第１２回　三原市民合唱団演奏会
DESCRIPTION:指揮者　大村善博　ピアニスト　鈴木理恵 \n第一ステージ\n混声合唱のための　ホームソングメドレー１《イギリス編・日本編1》 \n第二ステージ\n尾道混声合唱団コールクレイン賛助出演　　『月光とピエロ』　ほか \n第三ステージ　『アラカルト』\n宗教曲等（J.S.Bach.  Mozart\, ）\n夢みたものは（木下牧子）　風が（高田三郎）　草原の別れ（大中恩）ほか \n第四ステージ\n『みやこわすれ』　千原英喜
URL:https://hiroshima-jca.org/event/%e7%ac%ac%ef%bc%91%ef%bc%92%e5%9b%9e%e3%80%80%e4%b8%89%e5%8e%9f%e5%b8%82%e6%b0%91%e5%90%88%e5%94%b1%e5%9b%a3%e6%bc%94%e5%a5%8f%e4%bc%9a/
LOCATION:本郷生涯学習センター　にいたかホール\, 本郷南６丁目２５番１号\, 三原市\, 広島県\, 729-0417\, Japan
ORGANIZER;CN="%E4%B8%89%E5%8E%9F%E5%B8%82%E6%B0%91%E5%90%88%E5%94%B1%E5%9B%A3":MAILTO:ohga815@yahoo.co.jp
END:VEVENT
BEGIN:VEVENT
DTSTART;TZID=Asia/Tokyo:20250921T100000
DTEND;TZID=Asia/Tokyo:20250921T190000
DTSTAMP:20260422T085622
CREATED:20250904T114114Z
LAST-MODIFIED:20250917T134113Z
UID:3277-1758448800-1758481200@hiroshima-jca.org
SUMMARY:第64回中国合唱コンクール（2日目）
DESCRIPTION:出演順（2日目）\nステージ進行表はこちら \n\n中学生部門\n《混声合唱の部》10:00～11:03\n山口大学教育学部附属山口中学校合唱団　（山口）\n広島なぎさ中学校合唱部　（広島）\n島根大学教育学部附属義務教育学校コーラス部　（島根）\n三朝町立三朝中学校合唱部　（鳥取）\n山口市立川西中学校有志合唱団　（山口）\n山口大学教育学部附属光義務教育学校後期課程有志合唱団　（山口）\n出雲市立斐川西中学校合唱部　（島根） \n《同声合唱の部》11:18～12:30\n総社市立総社西中学校コーラス部　（岡山）\n総社市立総社東中学校合唱部グリー　（岡山）\n津和野町立津和野中学校合唱部　（島根）\n広島女学院中学校合唱部　（広島）\n出雲市立平田中学校女声合唱団　（島根）\n翔英学園米子北斗中学校音楽部　（鳥取）\n出雲市立第一中学校合唱部　（島根）\n安田学園安田女子中学校合唱部　（広島） \n\n大学職場一般部門\n《室内合唱の部》13:50～15:34\n女声合唱団のはら　（広島）\n合唱団こさじ　（鳥取）\n倉敷少年少女合唱団　（岡山）\nOHISAMA NOTE　（岡山）\n米子北斗メグレス合唱団　（鳥取）\nJ-dur　（岡山）\n山陰合同銀行混声合唱団　（島根）\nFiore Hagi　（山口） \n《同声合唱の部》15:54～16:33\n女声合唱団フィオーリ　（島根）\nMen’s Vocal Ensemble “寺漢”　（広島）\n女声合唱ふみコール　（山口） \n《混声合唱の部》16:38～17:43\n合唱団そうなそ（山口）\n浜田市民合唱団　（島根）\nChor Polaris　（島根）\n合唱団ぽっきり　（広島）\n合唱団こぶ　（岡山）
URL:https://hiroshima-jca.org/event/%e7%ac%ac64%e5%9b%9e%e4%b8%ad%e5%9b%bd%e5%90%88%e5%94%b1%e3%82%b3%e3%83%b3%e3%82%af%e3%83%bc%e3%83%ab%ef%bc%882%e6%97%a5%e7%9b%ae%ef%bc%89/
LOCATION:JMSアステールプラザ　大ホール\, 中区加古町4番17号\, 広島市\, 広島県\, 730-0812\, 日本
END:VEVENT
BEGIN:VEVENT
DTSTART;TZID=Asia/Tokyo:20250920T103000
DTEND;TZID=Asia/Tokyo:20250920T173000
DTSTAMP:20260422T085622
CREATED:20250904T114139Z
LAST-MODIFIED:20250917T133832Z
UID:3274-1758364200-1758389400@hiroshima-jca.org
SUMMARY:第64回中国合唱コンクール（1日目）
DESCRIPTION:出演順（1日目）\nステージ進行表はこちら \n\n高等学校部門\n《Aグループ》10:30～13:30\n野田学園高等学校合唱部　（山口）\n島根県立大社高等学校合唱部　（島根）\nノートルダム清心高等学校合唱部　（広島）\n鳥取県立鳥取西高等学校合唱部　（鳥取）\n崇徳中学高等学校グリークラブ　（広島）\n島根県立出雲高等学校コーラス部　（島根）\n山口県立山口高等学校合唱部　（山口）\n呉港高等学校クワイア　（広島）\n創志学園高等学校合唱部　（岡山）\n島根県立松江北高等学校合唱部　（島根）\n鳥取県立米子東高等学校合唱部　（鳥取）\n岡山学芸館合唱部　（岡山）\n山口県立萩高等学校合唱部　（山口）\n出雲北陵中学・高等学校合唱部　（島根）\n安田学園安田女子高等学校音楽部　（広島） \n《Bグループ》13:33～13:44\n岡山県立岡山城東高等学校合唱部　（岡山） \n\n大学職場一般部門\n《大学ユースの部》14:40～16:11\n島根大学混声合唱団　（島根）\n米子工業高等専門学校合唱部　（鳥取）\n岡山大学グリ－クラブ　（岡山）\nトゥジュール・アンサンブル・KUMANO　（山口）\n山口大学混声合唱団　（山口）\nChor Karmin　（鳥取）\n岡山大学男声合唱団コール・ロータス　（岡山）
URL:https://hiroshima-jca.org/event/%e7%ac%ac64%e5%9b%9e%e4%b8%ad%e5%9b%bd%e5%90%88%e5%94%b1%e3%82%b3%e3%83%b3%e3%82%af%e3%83%bc%e3%83%ab%ef%bc%881%e6%97%a5%e7%9b%ae%ef%bc%89/
LOCATION:JMSアステールプラザ　大ホール\, 中区加古町4番17号\, 広島市\, 広島県\, 730-0812\, 日本
END:VEVENT
BEGIN:VEVENT
DTSTART;TZID=Asia/Tokyo:20250913T140000
DTEND;TZID=Asia/Tokyo:20250913T160000
DTSTAMP:20260422T085622
CREATED:20250602T121749Z
LAST-MODIFIED:20250602T121749Z
UID:3170-1757772000-1757779200@hiroshima-jca.org
SUMMARY:広島メンネルコール　第54回定期演奏会
DESCRIPTION:・男声合唱組曲「雪と花火」　　　　指揮：寺沢　希 \n・男声合唱組曲「神様ありがとう」　指揮：寺沢　希 \n・「九ちゃんが歌ったうた」　　　　指揮：間宮　達夫 \n・創立70周年記念組曲　　　　　　指揮：寺沢　希
URL:https://hiroshima-jca.org/event/%e5%ba%83%e5%b3%b6%e3%83%a1%e3%83%b3%e3%83%8d%e3%83%ab%e3%82%b3%e3%83%bc%e3%83%ab%e3%80%80%e7%ac%ac54%e5%9b%9e%e5%ae%9a%e6%9c%9f%e6%bc%94%e5%a5%8f%e4%bc%9a/
LOCATION:JMSアステールプラザ　大ホール\, 中区加古町4番17号\, 広島市\, 広島県\, 730-0812\, 日本
END:VEVENT
BEGIN:VEVENT
DTSTART;TZID=Asia/Tokyo:20250831T140000
DTEND;TZID=Asia/Tokyo:20250831T163000
DTSTAMP:20260422T085622
CREATED:20250407T122902Z
LAST-MODIFIED:20250407T123149Z
UID:3073-1756648800-1756657800@hiroshima-jca.org
SUMMARY:呉混声合唱団 第50回定期演奏会
DESCRIPTION:プログラム /\n・委嘱初演作品~上田真樹 作曲~（第50回定期演奏会を記念して）\n・合唱で歌いたい「竹内まりや」「中島みゆき」の世界\n・50thアニバーサルステージ　～50回の歴史から名曲をもう一度～\n・合唱組曲「あめつちのうた」～児童合唱とともに～\n・賛助合唱団によるスペシャルステージ\n指揮 /　松尾　寿人\n賛助出演 /　呉ジュニアコーラスみらい　くまの・みらい合唱団　呉少年合唱団
URL:https://hiroshima-jca.org/event/%e5%91%89%e6%b7%b7%e5%a3%b0%e5%90%88%e5%94%b1%e5%9b%a3%e3%80%80%e7%ac%ac%ef%bc%95%ef%bc%90%e5%9b%9e%e3%80%80%e5%ae%9a%e6%9c%9f%e6%bc%94%e5%a5%8f%e4%bc%9a/
LOCATION:呉信用金庫ホール（呉市文化ホール）\, 広島県呉市中央3丁目10番1号\, 呉市\, 広島県\, 737-0051\, 日本
END:VEVENT
BEGIN:VEVENT
DTSTART;TZID=Asia/Tokyo:20250811T103000
DTEND;TZID=Asia/Tokyo:20250811T173000
DTSTAMP:20260422T085622
CREATED:20250802T030705Z
LAST-MODIFIED:20250802T030705Z
UID:3245-1754908200-1754933400@hiroshima-jca.org
SUMMARY:第64回広島県合唱コンクール
DESCRIPTION:出演順\n\n 	中学生部門\n\n 	鶴学園広島なぎさ中学校合唱部\n \n 	ノートルダム清心中学校音楽部\n \n 	安田学園安田女子中学校合唱部\n \n 	広島女学院中学校合唱部\n\n\n \n 	小学生部門\n\n 	広島市立牛田小学校合唱部\n \n 	広島市立吉島東小学校・広島市立中島小学校合唱クラブ\n\n\n \n 	高等学校部門\n\n 	ノートルダム清心高等学校合唱部\n \n 	広島女学院高等学校音楽部\n \n 	鶴学園広島なぎさ高等学校合唱部\n \n 	崇徳中学高等学校グリークラブ\n \n 	呉港高等学校クワイア\n \n 	安田学園安田女子高等学校音楽部\n \n 	比治山女子高等学校合唱部\n \n 	広島市立舟入高等学校音楽部\n\n\n \n 	大学職場一般部門\n\n 	合唱団うたがき\n \n 	女声合唱団のはら\n \n 	Men’s Vocal Ensemble“寺漢”\n \n 	合唱団ぽっきり\n \n 	合唱団ある
URL:https://hiroshima-jca.org/event/%e7%ac%ac64%e5%9b%9e%e5%ba%83%e5%b3%b6%e7%9c%8c%e5%90%88%e5%94%b1%e3%82%b3%e3%83%b3%e3%82%af%e3%83%bc%e3%83%ab/
LOCATION:マエダハウジング安佐南区民文化センター ホール\, 安佐南区中筋一丁目22番17号\, 広島市\, 広島県\, 731-0122\, 日本
END:VEVENT
BEGIN:VEVENT
DTSTART;TZID=Asia/Tokyo:20250706T140000
DTEND;TZID=Asia/Tokyo:20250706T154000
DTSTAMP:20260422T085622
CREATED:20250318T125905Z
LAST-MODIFIED:20250318T125905Z
UID:3025-1751810400-1751816400@hiroshima-jca.org
SUMMARY:広島中央合唱団 第58回定期演奏会
DESCRIPTION:Ⅰ\n１．相澤直人 ／ 混声三部とピアノのための「なんとなく・青空」から\n『なんとなく・青空』『みえない手紙』『あいたくて』\n２．鈴木憲夫 ／ 混声合唱曲「レモン哀歌」\n３．Will Todd ／ Jazz Missa Brevis より\nKyrie\, Gloria\, Sanctus\, Benedictus\, Agnus Dei \nⅡ\nI. Stravinsky -V. Gryaznov ／ Symphony of Psalms \nエンディング ソング\nI. Stravinsky ／ Pater Noster （Otche Nash）\n山崎朋子 ／ すべてのもの \n一般 900円　学生 500円
URL:https://hiroshima-jca.org/event/%e5%ba%83%e5%b3%b6%e4%b8%ad%e5%a4%ae%e5%90%88%e5%94%b1%e5%9b%a3-%e7%ac%ac58%e5%9b%9e%e5%ae%9a%e6%9c%9f%e6%bc%94%e5%a5%8f%e4%bc%9a/
LOCATION:はつかいち文化ホール　ウッドワンさくらぴあ　大ホール\, 下平良一丁目11-1\, 廿日市市\, 広島県\, 738-0023\, 日本
END:VEVENT
BEGIN:VEVENT
DTSTART;TZID=Asia/Tokyo:20250622T110000
DTEND;TZID=Asia/Tokyo:20250622T170000
DTSTAMP:20260422T085622
CREATED:20250611T144300Z
LAST-MODIFIED:20250611T144300Z
UID:3187-1750590000-1750611600@hiroshima-jca.org
SUMMARY:第48回全日本おかあさんコーラス中国支部広島大会～女声合唱の祭典～
DESCRIPTION:
URL:https://hiroshima-jca.org/event/%e7%ac%ac48%e5%9b%9e%e5%85%a8%e6%97%a5%e6%9c%ac%e3%81%8a%e3%81%8b%e3%81%82%e3%81%95%e3%82%93%e3%82%b3%e3%83%bc%e3%83%a9%e3%82%b9%e4%b8%ad%e5%9b%bd%e6%94%af%e9%83%a8%e5%ba%83%e5%b3%b6%e5%a4%a7%e4%bc%9a/
LOCATION:はつかいち文化ホール　ウッドワンさくらぴあ　大ホール\, 下平良一丁目11-1\, 廿日市市\, 広島県\, 738-0023\, 日本
END:VEVENT
BEGIN:VEVENT
DTSTART;TZID=Asia/Tokyo:20250615T140000
DTEND;TZID=Asia/Tokyo:20250615T160000
DTSTAMP:20260422T085622
CREATED:20241211T115610Z
LAST-MODIFIED:20241211T115654Z
UID:2919-1749996000-1750003200@hiroshima-jca.org
SUMMARY:広島オルフェオン第37回定期演奏会
DESCRIPTION:第１ステージ\n男声合唱「月光とピエロ」　清水 脩 作曲\n指揮：森﨑 晧 \n第２ステージ\n崇徳高等学校グリークラブ賛助出演\n指揮：伊藤 晋平　ピアノ：柳田 信策 \n第3ステージ\n男声合唱とピアノのための「Fagments－特攻隊戦死者の手記による－」　信長 貴富 作曲　など\n指揮：伊藤 晋平　ピアノ：森木 和美 \n第4ステージ\n「昭和の懐メロ名曲集」\n指揮：森﨑 晧　ピアノ：森木 和美
URL:https://hiroshima-jca.org/event/%e5%ba%83%e5%b3%b6%e3%82%aa%e3%83%ab%e3%83%95%e3%82%a7%e3%82%aa%e3%83%b3%e7%ac%ac37%e5%9b%9e%e5%ae%9a%e6%9c%9f%e6%bc%94%e5%a5%8f%e4%bc%9a/
LOCATION:広島市安芸区民文化センター ホール\, 安芸区船越南三丁目２番１６号\, 広島市\, 広島県\, 736-8509\, 日本
END:VEVENT
BEGIN:VEVENT
DTSTART;TZID=Asia/Tokyo:20250614T170000
DTEND;TZID=Asia/Tokyo:20250614T190000
DTSTAMP:20260422T085622
CREATED:20250228T155901Z
LAST-MODIFIED:20250228T155957Z
UID:3009-1749920400-1749927600@hiroshima-jca.org
SUMMARY:合唱団ある第38回定期演奏会
DESCRIPTION:指揮：福原泰弘　ピアノ：占部久美子 \nⅠ. 無伴奏混声合唱のために「廃墟から」より 絶え間なく流れていく\n原民喜 詩／信長貴富 曲 \nⅡ. 二重合唱のためのミサ曲より\nFrank Martin 曲 \nⅢ. J-popステージ\nあの空に立つ塔のように\n大泉洋・月光テツヤ 詞／玉置浩二 曲／藤嶋美穂 編曲　他 \nⅣ. 混声合唱とピアノのための 二つの巨いなる情景\n和合亮一 詩／信長貴富 曲
URL:https://hiroshima-jca.org/event/%e5%90%88%e5%94%b1%e5%9b%a3%e3%81%82%e3%82%8b%e7%ac%ac38%e5%9b%9e%e5%ae%9a%e6%9c%9f%e6%bc%94%e5%a5%8f%e4%bc%9a/
LOCATION:広島国際会議場フェニックスホール\, 中区中島町1番5号\, 広島市\, 広島県\, 日本
END:VEVENT
BEGIN:VEVENT
DTSTART;TZID=Asia/Tokyo:20250518T133000
DTEND;TZID=Asia/Tokyo:20250518T133000
DTSTAMP:20260422T085622
CREATED:20250213T143018Z
LAST-MODIFIED:20250213T143045Z
UID:2969-1747575000-1747575000@hiroshima-jca.org
SUMMARY:バラ色のコンサート　～未来への響き～
DESCRIPTION:ステージⅠ：広島ジュニアコーラス\n「うめぼしリモコン」「信じる」他 \nステージⅡ：フェミニンコール広島\n「あいたくて」「こどものころみた空」「きもち」「ぜんぶ」 \nステージⅢ：松岡由希子＆奥田聡子 ソロ＆デユエット \nステージⅣ：広島ジュニアコーラス＆フェミニンコール広島合同演奏 \nクロージング \n指揮：谷千鶴子・寺沢希 \nピアノ：伊藤恵里子・加島裕子・大下さちこ
URL:https://hiroshima-jca.org/event/%e3%83%90%e3%83%a9%e8%89%b2%e3%81%ae%e3%82%b3%e3%83%b3%e3%82%b5%e3%83%bc%e3%83%88%e3%80%80%ef%bd%9e%e6%9c%aa%e6%9d%a5%e3%81%b8%e3%81%ae%e9%9f%bf%e3%81%8d%ef%bd%9e/
LOCATION:マエダハウジング安佐南区民文化センター ホール\, 安佐南区中筋一丁目22番17号\, 広島市\, 広島県\, 731-0122\, 日本
END:VEVENT
BEGIN:VEVENT
DTSTART;TZID=Asia/Tokyo:20250510T140000
DTEND;TZID=Asia/Tokyo:20250510T160000
DTSTAMP:20260422T085622
CREATED:20250225T112421Z
LAST-MODIFIED:20250225T112822Z
UID:2991-1746885600-1746892800@hiroshima-jca.org
SUMMARY:広島ベルカント男声合唱団第15回記念定期演奏会
DESCRIPTION:邦人作品による合唱演奏会 \n賛助出演 \n女声合唱団ザ・スイート・レゾナンス \n指揮 \n内田陽一郎\n山本定男\n仮井晴雄
URL:https://hiroshima-jca.org/event/%e5%ba%83%e5%b3%b6%e3%83%99%e3%83%ab%e3%82%ab%e3%83%b3%e3%83%88%e7%94%b7%e5%a3%b0%e5%90%88%e5%94%b1%e5%9b%a3%e7%ac%ac15%e5%9b%9e%e8%a8%98%e5%bf%b5%e5%ae%9a%e6%9c%9f%e6%bc%94%e5%a5%8f%e4%bc%9a/
LOCATION:広島市東区民文化センター ホール\, 東区東蟹屋町10番31号\, 広島市\, 広島県\, 732-0055\, 日本
END:VEVENT
BEGIN:VEVENT
DTSTART;TZID=Asia/Tokyo:20250510T110000
DTEND;TZID=Asia/Tokyo:20250510T180000
DTSTAMP:20260422T085622
CREATED:20250416T154645Z
LAST-MODIFIED:20250420T153011Z
UID:3087-1746874800-1746900000@hiroshima-jca.org
SUMMARY:春の♪街角コーラスふぇすた2025　～被爆ピアノとともに～
DESCRIPTION:※Bセクション、あと２枠募集中です。先着順ですので、お早めに事務局にご連絡ください。
URL:https://hiroshima-jca.org/event/%e6%98%a5%e3%81%ae%e2%99%aa%e8%a1%97%e8%a7%92%e3%82%b3%e3%83%bc%e3%83%a9%e3%82%b9%e3%81%b5%e3%81%87%e3%81%99%e3%81%9f2025%e3%80%80%ef%bd%9e%e8%a2%ab%e7%88%86%e3%83%94%e3%82%a2%e3%83%8e%e3%81%a8/
LOCATION:広島駅南口地下広場（イベント会場）\, 南区松原町9-1\, 広島市\, 広島県\, 732-0822\, 日本
END:VEVENT
BEGIN:VEVENT
DTSTART;TZID=Asia/Tokyo:20250426T160000
DTEND;TZID=Asia/Tokyo:20250426T173000
DTSTAMP:20260422T085622
CREATED:20250126T143308Z
LAST-MODIFIED:20250126T143308Z
UID:2965-1745683200-1745688600@hiroshima-jca.org
SUMMARY:ヴォーカルアンサンブル凜　7th Concert
DESCRIPTION:・女声合唱とピアノのための「二月から十一月への愛のうた」\n・鳥よ空へ\n他、日本語の合唱曲をメインに全3ステージ構成で開催予定。\n指揮者：福原泰弘、ピアノ：占部久美子。
URL:https://hiroshima-jca.org/event/%e3%83%b4%e3%82%a9%e3%83%bc%e3%82%ab%e3%83%ab%e3%82%a2%e3%83%b3%e3%82%b5%e3%83%b3%e3%83%96%e3%83%ab%e5%87%9c%e3%80%807th-concert/
LOCATION:コジマホールディングス西区民文化センターホール\, 西区横川新町6番1号\, 広島市\, 広島県\, 733-0013\, 日本
END:VEVENT
BEGIN:VEVENT
DTSTART;TZID=Asia/Tokyo:20250330T140000
DTEND;TZID=Asia/Tokyo:20250330T160000
DTSTAMP:20260422T085622
CREATED:20241024T124543Z
LAST-MODIFIED:20241224T110841Z
UID:2898-1743343200-1743350400@hiroshima-jca.org
SUMMARY:広島カントライ第11回定期演奏会（14:00開演に変更）
DESCRIPTION:※開演時間が変更されました。ご注意ください。\n14:00開演（13:30開場）　16:00終演予定 \n\nBrahms / Warum ist das Licht gegeben dem Mühseligen op.74-1\nEdvard Grieg / Fire Salmer op.74 　より\nSteve Dobrogsz / Stabat Mater\n\n他 \n指揮/寺沢　希
URL:https://hiroshima-jca.org/event/%e5%ba%83%e5%b3%b6%e3%82%ab%e3%83%b3%e3%83%88%e3%83%a9%e3%82%a4%e7%ac%ac11%e5%9b%9e%e5%ae%9a%e6%9c%9f%e6%bc%94%e5%a5%8f%e4%bc%9a/
LOCATION:コジマホールディングス西区民文化センターホール\, 西区横川新町6番1号\, 広島市\, 広島県\, 733-0013\, 日本
END:VEVENT
BEGIN:VEVENT
DTSTART;TZID=Asia/Tokyo:20250316T140000
DTEND;TZID=Asia/Tokyo:20250316T160000
DTSTAMP:20260422T085622
CREATED:20241120T161719Z
LAST-MODIFIED:20241120T161719Z
UID:2905-1742133600-1742140800@hiroshima-jca.org
SUMMARY:崇徳中学高等学校グリークラブ第53回定期演奏会
DESCRIPTION:Ⅰ. 女声合唱組曲「今日もひとつ」(OG合同ステージ)\nⅡ. 昭和の懐メロ名曲集(広島オルフェオン賛助ステージ)\nⅢ. 「心に刺さる映画音楽集」(企画ステージ)\nⅣ. 男声合唱組曲「月光とピエロ」(OB合同ステージ)\nⅤ. 「卒業ソング集 ～今、旅立ちの時～」\n指揮／ 伊藤 晋平　森﨑 皓\n学生指揮／ 木村 彩李　藤明 優那\nピアノ／ 柳田 信策　森木 和美
URL:https://hiroshima-jca.org/event/%e5%b4%87%e5%be%b3%e4%b8%ad%e5%ad%a6%e9%ab%98%e7%ad%89%e5%ad%a6%e6%a0%a1%e3%82%b0%e3%83%aa%e3%83%bc%e3%82%af%e3%83%a9%e3%83%96%e7%ac%ac53%e5%9b%9e%e5%ae%9a%e6%9c%9f%e6%bc%94%e5%a5%8f%e4%bc%9a/
LOCATION:コジマホールディングス西区民文化センターホール\, 西区横川新町6番1号\, 広島市\, 広島県\, 733-0013\, 日本
ORGANIZER;CN="%E5%B4%87%E5%BE%B3%E4%B8%AD%E5%AD%A6%E9%AB%98%E7%AD%89%E5%AD%A6%E6%A0%A1%E3%82%B0%E3%83%AA%E3%83%BC%E3%82%AF%E3%83%A9%E3%83%96":MAILTO:ojima.k@sotoku.ed.jp
END:VEVENT
BEGIN:VEVENT
DTSTART;TZID=Asia/Tokyo:20250315T183000
DTEND;TZID=Asia/Tokyo:20250315T201500
DTSTAMP:20260422T085622
CREATED:20241226T162024Z
LAST-MODIFIED:20241226T162024Z
UID:2936-1742063400-1742069700@hiroshima-jca.org
SUMMARY:合唱団ぽっきりコンサート１６
DESCRIPTION:〇　演奏曲目 \n第１ステージ　「Jesu\, meine Freude（イエス、我が喜び）」 \n第２ステージ　無伴奏混声合唱組曲『蝶を夢む』\n（曲：西村朗） \n第３ステージ　混声合唱とピアノのための組曲『タラマイカ偽書残闕』\n（詩：谷川俊太郎　曲：木下牧子） \n〇　指揮　縄裕次郎
URL:https://hiroshima-jca.org/event/%e5%90%88%e5%94%b1%e5%9b%a3%e3%81%bd%e3%81%a3%e3%81%8d%e3%82%8a%e3%82%b3%e3%83%b3%e3%82%b5%e3%83%bc%e3%83%88%ef%bc%91%ef%bc%96/
LOCATION:広島市安芸区民文化センター ホール\, 安芸区船越南三丁目２番１６号\, 広島市\, 広島県\, 736-8509\, 日本
END:VEVENT
BEGIN:VEVENT
DTSTART;TZID=Asia/Tokyo:20250309T140000
DTEND;TZID=Asia/Tokyo:20250309T153000
DTSTAMP:20260422T085622
CREATED:20240815T131843Z
LAST-MODIFIED:20240815T131843Z
UID:2749-1741528800-1741534200@hiroshima-jca.org
SUMMARY:まどか＆カーノ ジョイントコンサート
DESCRIPTION:・指揮者　辻幸秀先生 \n○演奏曲目\n・第1部〈日本のうた〉\n四つのわらべうた・Pulse おてもやん・Silence 子もり歌・Bells 谷茶前・Festival 木曽節\n・第2部〈あかねワールド〉\n花のように雲のように・歌いながら行こう・夜が静かに満ちていく・風の旅\n・第3部〈アラカルト〉\nやさしさに包まれたなら・いのちの歌・きみ歌えよ・春
URL:https://hiroshima-jca.org/event/%e3%81%be%e3%81%a9%e3%81%8b%ef%bc%86%e3%82%ab%e3%83%bc%e3%83%8e-%e3%82%b8%e3%83%a7%e3%82%a4%e3%83%b3%e3%83%88%e3%82%b3%e3%83%b3%e3%82%b5%e3%83%bc%e3%83%88/
LOCATION:しまなみ交流館　テアトロシェルネ\, 東御所町10－1\, 尾道市\, 広島県\, 722-0036\, 日本
END:VEVENT
BEGIN:VEVENT
DTSTART;TZID=Asia/Tokyo:20250302T140000
DTEND;TZID=Asia/Tokyo:20250302T163000
DTSTAMP:20260422T085622
CREATED:20241003T122954Z
LAST-MODIFIED:20241003T122954Z
UID:2831-1740924000-1740933000@hiroshima-jca.org
SUMMARY:合唱団オリオン Spring コンサート
DESCRIPTION:指揮者；折川 宏治\nオーケストラ；オリオン室内管弦楽団\nピアノ；小林 知世\nSop；服部 純菜\nTen；妻刈 一樹\nBass；高村 太都 \nSchubert　messe  G-dur\n三つのマリアの歌\n四つのアイルランド民謡\nふるさとの四季　　　他
URL:https://hiroshima-jca.org/event/%e5%90%88%e5%94%b1%e5%9b%a3%e3%82%aa%e3%83%aa%e3%82%aa%e3%83%b3-spring-%e3%82%b3%e3%83%b3%e3%82%b5%e3%83%bc%e3%83%88/
LOCATION:広島県民文化センター ホール\, 中区大手町1丁目5-3\, 広島市\, 広島県\, 730-0051\, 日本
END:VEVENT
BEGIN:VEVENT
DTSTART;TZID=Asia/Tokyo:20250302T133000
DTEND;TZID=Asia/Tokyo:20250302T153000
DTSTAMP:20260422T085622
CREATED:20240904T114221Z
LAST-MODIFIED:20240904T114221Z
UID:2776-1740922200-1740929400@hiroshima-jca.org
SUMMARY:混声合唱ヴァイオレット記念演奏会
DESCRIPTION:地域の方々に合唱の楽しさ、歌うことの喜びを感じて頂ける事を願って、日頃の練習成果の集大成として合唱を披露する\n構成は３部構成とし、所要時間約２時間とする \n（指揮者　楠見　ひとみ）
URL:https://hiroshima-jca.org/event/%e6%b7%b7%e5%a3%b0%e5%90%88%e5%94%b1%e3%83%b4%e3%82%a1%e3%82%a4%e3%82%aa%e3%83%ac%e3%83%83%e3%83%88%e8%a8%98%e5%bf%b5%e6%bc%94%e5%a5%8f%e4%bc%9a/
LOCATION:呉市生涯学習センター 音楽ホール\, 中央6丁目2番9号\, 呉市\, 広島県\, 737-8501\, 日本
ORGANIZER;CN="%E6%B7%B7%E5%A3%B0%E5%90%88%E5%94%B1%E3%83%B4%E3%82%A1%E3%82%A4%E3%82%AA%E3%83%AC%E3%83%83%E3%83%88":MAILTO:slim_keep_papa@jupiter.ocn.ne.jp
END:VEVENT
BEGIN:VEVENT
DTSTART;TZID=Asia/Tokyo:20250224T140000
DTEND;TZID=Asia/Tokyo:20250224T160000
DTSTAMP:20260422T085622
CREATED:20241204T123038Z
LAST-MODIFIED:20241204T123038Z
UID:2916-1740405600-1740412800@hiroshima-jca.org
SUMMARY:レガーロ東京 ＆ Men's Vocal Ensemble“寺漢” ジョイントコンサート
DESCRIPTION:レガーロ東京（pf：阿部　芙由花）\n土田豊貴/無伴奏女声合唱のための「さくら」\n丸尾喜久子/無伴奏女声合唱のための「はつしぐれ」　　他 \nMen’s Vocal Ensemble“寺漢” （pf：山下　雅靖）\n信長貴富/男声合唱とピアノのための「くちびるに歌を」より　他 \nレガーロ東京　＆　Men’s Vocal Ensemble“寺漢”（sax：閑地　寿）\nＢ.Ａ.Ｄrage/Ｂruremarsj fra Sørfold\nTine Bec/Three composition based on Gregorian chant 他 \n指揮　　古橋　富士雄　/　寺沢　希
URL:https://hiroshima-jca.org/event/%e3%83%ac%e3%82%ac%e3%83%bc%e3%83%ad%e6%9d%b1%e4%ba%ac-%ef%bc%86-mens-vocal-ensemble%e5%af%ba%e6%bc%a2-%e3%82%b8%e3%83%a7%e3%82%a4%e3%83%b3%e3%83%88%e3%82%b3%e3%83%b3%e3%82%b5/
LOCATION:広島市安芸区民文化センター ホール\, 安芸区船越南三丁目２番１６号\, 広島市\, 広島県\, 736-8509\, 日本
END:VEVENT
BEGIN:VEVENT
DTSTART;TZID=Asia/Tokyo:20250223T170000
DTEND;TZID=Asia/Tokyo:20250223T190000
DTSTAMP:20260422T085622
CREATED:20240927T114732Z
LAST-MODIFIED:20240927T114732Z
UID:2823-1740330000-1740337200@hiroshima-jca.org
SUMMARY:合唱団たまのわ×Ensemble Festum　ジョイントコンサート「たまフェス」
DESCRIPTION:広島・福岡の若い同声合唱団が、互いの交流・また両県の合唱界を盛り上げるため、ジョイントを行う。 \n指揮：奥村勇貴(たまのわ)、石丸拓実・大石竜太郎・中川太智(Festum) \nFestum指揮者の中川が、過去に広島で 酢だこ の主宰を務めていたほか、Festumの団員のうち数名が、 酢だこ でのコンクール・演奏会オンステ経験があった。その縁があって、予てから広島の合唱団とジョイントを模索しており、中川と交流のある団体として たまのわ との演奏会を行うこととなった。
URL:https://hiroshima-jca.org/event/%e5%90%88%e5%94%b1%e5%9b%a3%e3%81%9f%e3%81%be%e3%81%ae%e3%82%8fxensemble-festum%e3%80%80%e3%82%b8%e3%83%a7%e3%82%a4%e3%83%b3%e3%83%88%e3%82%b3%e3%83%b3%e3%82%b5%e3%83%bc%e3%83%88%e3%80%8c/
LOCATION:福岡市立中央市民センター\, 中央区赤坂２丁目５番８号\, 福岡市\, 福岡県\, 810-0042\, 日本
ORGANIZER;CN="%E5%90%88%E5%94%B1%E5%9B%A3%E3%81%9F%E3%81%BE%E3%81%AE%E3%82%8F":MAILTO:itissnowy.smile@outlook.jp
END:VEVENT
BEGIN:VEVENT
DTSTART;TZID=Asia/Tokyo:20250223T140000
DTEND;TZID=Asia/Tokyo:20250223T160000
DTSTAMP:20260422T085622
CREATED:20241021T040414Z
LAST-MODIFIED:20241021T040414Z
UID:2894-1740319200-1740326400@hiroshima-jca.org
SUMMARY:コール・ロマンツェ第38回演奏会
DESCRIPTION:混声合唱曲集　木に寄せる５つの歌　三宅悠太  作曲 \n・スキスキ大好き ロマンツェ愛唱歌\nサリマライズ、虹と雪のバラード、サウンド・オブ・ミュージック　ほか \n指揮 　松尾嘉珠子\nピアノ　米原ゆかり \n賛助出演\n広島大学グリークラブOB合唱団コール・スローンチェ\n指揮　岸本圭介
URL:https://hiroshima-jca.org/event/%e3%82%b3%e3%83%bc%e3%83%ab%e3%83%bb%e3%83%ad%e3%83%9e%e3%83%b3%e3%83%84%e3%82%a7%e7%ac%ac38%e5%9b%9e%e6%bc%94%e5%a5%8f%e4%bc%9a/
LOCATION:広島市南区民文化センター ホール\, 南区比治山本町１６番２７号\, 広島市\, 広島県\, 73208216
END:VEVENT
BEGIN:VEVENT
DTSTART;TZID=Asia/Tokyo:20250223T140000
DTEND;TZID=Asia/Tokyo:20250223T160000
DTSTAMP:20260422T085622
CREATED:20240910T141755Z
LAST-MODIFIED:20240910T151225Z
UID:2786-1740319200-1740326400@hiroshima-jca.org
SUMMARY:合唱団 ある×ひぐらし ジョイントコンサート－祈りはむすばれる－
DESCRIPTION:
URL:https://hiroshima-jca.org/event/%e5%90%88%e5%94%b1%e5%9b%a3-%e3%81%82%e3%82%8bx%e3%81%b2%e3%81%90%e3%82%89%e3%81%97-%e3%82%b8%e3%83%a7%e3%82%a4%e3%83%b3%e3%83%88%e3%82%b3%e3%83%b3%e3%82%b5%e3%83%bc%e3%83%88%ef%bc%8d%e7%a5%88/
LOCATION:コジマホールディングス西区民文化センターホール\, 西区横川新町6番1号\, 広島市\, 広島県\, 733-0013\, 日本
END:VEVENT
BEGIN:VEVENT
DTSTART;TZID=Asia/Tokyo:20250222T140000
DTEND;TZID=Asia/Tokyo:20250222T160000
DTSTAMP:20260422T085622
CREATED:20241125T040900Z
LAST-MODIFIED:20241125T040900Z
UID:2912-1740232800-1740240000@hiroshima-jca.org
SUMMARY:第21回安田女子中学校合唱部定期演奏会
DESCRIPTION:■中学校合唱部による合唱演奏会\n・女声合唱とピアノのためのこの世の中にある　より\n1.あれを解きに　　2.私は生まれてきました\n・僕らはいきものだから（ＮＨＫ全国学校音楽コンクール課題曲）\n・学年ごとのステージ \n■安田女子高等学校音楽部の賛助出演 \n■エリザベト音楽大学非常勤講師の恩田絵美先生によるピアノ演奏 \nなど
URL:https://hiroshima-jca.org/event/%e7%ac%ac21%e5%9b%9e%e5%ae%89%e7%94%b0%e5%a5%b3%e5%ad%90%e4%b8%ad%e5%ad%a6%e6%a0%a1%e5%90%88%e5%94%b1%e9%83%a8%e5%ae%9a%e6%9c%9f%e6%bc%94%e5%a5%8f%e4%bc%9a/
LOCATION:マエダハウジング安佐南区民文化センター ホール\, 安佐南区中筋一丁目22番17号\, 広島市\, 広島県\, 731-0122\, 日本
END:VEVENT
END:VCALENDAR